Workbook

Sheet Príjmy
A1: PROGRAMOVÝ ROZPOČET OBCE RABČICE NA ROK 2023
A2: S VÝHĽADOM NA ROKY 2024 - 2025
A6: Bežné príjmy | C6: KÓD | D6: Skut.plnenie r. 2020 | E6: Skut.plnenie r. 2021 | F6: Rozpočet rok 2022 | G6: Očakávaná skutočnosť rok 2022 | H6: Rozpočet rok 2023 | I6: Rozpočet rok 2024 | J6: Rozpočet rok 2025
C7: ZDROJA | D7: v EUR | F7: v EUR | G7: v EUR | H7: v EUR | I7: v EUR | J7: v EUR
A8: 100 | B8: Daňové príjmy | D8: =D9+D10+D11 -> 834697 | E8: =E9+E10+E11 -> 889829 | F8: =F9+F10+F11 -> 919024 | G8: =G9+G10+G11 -> 951065 | H8: =H9+H10+H11 -> 1005613 | I8: =I9+I10+I11 -> 1045970 | J8: =J9+J10+J11 -> 1156417
A9: 110 | B9: Daň z príjmov FO | D9: =[1]príjmy!D10 -> 753980 | E9: =[1]príjmy!E10 -> 803579 | F9: =[1]príjmy!F10 -> 832353 | G9: 866551 | H9: 910062 | I9: 950419 | J9: 1060866
A10: 120 | B10: Dane z majetku | D10: =[1]príjmy!D13 -> 33411 | E10: =[1]príjmy!E13 -> 34448 | F10: =[1]príjmy!F13 -> 34376 | G10: =[1]príjmy!G13 -> 33414 | H10: =[1]príjmy!H13 -> 34376 | I10: =[1]príjmy!I13 -> 34376 | J10: =[1]príjmy!J13 -> 34376
A11: 130 | B11: Dane za špecifické služby | D11: =[1]príjmy!D17 -> 47306 | E11: =[1]príjmy!E17 -> 51802 | F11: =[1]príjmy!F17 -> 52295 | G11: =[1]príjmy!G17 -> 51100 | H11: =[1]príjmy!H17 -> 61175 | I11: =[1]príjmy!I17 -> 61175 | J11: =[1]príjmy!J17 -> 61175
A12: 200 | B12: Nedaňové príjmy-príjmy z podnikania a z vlastn.maj. | D12: =D13+D14+D15+D16 -> 88749 | E12: =E13+E14+E15+E16 -> 65648 | F12: =F13+F14+F15+F16 -> 69420 | G12: =G13+G14+G15+G16 -> 95365 | H12: =H13+H14+H15+H16 -> 104410 | I12: =I13+I14+I15+I16 -> 104186 | J12: =J13+J14+J15+J16 -> 103739
A13: 210 | B13: Nedaňové príjmy - príjmy z podnikania a z vlastníctva majetku | D13: =[1]príjmy!D21 -> 35606 | E13: =[1]príjmy!E21 -> 34108 | F13: =[1]príjmy!F21 -> 37834 | G13: =[1]príjmy!G21 -> 34680 | H13: =[1]príjmy!H21 -> 38253 | I13: =[1]príjmy!I21 -> 37999 | J13: =[1]príjmy!J21 -> 37999
A14: 220 | B14: Administratívne a iné poplatky a platby | D14: =[1]príjmy!D26 -> 34046 | E14: =[1]príjmy!E26 -> 27541 | F14: =[1]príjmy!F26 -> 31536 | G14: =[1]príjmy!G26 -> 43420 | H14: =[1]príjmy!H26 -> 66147 | I14: =[1]príjmy!I26 -> 66177 | J14: =[1]príjmy!J26 -> 65730
A15: 240 | B15: Úroky z účtov finančného hospodárenia | D15: =[1]príjmy!D37 -> 95 | E15: =[1]príjmy!E37 -> 3 | F15: =[1]príjmy!F37 -> 50 | G15: =[1]príjmy!G37 -> 5 | H15: =[1]príjmy!H37 -> 10 | I15: =[1]príjmy!I37 -> 10 | J15: =[1]príjmy!J37 -> 10
A16: 290 | B16: Iné nedaňové príjmy | D16: =[1]príjmy!D40 -> 19002 | E16: =[1]príjmy!E40 -> 3996 | F16: =[1]príjmy!F40 -> 0 | G16: =[1]príjmy!G40 -> 17260 | H16: =[1]príjmy!H40 -> 0 | I16: =[1]príjmy!I40 -> 0 | J16: =[1]príjmy!J40 -> 0
A17: 300 | B17: Granty a transfery | D17: =D18+D21 -> 755397 | E17: =E18+E21 -> 892833 | F17: =F18+F21 -> 693356 | G17: =G18+G21 -> 770107 | H17: =H18+H21 -> 758707 | I17: =I18+I21 -> 710774 | J17: =J18+J21 -> 710774
A18: 310 | B18: Tuzemské bežné granty a transfery | D18: =D19+D20 -> 747163 | E18: =E19+E20 -> 891864 | F18: =F19+F20 -> 693356 | G18: =G19+G20+G21 -> 770107 | H18: =H19+H20 -> 758707 | I18: =I19+I20 -> 710774 | J18: =J19+J20 -> 710774
A19: 311 | B19: Sponzorské príspevky | D19: =[1]príjmy!D48 -> 120 | E19: =[1]príjmy!E48 -> 0 | F19: =[1]príjmy!F48 -> 0 | G19: =[1]príjmy!G48 -> 0 | H19: =[1]príjmy!H48 -> 0 | I19: =[1]príjmy!I48 -> 0 | J19: =[1]príjmy!J48 -> 0
A20: 312 | B20: Tuzemské dotácie a transfery | D20: =[1]príjmy!D50 -> 747043 | E20: =[1]príjmy!E50 -> 891864 | F20: =[1]príjmy!F50 -> 693356 | G20: =[1]príjmy!G50 -> 770107 | H20: =[1]príjmy!H50 -> 758707 | I20: =[1]príjmy!I50 -> 710774 | J20: =[1]príjmy!J50 -> 710774
A21: 330 | B21: Zahraničné granty | D21: =[1]príjmy!D99 -> 8234 | E21: =[1]príjmy!E99 -> 969 | F21: =[1]príjmy!F99 -> 0 | G21: =[1]príjmy!G99 -> 0 | H21: =[1]príjmy!H99 -> 0 | I21: =[1]príjmy!I99 -> 0 | J21: =[1]príjmy!J99 -> 0
A22: Bežné príjmy spolu: | D22: =D17+D12+D8 -> 1678843 | E22: =E17+E12+E8 -> 1848310 | F22: =F17+F12+F8 -> 1681800 | G22: =G17+G12+G8 -> 1816537 | H22: =H17+H12+H8 -> 1868730 | I22: =I17+I12+I8 -> 1860930 | J22: =J17+J12+J8 -> 1970930
A24: Školstvo/RO s právnou subjektivitou - ZŠ s MŠ Rabčice | D24: =[1]príjmy!D105 -> 75549 | E24: =[1]príjmy!E105 -> 68458 | F24: =[1]príjmy!F105 -> 86387 | G24: =[1]príjmy!G105 -> 70790 | H24: =[1]príjmy!H105 -> 53070 | I24: =[1]príjmy!I105 -> 53070 | J24: =[1]príjmy!J105 -> 53070
A25: Bežné príjmy spolu: | D25: =D22+D24 -> 1754392 | E25: =E22+E24 -> 1916768 | F25: =F22+F24 -> 1768187 | G25: =G22+G24 -> 1887327 | H25: =H22+H24 -> 1921800 | I25: =I22+I24 -> 1914000 | J25: =J22+J24 -> 2024000
A27: Kapitálové príjmy | C27: KÓD | D27: Skut.plnenie r. 2020 | E27: Skut.plnenie r. 2021 | F27: Rozpočet rok 2022 | G27: Očakávaná skutočnosť rok 2022 | H27: Rozpočet rok 2023 | I27: Rozpočet rok 2024 | J27: Rozpočet rok 2025
C28: ZDROJA | D28: v EUR | F28: v EUR | G28: v EUR | H28: v EUR | I28: v EUR | J28: v EUR
A29: 200 | B29: Nedaňové príjmy-príjmy z podnikania a z vlastn.maj. | D29: =[1]príjmy!D126 -> 6160 | E29: =[1]príjmy!E126 -> 0 | F29: =[1]príjmy!F126 -> 34 | G29: =[1]príjmy!G126 -> 440 | H29: =[1]príjmy!H126 -> 0 | I29: =[1]príjmy!I126 -> 0 | J29: =[1]príjmy!J126 -> 0
A30: 230 | B30: Kapitálové príjmy | D30: =[1]príjmy!D127 -> 6160 | E30: =[1]príjmy!E127 -> 0 | F30: =[1]príjmy!F127 -> 34 | G30: =[1]príjmy!G127 -> 440 | H30: =[1]príjmy!H127 -> 0 | I30: =[1]príjmy!I127 -> 0 | J30: =[1]príjmy!J127 -> 0
A31: 300 | B31: Granty a transfery | D31: =[1]príjmy!D130 -> 0 | E31: =[1]príjmy!E130 -> 0 | F31: =[1]príjmy!F130 -> 0 | G31: =[1]príjmy!G130 -> 194170 | H31: =[1]príjmy!H130 -> 46740 | I31: =[1]príjmy!I130 -> 0 | J31: =[1]príjmy!J130 -> 0
A32: 320 | B32: Tuzemské kapitálové granty a transfery | D32: =[1]príjmy!D131 -> 0 | E32: =[1]príjmy!E131 -> 0 | F32: =[1]príjmy!F131 -> 0 | G32: =[1]príjmy!G131 -> 194170 | H32: =[1]príjmy!H131 -> 46740 | I32: =[1]príjmy!I131 -> 0 | J32: =[1]príjmy!J131 -> 0
A33: 330 | B33: Zahraničné granty | D33: 0 | E33: 0 | F33: 0 | G33: 0 | H33: 0 | I33: 0 | J33: 0
A34: Kapitálové príjmy spolu: | D34: =D29+D31 -> 6160 | E34: =E29+E31 -> 0 | F34: =F29+F31 -> 34 | G34: =G29+G31 -> 194610 | H34: =H29+H31 -> 46740 | I34: =I29+I31 -> 0 | J34: =J29+J31 -> 0
A36: Finančné operácie - príjmy | C36: KÓD | D36: Skut.plnenie r. 2020 | E36: Skut.plnenie r. 2021 | F36: Rozpočet rok 2022 | G36: Očakávaná skutočnosť rok 2022 | H36: Rozpočet rok 2023 | I36: Rozpočet rok 2024 | J36: Rozpočet rok 2025
C37: ZDROJA | D37: v EUR | F37: v EUR | H37: v EUR | I37: v EUR | J37: v EUR
A38: 400 | B38: Príjmy zo sprlác.úver.a pôžičiekk a z pred.maj.úč. | D38: =D39 -> 50255 | E38: =E39 -> 114566 | F38: =F39 -> 143713 | G38: =G39 -> 298971 | H38: =H39 -> 182460 | I38: =I39 -> 0 | J38: =J39 -> 0
A39: 450 | B39: Tuzemské kapitálové granty a transfery | D39: =[1]príjmy!D143 -> 50255 | E39: =[1]príjmy!E143 -> 114566 | F39: =[1]príjmy!F143 -> 143713 | G39: =[1]príjmy!G143 -> 298971 | H39: =[1]príjmy!H143 -> 182460 | I39: =[1]príjmy!I143 -> 0 | J39: =[1]príjmy!J143 -> 0
A40: 500 | B40: Prijaté úvery a výpojoci | D40: =[1]príjmy!D170 -> 41601 | E40: =[1]príjmy!E170 -> 0 | F40: =[1]príjmy!F170 -> 0 | G40: =[1]príjmy!G170 -> 0 | H40: =[1]príjmy!H170 -> 0 | I40: =[1]príjmy!I170 -> 0 | J40: =[1]príjmy!J170 -> 0
A41: 510 | B41: Tuzemské úvery | C41: 52 | D41: =[1]príjmy!D172 -> 0 | E41: =[1]príjmy!E172 -> 0 | F41: =[1]príjmy!F172 -> 0 | G41: =[1]príjmy!G172 -> 0 | H41: =[1]príjmy!H172 -> 0 | I41: =[1]príjmy!I172 -> 0 | J41: =[1]príjmy!J172 -> 0
A42: 514 | B42: Návratné finančné výpomoci | C42: 45 | D42: =[1]príjmy!D174 -> 41601 | E42: =[1]príjmy!E174 -> 0 | F42: =[1]príjmy!F174 -> 0 | G42: =[1]príjmy!G174 -> 0 | H42: =[1]príjmy!H174 -> 0 | I42: =[1]príjmy!I174 -> 0 | J42: =[1]príjmy!J174 -> 0
A43: Finančné operácie - príjmové spolu: | D43: =D38+D40 -> 91856 | E43: =E38+E40 -> 114566 | F43: =F38+F40 -> 143713 | G43: =G38+G40 -> 298971 | H43: =H38+H40 -> 182460 | I43: =I38+I40 -> 0 | J43: =J38+J40 -> 0
A46: Bežné príjmy | D46: =D25 -> 1754392 | E46: =E25 -> 1916768 | F46: =F25 -> 1768187 | G46: =G25 -> 1887327 | H46: =H25 -> 1921800 | I46: =I25 -> 1914000 | J46: =J25 -> 2024000
A47: Kapitálové príjmy | D47: =D34 -> 6160 | E47: =E34 -> 0 | F47: =F34 -> 34 | G47: =G34 -> 194610 | H47: =H34 -> 46740 | I47: =I34 -> 0 | J47: =J34 -> 0
A48: Príjmové finančné operácie | D48: =D38 -> 50255 | E48: =E38 -> 114566 | F48: =F38 -> 143713 | G48: =G38 -> 298971 | H48: =H38 -> 182460 | I48: =I38 -> 0 | J48: =J38 -> 0
...

Sheet Program 1
B2: PROGRAM 1: PLÁNOVANIE, MANAŽMENT A KONTROLA
G4: Skutočné plnenie r.2020 | I4: Skutočné plnenie r.2021 | K4: Rozpočet 2022 | M4: Očakáv.skutočn. 2022 | O4: Rozpočet 2023 | Q4: Rozpočet 2024 | S4: Rozpočet 2025
G5: Bežné výdavky | H5: Kapitálové výdavky | I5: Bežné výdavky | J5: Kapitálové výdavky | K5: Bežné výdavky | L5: Kapitálové výdavky | M5: Bežné výdavky | N5: Kapitálové výdavky | O5: Bežné výdavky | P5: Kapitál. výdavky | Q5: Bežné výdavky | R5: Kapitálové výdavky | S5: Bežné výdavky | T5: Kapitálové výdavky
B6: Akti- | C6: funkčná
B7: vita | C7: klasifik. | E7: ukazovateľ
F8: KÓD ZDROJA
B9: PROGRAM 1: Plánovanie, manažment a kontrola | G9: =G10+G21+G29+G32+G35+G24+G42 -> 278727 | H9: =H10+H21+H29+H32+H35+H24+H42 -> 3 | I9: =I10+I21+I29+I32+I35+I24+I42 -> 297952 | J9: =J10+J21+J29+J32+J35+J24+J42 -> 0 | K9: =K10+K21+K29+K32+K35+K24+K42 -> 397911 | L9: =L10+L21+L29+L32+L35+L24+L42 -> 0 | M9: =M10+M21+M29+M32+M35+M24+M42 -> 398733 | N9: =N10+N21+N29+N32+N35+N24+N42 -> 0 | O9: =O10+O21+O29+O32+O35+O24+O42 -> 465373 | P9: =P10+P21+P29+P32+P35+P24+P42+P38 -> 100000 | Q9: =Q10+Q21+Q29+Q32+Q35+Q24+Q42+Q38 -> 450773 | R9: =R10+R21+R29+R32+R35+R24+R42+R38 -> 0 | S9: =S10+S21+S29+S32+S35+S24+S42+S38 -> 450173 | T9: =T10+T21+T29+T32+T35+T24+T42+T38 -> 0
B10: 1 | C10: Činnosť obecného úradu | G10: =G11 -> 270884 | H10: =H11 -> 3 | I10: =I11 -> 285908 | J10: =J11 -> 0 | K10: =K11 -> 385811 | L10: =L11 -> 0 | M10: =M11 -> 388706 | N10: =N11 -> 0 | ... T10: =T11 -> 0
C11: 01.1.1 | D11: Obce | G11: =G12+G14+G16+G15+G13+G18+G19 -> 270884 | H11: =H12+H14+H16+H15+H13+H18+H19 -> 3 | I11: =I12+I14+I16+I15+I13+I18+I19 -> 285908 | J11: =J12+J14+J16+J15+J13+J18+J19 -> 0 | K11: =K12+K14+K16+K15+K13+K18+K19 -> 385811 | L11: =L12+L14+L16+L15+L13+L18+L19 -> 0 | M11: =M12+M14+M16+M15+M13+M18+M19 -> 388706 | N11: =N12+N14+N16+N15+N13+N18+N19 -> 0 | O11: 453573 | P11: =P12+P14+P16+P15+P13+P18+P19 -> 100000 | Q11: =Q12+Q14+Q16+Q15+Q13+Q18+Q19 -> 428573 | R11: =R12+R14+R16+R15+R13+R18+R19 -> 0 | S11: =S12+S14+S16+S15+S13+S18+S19 -> 428573
D12: 610 | E12: Mzdy, platy a ostatné osobné vyrovnania | F12: 41 | G12: 142656 | H12: 0 | I12: 152610 | J12: 0 | K12: 218800 | L12: 0 | M12: 210000 | N12: 0 | O12: 220000 | P12: 0 | Q12: 215000 | R12: 0 | S12: 215000
D13: 610 | E13: Mzdy, platy a ost.os. Vyr/Dorovnanie kódov | F13: 1AC | G13: 2323 | H13: 0 | I13: 0 | J13: 0 | K13: 0 | L13: 0 | M13: 2691 | N13: 0 | O13: 0 | P13: 0 | Q13: 0 | R13: 0 | S13: 0 | T13: 0
D14: 620 | E14: Poistné a príspevok do poisťovní | F14: 41 | G14: 56335 | H14: 0 | I14: 58311 | J14: 0 | K14: 78950 | L14: 0 | M14: 70000 | N14: 0 | O14: 82000 | P14: 0 | Q14: 82000 | R14: 0 | S14: 82000 | T14: 0
D15: 620 | E15: Poistné a príspevok do poisťovní/Dor.kódov | F15: 1AC | G15: 0 | H15: 0 | I15: 0 | J15: 0 | K15: 0 | L15: 0 | M15: 0 | N15: 0 | O15: 0 | P15: 0 | Q15: 0 | R15: 0 | S15: 0 | T15: 0
D16: 630 | E16: Tovary a služby | F16: 41 | G16: 69438 | H16: 0 | I16: 74069 | J16: 0 | K16: 69961 | L16: 0 | M16: 84000 | N16: 0 | O16: 100573 | P16: 0 | Q16: 130573 | R16: 0 | S16: 130573 | T16: 0
D17: 630 | E17: Tovary a služby/Rez.fond | F17: 46 | G17: 0 | H17: 0 | I17: 0 | J17: 0 | K17: 0 | L17: 0 | M17: 0 | N17: 0 | O17: 50000 | P17: 0 | Q17: 0
D18: 640 | E18: Príspevky/Náhrada PN+odch,odstupné | F18: 41 | G18: 132 | H18: 0 | I18: 918 | J18: 0 | K18: 18100 | L18: 0 | M18: 22000 | N18: 0 | O18: 1000 | P18: 0 | Q18: 1000 | R18: 0 | S18: 1000 | T18: 0
D19: 710 | E19: Kapitálové aktíva-investície | F19: 43.46 | G19: 0 | H19: 3 | I19: 0 | J19: 0 | K19: 0 | L19: 0 | M19: 15 | N19: 0 | O19: 0 | P19: 100000 | Q19: 0 | R19: 0 | S19: 0 | T19: 0
D20: 819 | E20: Poplatok IOM | F20: 71 | G20: 0 | H20: 0 | I20: 6 | J20: 0 | K20: 0 | L20: 0 | M20: 2 | N20: 0 | O20: 0 | P20: 0 | Q20: 0 | R20: 0 | S20: 0 | T20: 0
B21: 2 | C21: Členstvo v organizáciach a združeniach | G21: =G22 -> 4987 | H21: =H22 -> 0 | I21: =I22 -> 8511 | J21: =J22 -> 0 | K21: =K22 -> 8000 | L21: =L22 -> 0 | M21: =M22 -> 7000 | N21: =N22 -> 0 | ... T21: =T22 -> 0
C22: 08.4.0. | D22: Náboženské a iné spoločenské služby | G22: =G23 -> 4987 | H22: =H23 -> 0 | I22: =I23 -> 8511 | J22: =J23 -> 0 | K22: =K23 -> 8000 | L22: =L23 -> 0 | M22: =M23 -> 7000 | N22: =N23 -> 0 | ... T22: =T23 -> 0
D23: 640 | E23: Bežné transfery/Členské ZMOS, ZMOBO,... | F23: 41 | G23: 4987 | H23: 0 | I23: 8511 | J23: 0 | K23: 8000 | L23: 0 | M23: 7000 | N23: 0 | O23: 8000 | P23: 0 | Q23: 8000 | R23: 0 | S23: 8000 | T23: 0
B24: 3 | C24: Vnútorná kontrola | G24: =G25 -> 815 | H24: =H25 -> 0 | I24: =I25 -> 731 | J24: =J25 -> 0 | K24: =K25 -> 1300 | L24: =L25 -> 0 | M24: =M25 -> 787 | N24: =N25 -> 0 | ... T24: =T25 -> 0
C25: 01.1.2. | D25: Obce | G25: =G26+G27+G28 -> 815 | H25: =H26+H27+H28 -> 0 | I25: =I26+I27+I28 -> 731 | J25: =J26+J27+J28 -> 0 | K25: =K26+K27+K28 -> 1300 | L25: =L26+L27+L28 -> 0 | M25: =M26+M27+M28 -> 787 | N25: =N26+N27+N28 -> 0 | ... T25: =T26+T27+T28 -> 0
D26: 610 | E26: Mzdy, platy a ostatné osobné vyrovnania | F26: 41 | G26: 620 | H26: 0 | I26: 565 | J26: 0 | K26: 960 | L26: 0 | M26: 575 | N26: 0 | O26: 960 | P26: 0 | Q26: 960 | R26: 0 | S26: 960 | T26: 0
D27: 620 | E27: Poistné a príspevok do poisťovní | F27: 41 | G27: 195 | H27: 0 | I27: 166 | J27: 0 | K27: 340 | L27: 0 | M27: 202 | N27: 0 | O27: 340 | P27: 0 | Q27: 340 | R27: 0 | S27: 340 | T27: 0
D28: 640 | E28: Príspevky/Náhrada PN | F28: 41 | G28: 0 | H28: 0 | I28: 0 | J28: 0 | K28: 0 | L28: 0 | M28: 10 | N28: 0 | O28: 0 | P28: 0 | Q28: 0 | R28: 0 | S28: 0 | T28: 0
B29: 4 | C29: Audit | G29: =G30 -> 0 | H29: =H30 -> 0 | I29: =I30 -> 1140 | J29: =J30 -> 0 | K29: =K30 -> 1200 | L29: =L30 -> 0 | M29: =M30 -> 1140 | N29: =N30 -> 0 | ... T29: =T30 -> 0
C30: 01.1.2. | D30: Finančná a rozpočtová oblasť - audit | G30: =G31 -> 0 | H30: =H31 -> 0 | I30: =I31 -> 1140 | J30: =J31 -> 0 | K30: =K31 -> 1200 | L30: =L31 -> 0 | M30: =M31 -> 1140 | N30: =N31 -> 0 | ... T30: =T31 -> 0
D31: 630 | E31: Tovary a služby | F31: 41 | G31: 0 | H31: 0 | I31: 1140 | J31: 0 | K31: 1200 | L31: 0 | M31: 1140 | N31: 0 | O31: 1200 | P31: 0 | Q31: 1200 | R31: 0 | S31: 1200 | T31: 0
B32: 5 | C32: Bankové poplatky | G32: =G33 -> 781 | H32: =H33 -> 0 | I32: =I33 -> 761 | J32: =J33 -> 0 | K32: =K33 -> 700 | L32: =L33 -> 0 | M32: =M33 -> 500 | N32: =N33 -> 0 | ... T32: =T33 -> 0
C33: 01.1.2. | D33: Poplatky banke | G33: =G34 -> 781 | H33: =H34 -> 0 | I33: =I34 -> 761 | J33: =J34 -> 0 | K33: =K34 -> 700 | L33: =L34 -> 0 | M33: =M34 -> 500 | N33: =N34 -> 0 | ... T33: =T34 -> 0
D34: 630 | E34: Tovary a služby | F34: 41 | G34: 781 | H34: 0 | I34: 761 | J34: 0 | K34: 700 | L34: 0 | M34: 500 | N34: 0 | O34: 700 | P34: 0 | Q34: 700 | R34: 0 | S34: 700 | T34: 0
B35: 6 | C35: Splátka úrokov z úveru | G35: =G36 -> 1260 | H35: =H36 -> 0 | I35: =I36 -> 901 | J35: =J36 -> 0 | K35: =K36 -> 900 | L35: =L36 -> 0 | M35: =M36 -> 600 | N35: =N36 -> 0 | ... T35: =T36 -> 0
C36: 01.7.0 | D36: Splátka úrokov | G36: =G37 -> 1260 | H36: =H37 -> 0 | I36: =I37 -> 901 | J36: =J37 -> 0 | K36: =K37 -> 900 | L36: =L37 -> 0 | M36: =M37 -> 600 | N36: =N37 -> 0 | ... T36: =T37 -> 0
D37: 650 | E37: Služby/Splátka úrokov | F37: 41 | G37: 1260 | H37: 0 | I37: 901 | J37: 0 | K37: 900 | L37: 0 | M37: 600 | N37: 0 | O37: 600 | P37: 0 | Q37: 600 | R37: 0 | S37: 0 | T37: 0
B38: 7 | C38: Splátka návratnej finančnej pomoci | G38: =G39 -> 0 | H38: =H39 -> 0 | I38: =I39 -> 0 | J38: =J39 -> 0 | K38: =K39 -> 0 | L38: =L39 -> 0 | M38: =M39 -> 0 | N38: =N39 -> 0 | ... T38: =T39 -> 0
C39: 01.7.0 | D39: Splátka návratnej finančnej pomoci | G39: =G40 -> 0 | H39: =H40 -> 0 | I39: =I40 -> 0 | J39: =J40 -> 0 | K39: =K40 -> 0 | L39: =L40 -> 0 | M39: =M40 -> 0 | N39: =N40 -> 0 | ... T39: =T40 -> 0
D40: 820 | E40: Splátka návratnej finančnej pomoci | F40: 41 | G40: 0 | H40: 0 | I40: 0 | J40: 0 | K40: 0 | L40: 0 | M40: 0 | N40: 0 | O40: 0 | P40: 0 | Q40: 10400 | R40: 0 | S40: 10400 | T40: 0

Sheet Program 2
B1: PROGRAM 2: PROPAGÁCIA A PREZENTÁCIA OBCE
G3: Skutočné plnenie r.2020 | I3: Skutočné plnenie r.2021 | K3: Rozpočet 2022 | M3: Očakáv.skutočn. 2022 | O3: Rozpočet 2023 | Q3: Rozpočet 2024 | S3: Rozpočet 2025
G4: Bežné výdavky | H4: Kapitálové výdavky | I4: Bežné výdavky | J4: Kapitálové výdavky | K4: Bežné výdavky | L4: Kapitálové výdavky | M4: Bežné výdavky | N4: Kapitálové výdavky | O4: Bežné výdavky | P4: Kapitál. výdavky | Q4: Bežné výdavky | R4: Kapitálové výdavky | S4: Bežné výdavky | T4: Kapitálové výdavky
B5: Akti- | C5: funkčná
B6: vita | C6: klasifik. | E6: ukazovateľ
F7: KÓD ZDROJA
B8: PROGRAM 2: Propagácia a prezentácia obce | G8: =G9 -> 3754 | H8: =H9 -> 0 | I8: =I9 -> 4669 | J8: =J9 -> 0 | K8: =K9 -> 5000 | L8: =L9 -> 0 | M8: =M9 -> 4000 | N8: =N9 -> 0 | ... T8: =T9 -> 0
B9: 1 | C9: Propagácia a prezentácia obce | G9: =G10 -> 3754 | H9: =H10 -> 0 | I9: =I10 -> 4669 | J9: =J10 -> 0 | K9: =K10 -> 5000 | L9: =L10 -> 0 | M9: =M10 -> 4000 | N9: =N10 -> 0 | ... T9: =T10 -> 0
C10: 01.1.1 | D10: Obce | G10: =G11 -> 3754 | H10: =H11 -> 0 | I10: =I11 -> 4669 | J10: =J11 -> 0 | K10: =K11 -> 5000 | L10: =L11 -> 0 | M10: =M11 -> 4000 | N10: =N11 -> 0 | ... T10: =T11 -> 0
D11: 630 | E11: Tovary a služby | F11: 41 | G11: 3754 | H11: 0 | I11: 4669 | J11: 0 | K11: 5000 | L11: 0 | M11: 4000 | N11: 0 | O11: 5000 | P11: 0 | Q11: 5000 | R11: 0 | S11: 5000 | T11: 0

Sheet Program 3
B1: PROGRAM 3: INTERNÉ SLUŽBY OBCE
G3: Skutočné plnenie r.2020 | I3: Skutočné plnenie r.2021 | K3: Rozpočet 2022 | M3: Očakáv.skutočn. 2022 | O3: Rozpočet 2023 | Q3: Rozpočet 2024 | S3: Rozpočet 2025
G4: Bežné výdavky | H4: Kapitálové výdavky | I4: Bežné výdavky | J4: Kapitálové výdavky | K4: Bežné výdavky | L4: Kapitálové výdavky | M4: Bežné výdavky | N4: Kapitálové výdavky | O4: Bežné výdavky | P4: Kapitál. výdavky | Q4: Bežné výdavky | R4: Kapitálové výdavky | S4: Bežné výdavky | T4: Kapitálové výdavky
B5: Akti- | C5: funkčná
B6: vita | C6: klasifik. | E6: ukazovateľ
F7: KÓD ZDROJA
B8: PROGRAM 3: Interné služby obce | G8: =G9+G13+G18+G21+G26 -> 6791 | H8: =H9+H13+H18+H21+H26 -> 0 | I8: =I9+I13+I18+I21+I26 -> 41751 | J8: =J9+J13+J18+J21+J26 -> 0 | K8: =K9+K13+K18+K21+K26 -> 32500 | L8: =L9+L13+L18+L21+L26 -> 0 | M8: =M9+M13+M18+M21+M26 -> 15087 | N8: =N9+N13+N18+N21+N26 -> 0 | ... T8: =T9+T13+T18+T21+T26 -> 0
B9: 1 | C9: Činnosť volených orgánov samosprávy | G9: =G10 -> 2403 | H9: =H10 -> 0 | I9: =I10 -> 4685 | J9: =J10 -> 0 | K9: =K10 -> 6100 | L9: =L10 -> 0 | M9: =M10 -> 6100 | N9: =N10 -> 0 | ... T9: =T10 -> 0
C10: 01.1.1 | D10: Obce | G10: =G11+G12 -> 2403 | H10: =H11+H12 -> 0 | I10: =I11+I12 -> 4685 | J10: =J11+J12 -> 0 | K10: =K11+K12 -> 6100 | L10: =L11+L12 -> 0 | M10: =M11+M12 -> 6100 | N10: =N11+N12 -> 0 | ... T10: =T11+T12 -> 0
D11: 620 | E11: Poistné a príspevok do poisťovní | F11: 41 | G11: 65 | H11: 0 | I11: 716 | J11: 0 | K11: 1600 | L11: 0 | M11: 1600 | N11: 0 | O11: 1600 | P11: 0 | Q11: 1600 | R11: 0 | S11: 1600 | T11: 0
D12: 630 | E12: Tovary a služby | F12: 41 | G12: 2338 | H12: 0 | I12: 3969 | J12: 0 | K12: 4500 | L12: 0 | M12: 4500 | N12: 0 | O12: 4500 | P12: 0 | Q12: 4500 | R12: 0 | S12: 4500 | T12: 0
B13: 2 | C13: Plánovanie obce | G13: =G14 -> 1650 | H13: =H14 -> 0 | I13: =I14 -> 29663 | J13: =J14 -> 0 | K13: =K14 -> 25000 | L13: =L14 -> 0 | M13: =M14 -> 6000 | N13: =N14 -> 0 | ... T13: =T14 -> 0
C14: 01.1.1 | D14: Obce/Pojekty | G14: =G15+G16+G17 -> 1650 | H14: =H15+H16+H17 -> 0 | I14: =I15+I16+I17 -> 29663 | J14: =J15+J16+J17 -> 0 | K14: =K15+K16+K17 -> 25000 | L14: =L15+L16+L17 -> 0 | M14: =M15+M16+M17 -> 6000 | N14: =N15+N16+N17 -> 0 | ... T14: =T15+T16+T17 -> 0
D15: 630 | E15: Tovary a služby | F15: 41 | G15: 1650 | H15: 0 | I15: 17663 | J15: 0 | K15: 25000 | L15: 0 | M15: 6000 | N15: 0 | O15: 25000 | P15: 0 | Q15: 25000 | R15: 0 | S15: 25000 | T15: 0
D16: 710 | E16: Realizácia kapitálových aktív | F16: 41 | G16: 0 | H16: 0 | I16: 0 | J16: 0 | K16: 0 | L16: 0 | M16: 0 | N16: 0 | O16: 0 | P16: 0 | Q16: 0 | R16: 0 | S16: 0 | T16: 0
D17: 819 | E17: Vrátené finančné zábezpeky | F17: 71 | G17: 0 | H17: 0 | I17: 12000 | J17: 0 | K17: 0 | L17: 0 | M17: 0 | N17: 0 | O17: 0 | P17: 0 | Q17: 0 | R17: 0 | S17: 0 | T17: 0
B18: 4 | C18: Vzdelávanie zamestnancov obecného úradu | G18: =G19 -> 129 | H18: =H19 -> 0 | I18: =I19 -> 899 | J18: =J19 -> 0 | K18: =K19 -> 1400 | L18: =L19 -> 0 | M18: =M19 -> 1300 | N18: =N19 -> 0 | ... T18: =T19 -> 0
C19: 09.8.0 | D19: Vzdelávanie | G19: =G20 -> 129 | H19: =H20 -> 0 | I19: =I20 -> 899 | J19: =J20 -> 0 | K19: =K20 -> 1400 | L19: =L20 -> 0 | M19: =M20 -> 1300 | N19: =N20 -> 0 | ... T19: =T20 -> 0
D20: 630 | E20: Tovary a služby | F20: 41 | G20: 129 | H20: 0 | I20: 899 | J20: 0 | K20: 1400 | L20: 0 | M20: 1300 | N20: 0 | O20: 1400 | P20: 0 | Q20: 1400 | R20: 0 | S20: 1400 | T20: 0
B21: 5 | C21: Voľby | G21: =G22 -> 1200 | H21: =H22 -> 0 | I21: =I22 -> 0 | J21: =J22 -> 0 | K21: =K22 -> 0 | L21: =L22 -> 0 | M21: =M22 -> 1687 | N21: =N22 -> 0 | ... T21: =T22 -> 0
C22: 01.6.0 | D22: Voľby | G22: =G23+G24+G25 -> 1200 | H22: =H23+H24+H25 -> 0 | I22: =I23+I24+I25 -> 0 | J22: =J23+J24+J25 -> 0 | K22: =K23+K24+K25 -> 0 | L22: =L23+L24+L25 -> 0 | M22: =M23+M24+M25 -> 1687 | N22: =N23+N24+N25 -> 0 | ... T22: =T23+T24+T25 -> 0
D23: 610 | E23: Mzdy, platy a ostatné osobné vyrovnania | F23: 111 | G23: 90 | H23: 0 | I23: 0 | J23: 0 | K23: 0 | L23: 0 | M23: 60 | N23: 0 | O23: 0 | P23: 0 | Q23: 0 | R23: 0 | S23: 0 | T23: 0
D24: 620 | E24: Poistné a príspevok do poisťovní | F24: 111 | G24: 32 | H24: 0 | I24: 0 | J24: 0 | K24: 0 | L24: 0 | M24: 31 | N24: 0 | O24: 0 | P24: 0 | Q24: 0 | R24: 0 | S24: 0 | T24: 0
D25: 630 | E25: Tovary a služby | F25: 111 | G25: 1078 | H25: 0 | I25: 0 | J25: 0 | K25: 0 | L25: 0 | M25: 1596 | N25: 0 | O25: 0 | P25: 0 | Q25: 0 | R25: 0 | S25: 0 | T25: 0
B26: 6 | C26: Sčítanie | G26: =G27 -> 1409 | H26: =H27 -> 0 | I26: =I27 -> 6504 | J26: =J27 -> 0 | K26: =K27 -> 0 | L26: =L27 -> 0 | M26: =M27 -> 0 | N26: =N27 -> 0 | ... T26: =T27 -> 0
C27: 01.3.2 | D27: Sčítanie | G27: =G28+G29+G30 -> 1409 | H27: =H28+H29+H30 -> 0 | I27: =I28+I29+I30 -> 6504 | J27: =J28+J29+J30 -> 0 | K27: =K28+K29+K30 -> 0 | L27: =L28+L29+L30 -> 0 | M27: =M28+M29+M30 -> 0 | N27: =N28+N29+N30 -> 0 | ... T27: =T28+T29+T30 -> 0
D28: 610 | E28: Mzdy, platy a ostatné osobné vyrovnania | F28: 111 | G28: 0 | H28: 0 | I28: 1540 | J28: 0 | K28: 0 | L28: 0 | M28: 0 | N28: 0 | O28: 0 | P28: 0 | Q28: 0 | R28: 0 | S28: 0 | T28: 0
D29: 620 | E29: Poistné a príspevok do poisťovní | F29: 111 | G29: 0 | H29: 0 | I29: 978 | J29: 0 | K29: 0 | L29: 0 | M29: 0 | N29: 0 | O29: 0 | P29: 0 | Q29: 0 | R29: 0 | S29: 0 | T29: 0
D30: 630 | E30: Tovary a služby | F30: 111 | G30: 1409 | H30: 0 | I30: 3986 | J30: 0 | K30: 0 | L30: 0 | M30: 0 | N30: 0 | O30: 0 | P30: 0 | Q30: 0 | R30: 0 | S30: 0 | T30: 0

Sheet Program 4
B1: PROGRAM 4: SLUŽBY OBČANOM
G3: Skutočné plnenie r.2020 | I3: Skutočné plnenie r.2021 | K3: Rozpočet 2022 | M3: Očakáv.skutočn. 2022 | O3: Rozpočet 2023 | Q3: Rozpočet 2024 | S3: Rozpočet 2025
G4: Bežné výdavky | H4: Kapitálové výdavky | I4: Bežné výdavky | J4: Kapitálové výdavky | K4: Bežné výdavky | L4: Kapitálové výdavky | M4: Bežné výdavky | N4: Kapitálové výdavky | O4: Bežné výdavky | P4: Kapitál. výdavky | Q4: Bežné výdavky | R4: Kapitálové výdavky | S4: Bežné výdavky | T4: Kapitálové výdavky
B5: Akti- | C5: funkčná | D5: ekonomická klasifikácia
B6: vita | C6: klasifik. | E6: ukazovateľ | F6: KÓD ZDROJA
B7: PROGRAM 4: Služby občanom | G7: =G8+G13+G26+G31+G35+G43+G46+G49+G54+G57+G66+G77+G84+G90+G72++G95+G99+G111+G102+G116+G129+G119+G124+G107+G132 -> 166631 | H7: =H8+H13+H26+H31+H35+H43+H46+H49+H54+H57+H66+H77+H84+H90+H72++H95+H99+H111+H102+H116+H129+H119+H124+H107+H132 -> 11784 | I7: =I8+I13+I26+I31+I35+I43+I46+I49+I54+I57+I66+I77+I84+I90+I72++I95+I99+I111+I102+I116+I129+I119+I124+I107+I132 -> 203808 | J7: =J8+J13+J26+J31+J35+J43+J46+J49+J54+J57+J66+J77+J84+J90+J72++J95+J99+J111+J102+J116+J129+J119+J124+J107+J132 -> 130342 | K7: =K8+K13+K26+K31+K35+K43+K46+K49+K54+K57+K66+K77+K84+K90+K72++K95+K99+K111+K102+K116+K129+K119+K124+K107+K132 -> 207688 | L7: =L8+L13+L26+L31+L35+L43+L46+L49+L54+L57+L66+L77+L84+L90+L72++L95+L99+L111+L102+L116+L129+L119+L124+L107+L132 -> 141713 | M7: =M8+M13+M26+M31+M35+M43+M46+M49+M54+M57+M66+M77+M84+M90+M72++M95+M99+M111+M102+M116+M129+M119+M124+M107+M132 -> 261611 | N7: =N8+N13+N26+N31+N35+N43+N46+N49+N54+N57+N66+N77+N84+N90+N72++N95+N99+N111+N102+N116+N129+N119+N124+N107+N132 -> 380882 | ... T7: =T8+T13+T26+T31+T35+T43+T46+T49+T54+T57+T66+T77+T84+T90+T72++T95+T99+T111+T102+T116+T129+T119+T124+T107+T132 -> 0
B8: 1 | C8: Činnosť matriky | G8: =G9 -> 4018 | H8: =H9 -> 0 | I8: =I9 -> 4151 | J8: =J9 -> 0 | K8: =K9 -> 4042 | L8: =L9 -> 0 | M8: =M9 -> 4042 | N8: =N9 -> 0 | ... T8: =T9 -> 0
C9: 01.3.3. | D9: Iné všeobecné služby - matrika | G9: =G10+G11+G12 -> 4018 | H9: =H10+H11+H12 -> 0 | I9: =I10+I11+I12 -> 4151 | J9: =J10+J11+J12 -> 0 | K9: =K10+K11+K12 -> 4042 | L9: =L10+L11+L12 -> 0 | M9: =M10+M11+M12 -> 4042 | N9: =N10+N11+N12 -> 0 | ... T9: =T10+T11+T12 -> 0
D10: 610 | E10: Mzdy, platy a ostatné osobné vyrovnania | F10: 111 | G10: 2610 | H10: 0 | I10: 2621 | J10: 0 | K10: 2424 | L10: 0 | M10: 2424 | N10: 0 | O10: 2424 | P10: 0 | Q10: 2424 | R10: 0 | S10: 2424 | T10: 0
D11: 620 | E11: Poistné a príspevok do poisťovní | F11: 111 | G11: 860 | H11: 0 | I11: 865 | J11: 0 | K11: 850 | L11: 0 | M11: 850 | N11: 0 | O11: 850 | P11: 0 | Q11: 850 | R11: 0 | S11: 850 | T11: 0
D12: 630 | E12: Tovary a služby | F12: 111 | G12: 548 | H12: 0 | I12: 665 | J12: 0 | K12: 768 | L12: 0 | M12: 768 | N12: 0 | O12: 768 | P12: 0 | Q12: 768 | R12: 0 | S12: 768 | T12: 0
B13: 2 | C13: Rozvoj obce+aktivačné práce | G13: =G14 -> 15506 | H13: =H14 -> 0 | I13: =I14 -> 20544 | J13: =J14 -> 0 | K13: =K14 -> 21380 | L13: =L14 -> 0 | M13: =M14 -> 1686 | N13: =N14 -> 0 | ... T13: =T14 -> 0
C14: 06.2.0 | D14: Aktivačné práce | G14: =G15+G16+G18+G17+G19+G20+G21+G22+G23+G24+G25 -> 15506 | H14: =H15+H16+H18+H17+H19+H20+H21+H22+H23+H24+H25 -> 0 | I14: =I15+I16+I18+I17+I19+I20+I21+I22+I23+I24+I25 -> 20544 | J14: =J15+J16+J18+J17+J19+J20+J21+J22+J23+J24+J25 -> 0 | K14: =K15+K16+K18+K17+K19+K20+K21+K22+K23+K24+K25 -> 21380 | L14: =L15+L16+L18+L17+L19+L20+L21+L22+L23+L24+L25 -> 0 | M14: =M15+M16+M18+M17+M19+M20+M21+M22+M23+M24+M25 -> 1686 | N14: =N15+N16+N18+N17+N19+N20+N21+N22+N23+N24+N25 -> 0 | ... T14: =T15+T16+T18+T17+T19+T20+T21+T22+T23+T24+T25 -> 0
D15: 610 | E15: Mzdy, platy a ostatné osobné vyrovnania | F15: 41 | G15: 10038 | H15: 0 | I15: 6612 | J15: 0 | K15: 15900 | L15: 0 | M15: 1240 | N15: 0 | O15: 0 | P15: 0 | Q15: 0 | R15: 0 | S15: 0 | T15: 0
D16: 620 | E16: Poistné a príspevok do poisťovní | F16: 41 | G16: 794 | H16: 0 | I16: 2500 | J16: 0 | K16: 5480 | L16: 0 | M16: 446 | N16: 0 | O16: 0 | P16: 0 | Q16: 0 | R16: 0 | S16: 0 | T16: 0
D17: 630 | E17: Tovary a služby | F17: 41 | G17: 1107 | H17: 0 | I17: 1511 | J17: 0 | K17: 0 | L17: 0 | M17: 0 | N17: 0 | O17: 0 | P17: 0 | Q17: 0 | R17: 0 | S17: 0 | T17: 0
D18: 640 | E18: Bežné transfery/PN-náhrady | F18: 41 | G18: 110 | H18: 0 | I18: 0 | J18: 0 | K18: 0 | L18: 0 | M18: 0 | N18: 0 | O18: 0 | P18: 0 | Q18: 0 | R18: 0 | S18: 0 | T18: 0
D19: 610 | E19: Mzdy, platy a ostatné osobné vyrovnania | F19: 1AC1 | G19: 0 | H19: 0 | I19: 847 | J19: 0 | K19: 0 | L19: 0 | M19: 0 | N19: 0 | O19: 0 | P19: 0 | Q19: 0 | R19: 0 | S19: 0 | T19: 0
D20: 620 | E20: Poistné a príspevok do poisťovní | F20: 1AC1 | G20: 2371 | H20: 0 | I20: 296 | J20: 0 | K20: 0 | L20: 0 | M20: 0 | N20: 0 | O20: 0 | P20: 0 | Q20: 0 | R20: 0 | S20: 0 | T20: 0
D21: 630 | E21: Tovary a služby | F21: 1AC1 | G21: 0 | H21: 0 | I21: 0 | J21: 0 | K21: 0 | L21: 0 | M21: 0 | N21: 0 | O21: 0 | P21: 0 | Q21: 0 | R21: 0 | S21: 0 | T21: 0
D22: 610 | E22: Mzdy, platy a ostatné osobné vyrovnania | F22: 1AC2 | G22: 0 | H22: 0 | I22: 150 | J22: 0 | K22: 0 | L22: 0 | M22: 0 | N22: 0 | O22: 0 | P22: 0 | Q22: 0 | R22: 0 | S22: 0 | T22: 0
D23: 620 | E23: Poistné a príspevok do poisťovní | F23: 1AC2 | G23: 418 | H23: 0 | I23: 52 | J23: 0 | K23: 0 | L23: 0 | M23: 0 | N23: 0 | O23: 0 | P23: 0 | Q23: 0 | R23: 0 | S23: 0 | T23: 0
D24: 610 | E24: Mzdy, platy a ostatné osobné vyrovnania | F24: 131K | G24: 0 | H24: 0 | I24: 6355 | J24: 0 | K24: 0 | L24: 0 | M24: 0 | N24: 0 | O24: 0 | P24: 0 | Q24: 0 | R24: 0 | S24: 0 | T24: 0
D25: 620 | E25: Poistné a príspevok do poisťovní | F25: 131K | G25: 668 | H25: 0 | I25: 2221 | J25: 0 | K25: 0 | L25: 0 | M25: 0 | N25: 0 | O25: 0 | P25: 0 | Q25: 0 | R25: 0 | S25: 0 | T25: 0
B26: 3 | C26: Evidencia obyvateľstva | G26: =G27 -> 668 | H26: =H27 -> 0 | I26: =I27 -> 673 | J26: =J27 -> 0 | K26: =K27 -> 668 | L26: =L27 -> 0 | M26: =M27 -> 672 | N26: =N27 -> 0 | ... T26: =T27 -> 0
C27: 01.1.1 | D27: Obce - hlásenie pobytu občanov a reg.obyv. | G27: =G28+G29+G30 -> 668 | H27: =H28+H29+H30 -> 0 | I27: =I28+I29+I30 -> 673 | J27: =J28+J29+J30 -> 0 | K27: =K28+K29+K30 -> 668 | L27: =L28+L29+L30 -> 0 | M27: =M28+M29+M30 -> 672 | N27: =N28+N29+N30 -> 0 | ... T27: =T28+T29+T30 -> 0
D28: 610 | E28: Mzdy, platy a ostatné osobné vyrovnania | F28: 111 | G28: 380 | H28: 0 | I28: 420 | J28: 0 | K28: 353 | L28: 0 | M28: 355 | N28: 0 | O28: 355 | P28: 0 | Q28: 355 | R28: 0 | S28: 355 | T28: 0
D29: 620 | E29: Poistné a príspevok do poisťovní | F29: 111 | G29: 125 | H29: 0 | I29: 138 | J29: 0 | K29: 122 | L29: 0 | M29: 124 | N29: 0 | O29: 124 | P29: 0 | Q29: 124 | R29: 0 | S29: 124 | T29: 0
D30: 630 | E30: Tovary a služby | F30: 111 | G30: 163 | H30: 0 | I30: 115 | J30: 0 | K30: 193 | L30: 0 | M30: 193 | N30: 0 | O30: 193 | P30: 0 | Q30: 193 | R30: 0 | S30: 193 | T30: 0
B31: 4 | C31: Cintorínske a pohrebné služby | G31: =G32 -> 3932 | H31: =H32 -> 0 | I31: =I32 -> 2578 | J31: =J32 -> 0 | K31: =K32 -> 2000 | L31: =L32 -> 0 | M31: =M32 -> 4500 | N31: =N32 -> 0 | ... T31: =T32 -> 0
C32: 08.4.0. | D32: Náboženské a iné spoločenské služby | G32: =G34+G33 -> 3932 | H32: =H34+H33 -> 0 | I32: =I34+I33 -> 2578 | J32: =J34+J33 -> 0 | K32: =K34+K33 -> 2000 | L32: =L34+L33 -> 0 | M32: =M34+M33 -> 4500 | N32: =N34+N33 -> 0 | ... T32: =T34+T33 -> 0
D33: 630 | E33: Tovary a služby | F33: 41 | G33: 3932 | H33: 0 | I33: 2578 | J33: 0 | K33: 2000 | L33: 0 | M33: 4500 | N33: 0 | O33: 4500 | P33: 0 | Q33: 4500 | R33: 0 | S33: 4500 | T33: 0
D34: 640 | E34: Bežné transfery | F34: 41 | G34: 0 | H34: 0 | I34: 0 | J34: 0 | K34: 0 | L34: 0 | M34: 0 | N34: 0 | O34: 0 | P34: 0 | Q34: 0 | R34: 0 | S34: 0 | T34: 0
B35: 5 | C35: Odpadové hospodárstvo | G35: =G36 -> 50237 | H35: =H36 -> 0 | I35: =I36 -> 77650 | J35: =J36 -> 0 | K35: =K36 -> 51120 | L35: =L36 -> 0 | M35: =M36 -> 132052 | N35: =N36 -> 0 | ... T35: =T36 -> 0
C36: 05.1.0 | D36: Vývoz odpadu, zneškodňovanie, uloženie | G36: =G37+G38+G39+G40+G42+G41 -> 50237 | H36: =H37+H38+H39+H40+H42+H41 -> 0 | I36: =I37+I38+I39+I40+I42+I41 -> 77650 | J36: =J37+J38+J39+J40+J42+J41 -> 0 | K36: =K37+K38+K39+K40+K42+K41 -> 51120 | L36: =L37+L38+L39+L40+L42+L41 -> 0 | M36: =M37+M38+M39+M40+M42+M41 -> 132052 | N36: =N37+N38+N39+N40+N42+N41 -> 0 | ... T36: =T37+T38+T39+T40+T42+T41 -> 0
D37: 630 | E37: Tovary a služby | F37: 41 | G37: 46173 | H37: 0 | I37: 47274 | J37: 0 | K37: 51120 | L37: 0 | M37: 70000 | N37: 0 | O37: 60000 | P37: 0 | Q37: 60000 | R37: 0 | S37: 60000 | T37: 0
D38: 640 | E38: Bežné transfery/Separovaný zber-príspev. | F38: 41 | G38: 4064 | H38: 0 | I38: 0 | J38: 0 | K38: 0 | L38: 0 | M38: 0 | N38: 0 | O38: 0 | P38: 0 | Q38: 0 | R38: 0 | S38: 0 | T38: 0
D39: 630 | E39: Nákup kompostérov-VZ | F39: 41 | G39: 0 | H39: 0 | I39: 0 | J39: 0 | K39: 0 | L39: 0 | M39: 2202 | N39: 0 | O39: 0 | P39: 0 | Q39: 0 | R39: 0 | S39: 0 | T39: 0
D40: 630 | E40: Nákup kompostérov - RF | F40: 46,131 L | G40: 0 | H40: 0 | I40: 28560 | J40: 0 | K40: 0 | L40: 0 | M40: 41838 | N40: 0 | O40: 0 | P40: 0 | Q40: 0 | R40: 0 | S40: 0 | T40: 0
D41: 630 | E41: Vrátka dotácie/kompostéry | F41: 131 L | G41: 0 | H41: 0 | I41: 0 | J41: 0 | K41: 0 | L41: 0 | M41: 18012 | N41: 0 | O41: 0 | P41: 0 | Q41: 0 | R41: 0 | S41: 0 | T41: 0
...

Sheet Program 5
A1: PROGRAM 5: BEZPEČNOSŤ A OCHRANA
G3: Skutočné plnenie r.2020 | I3: Skutočné plnenie r.2021 | K3: Rozpočet 2022 | M3: Očakáv.skutočn. 2022 | O3: Rozpočet 2023 | Q3: Rozpočet 2024 | S3: Rozpočet 2025
G4: Bežné výdavky | H4: Kapitálové výdavky | I4: Bežné výdavky | J4: Kapitálové výdavky | K4: Bežné výdavky | L4: Kapitálové výdavky | M4: Bežné výdavky | N4: Kapitálové výdavky | O4: Bežné výdavky | P4: Kapitál. výdavky | Q4: Bežné výdavky | R4: Kapitálové výdavky | S4: Bežné výdavky | T4: Kapitálové výdavky
B5: Akti- | C5: funkčná | D5: ekonomická klasifikácia
B6: vita | C6: klasifik. | E6: ukazovateľ | F6: KÓD ZDROJA
B8: PROGRAM 5: Bezpečnosť a ochrana | G8: =G9 -> 4889 | H8: =H9 -> 0 | I8: =I9 -> 5027 | J8: =J9 -> 0 | K8: =K9 -> 3500 | L8: =L9 -> 0 | M8: =M9 -> 5800 | N8: =N9 -> 0 | ... T8: =T9 -> 0
B9: 1 | C9: Požiarna ochrana | G9: =G10 -> 4889 | H9: =H10 -> 0 | I9: =I10 -> 5027 | J9: =J10 -> 0 | K9: =K10 -> 3500 | L9: =L10 -> 0 | M9: =M10 -> 5800 | N9: =N10 -> 0 | ... T9: =T10 -> 0
C10: 03.2.0. | D10: Požiarna ochrana | G10: =G11+G12+G13 -> 4889 | H10: =H11+H12+H13 -> 0 | I10: =I11+I12+I13 -> 5027 | J10: =J11+J12+J13 -> 0 | K10: =K11+K12+K13 -> 3500 | L10: =L11+L12+L13 -> 0 | M10: =M11+M12+M13 -> 5800 | N10: =N11+N12+N13 -> 0 | ... T10: =T11+T12+T13 -> 0
D11: 620 | E11: Poistné a príspevok do poisťovní | F11: 41 | G11: 0 | H11: 0 | I11: 0 | J11: 0 | K11: 200 | L11: 0 | M11: 200 | N11: 0 | O11: 200 | P11: 0 | Q11: 200 | R11: 0 | S11: 200 | T11: 0
D12: 630 | E12: Tovary a služby | F12: 41 | G12: 1889 | H12: 0 | I12: 2027 | J12: 0 | K12: 3300 | L12: 0 | M12: 2600 | N12: 0 | O12: 3300 | P12: 0 | Q12: 3300 | R12: 0 | S12: 3300 | T12: 0
D13: 630 | E13: Tovary a služby/Dotácia | F13: 111 | G13: 3000 | H13: 0 | I13: 3000 | J13: 0 | K13: 0 | L13: 0 | M13: 3000 | N13: 0 | O13: 0 | P13: 0 | Q13: 0 | R13: 0 | S13: 0 | T13: 0

Sheet Program 6
B1: PROGRAM 6: ŠPORT
G2: Skutočné plnenie r.2020 | I2: Skutočné plnenie r.2021 | K2: Rozpočet 2022 | M2: Očakáv.skutočn. 2022 | O2: Rozpočet 2023 | Q2: Rozpočet 2024 | S2: Rozpočet 2025
G3: Bežné výdavky | H3: Kapitálové výdavky | I3: Bežné výdavky | J3: Kapitálové výdavky | K3: Bežné výdavky | L3: Kapitálové výdavky | M3: Bežné výdavky | N3: Kapitálové výdavky | O3: Bežné výdavky | P3: Kapitál. výdavky | Q3: Bežné výdavky | R3: Kapitálové výdavky | S3: Bežné výdavky | T3: Kapitálové výdavky
B4: Akti- | C4: funkčná | D4: ekonomická klasifikácia
B5: vita | C5: klasifik. | E5: ukazovateľ
F6: KÓD ZDROJA
B7: PROGRAM 6: Šport | G7: =G8+G12+G17 -> 2101 | H7: =H8+H12+H17 -> 0 | I7: =I8+I12+I17 -> 2333 | J7: =J8+J12+J17 -> 0 | K7: =K8+K12+K17 -> 2600 | L7: =L8+L12+L17 -> 0 | M7: =M8+M12+M17 -> 1311 | N7: =N8+N12+N17 -> 0 | ... T7: =T8+T12+T17 -> 0
B8: 1 | C8: Športové súťaže a podujatia | G8: =G9 -> 701 | H8: =H9 -> 0 | I8: =I9 -> 0 | J8: =J9 -> 0 | K8: =K9 -> 200 | L8: =L9 -> 0 | M8: =M9 -> 11 | N8: =N9 -> 0 | ... T8: =T9 -> 0
C9: 08.1.0. | D9: Rekreačné a šport.služby | G9: =G10+G11 -> 701 | H9: =H10+H11 -> 0 | I9: =I10+I11 -> 0 | J9: =J10+J11 -> 0 | K9: =K10+K11 -> 200 | L9: =L10+L11 -> 0 | M9: =M10+M11 -> 11 | N9: =N10+N11 -> 0 | ... T9: =T10+T11 -> 0
D10: 630 | E10: Tovary a služby | F10: 41 | G10: 701 | H10: 0 | I10: 0 | J10: 0 | K10: 200 | L10: 0 | M10: 11 | N10: 0 | O10: 1300 | P10: 0 | Q10: 1300 | R10: 0 | S10: 1300 | T10: 0
D11: 630 | E11: Tovary a služby/Sponzori | F11: 71 | G11: 0 | H11: 0 | I11: 0 | J11: 0 | K11: 0 | L11: 0 | M11: 0 | N11: 0 | O11: 0 | P11: 0 | Q11: 0 | R11: 0 | S11: 0 | T11: 0
B12: 2 | C12: Podpora športových klubov | G12: =G13 -> 1167 | H12: =H13 -> 0 | I12: =I13 -> 2151 | J12: =J13 -> 0 | K12: =K13 -> 2100 | L12: =L13 -> 0 | M12: =M13 -> 1000 | N12: =N13 -> 0 | ... T12: =T13 -> 0
C13: 08.1.0. | D13: Rekreačné a šport.služby | G13: =G14+G15+G16 -> 1167 | H13: =H14+H15+H16 -> 0 | I13: =I14+I15+I16 -> 2151 | J13: =J14+J15+J16 -> 0 | K13: =K14+K15+K16 -> 2100 | L13: =L14+L15+L16 -> 0 | M13: =M14+M15+M16 -> 1000 | N13: =N14+N15+N16 -> 0 | ... T13: =T14+T15+T16 -> 0
D14: 620 | E14: Poistné a príspevok do poisťovní | F14: 41 | G14: 0 | H14: 0 | I14: 0 | J14: 0 | K14: 0 | L14: 0 | M14: 0 | N14: 0 | O14: 0 | P14: 0 | Q14: 0 | R14: 0 | S14: 0 | T14: 0
D15: 630 | E15: Tovary a služby | F15: 41 | G15: 1067 | H15: 0 | I15: 1951 | J15: 0 | K15: 1000 | L15: 0 | M15: 1000 | N15: 0 | O15: 1000 | P15: 0 | Q15: 1000 | R15: 0 | S15: 1000 | T15: 0
D16: 640 | E16: Bežné transfery/Príspevok TJ | F16: 41 | G16: 100 | H16: 0 | I16: 200 | J16: 0 | K16: 1100 | L16: 0 | M16: 0 | N16: 0 | O16: 0 | P16: 0 | Q16: 0 | R16: 0 | S16: 0 | T16: 0
B17: 3 | C17: Športová infraštruktúra | G17: =G18 -> 233 | H17: =H18 -> 0 | I17: =I18 -> 182 | J17: =J18 -> 0 | K17: =K18 -> 300 | L17: =L18 -> 0 | M17: =M18 -> 300 | N17: =N18 -> 0 | ... T17: =T18 -> 0
C18: 08.1.0. | D18: Rekreačné a šport.služby | G18: =G19+G20 -> 233 | H18: =H19+H20 -> 0 | I18: =I19+I20 -> 182 | J18: =J19+J20 -> 0 | K18: =K19+K20 -> 300 | L18: =L19+L20 -> 0 | M18: =M19+M20 -> 300 | N18: =N19+N20 -> 0 | ... T18: =T19+T20 -> 0
D19: 630 | E19: Tovary a služby | F19: 41 | G19: 233 | H19: 0 | I19: 182 | J19: 0 | K19: 300 | L19: 0 | M19: 300 | N19: 0 | O19: 300 | P19: 0 | Q19: 300 | R19: 0 | S19: 300 | T19: 0
D20: 710 | E20: Realizácia kapitálových aktív | F20: 41 | G20: 0 | H20: 0 | I20: 0 | J20: 0 | K20: 0 | L20: 0 | M20: 0 | N20: 0 | O20: 0 | P20: 0 | Q20: 0 | R20: 0 | S20: 0 | T20: 0

Sheet Program 7
B1: PROGRAM 7: KULTÚRA
G2: Skutočné plnenie r.2020 | I2: Skutočné plnenie r.2021 | K2: Rozpočet 2022 | M2: Očakáv.skutočn. 2022 | O2: Rozpočet 2023 | Q2: Rozpočet 2024 | S2: Rozpočet 2025
G3: Bežné výdavky | H3: Kapitálové výdavky | I3: Bežné výdavky | J3: Kapitálové výdavky | K3: Bežné výdavky | L3: Kapitálové výdavky | M3: Bežné výdavky | N3: Kapitálové výdavky | O3: Bežné výdavky | P3: Kapitál. výdavky | Q3: Bežné výdavky | R3: Kapitálové výdavky | S3: Bežné výdavky | T3: Kapitálové výdavky
B4: Akti- | C4: funkčná | D4: ekonomická klasifikácia
B5: vita | C5: klasifik. | E5: ukazovateľ
F6: KÓD ZDROJA
B7: PROGRAM 7: Kultúra | G7: =G8+G15+G19+G24 -> 7089 | H7: =H8+H15+H19+H24 -> 0 | I7: =I8+I15+I19+I24 -> 7108 | J7: =J8+J15+J19+J24 -> 0 | K7: =K8+K15+K19+K24 -> 30441 | L7: =L8+L15+L19+L24 -> 0 | M7: =M8+M15+M19+M24 -> 31053 | N7: =N8+N15+N19+N24 -> 0 | ... T7: =T8+T15+T19+T24 -> 0
B8: 1 | C8: Kultúrny dom a kultúrne podujatia | G8: =G9 -> 760 | H8: =H9 -> 0 | I8: =I9 -> 789 | J8: =J9 -> 0 | K8: =K9 -> 8600 | L8: =L9 -> 0 | M8: =M9 -> 8553 | N8: =N9 -> 0 | ... T8: =T9 -> 0
C9: 08.2.0 | D9: Ostatné kultúrne služby | G9: =G10+G11+G14+G12+G13 -> 760 | H9: =H10+H11+H14+H12+H13 -> 0 | I9: =I10+I11+I14+I12+I13 -> 789 | J9: =J10+J11+J14+J12+J13 -> 0 | K9: =K10+K11+K14+K12+K13 -> 8600 | L9: =L10+L11+L14+L12+L13 -> 0 | M9: =M10+M11+M14+M12+M13 -> 8553 | N9: =N10+N11+N14+N12+N13 -> 0 | ... T9: =T10+T11+T14+T12+T13 -> 0
D10: 620 | E10: Poistné a príspevok do poisťovní | F10: 41 | G10: 0 | H10: 0 | I10: 0 | J10: 0 | K10: 0 | L10: 0 | M10: 0 | N10: 0 | O10: 0 | P10: 0 | Q10: 0 | R10: 0 | S10: 0 | T10: 0
D11: 630 | E11: Tovary a služby | F11: 41 | G11: 760 | H11: 0 | I11: 789 | J11: 0 | K11: 3400 | L11: 0 | M11: 1134 | N11: 0 | O11: 3400 | P11: 0 | Q11: 3400 | R11: 0 | S11: 3400 | T11: 0
D12: 630 | E12: Tov. a služby/Dni obce+Vian. Trhy | F12: 41 | G12: 0 | H12: 0 | I12: 0 | J12: 0 | K12: 5000 | L12: 0 | M12: 7419 | N12: 0 | O12: 20000 | P12: 0 | Q12: 20000 | R12: 0 | S12: 20000 | T12: 0
D13: 630 | E13: Tovary a služby/Dni obce+Vian.trhy-Sponz | F13: 71 | G13: 0 | H13: 0 | I13: 0 | J13: 0 | K13: 0 | L13: 0 | M13: 0 | N13: 0 | O13: 0 | P13: 0 | Q13: 0 | R13: 0 | S13: 0 | T13: 0
D14: 630 | E14: Bežné transfery/Folklór, Heligón | F14: 41 | G14: 0 | H14: 0 | I14: 0 | J14: 0 | K14: 200 | L14: 0 | M14: 0 | N14: 0 | O14: 700 | P14: 0 | Q14: 200 | R14: 0 | S14: 200 | T14: 0
B15: 2 | C15: Obecná knižnica | G15: =G16 -> 831 | H15: =H16 -> 0 | I15: =I16 -> 206 | J15: =J16 -> 0 | K15: =K16 -> 1400 | L15: =L16 -> 0 | M15: =M16 -> 0 | N15: =N16 -> 0 | ... T15: =T16 -> 0
C16: 08.2.0 | D16: Obecná knižnica | G16: =G17+G18 -> 831 | H16: =H17+H18 -> 0 | I16: =I17+I18 -> 206 | J16: =J17+J18 -> 0 | K16: =K17+K18 -> 1400 | L16: =L17+L18 -> 0 | M16: =M17+M18 -> 0 | N16: =N17+N18 -> 0 | ... T16: =T17+T18 -> 0
D17: 620 | E17: Poistné a príspevok do poisťovní | F17: 41 | G17: 234 | H17: 0 | I17: 50 | J17: 0 | K17: 350 | L17: 0 | M17: 0 | N17: 0 | O17: 350 | P17: 0 | Q17: 350 | R17: 0 | S17: 350 | T17: 0
D18: 630 | E18: Tovary a služby | F18: 41 | G18: 597 | H18: 0 | I18: 156 | J18: 0 | K18: 1050 | L18: 0 | M18: 0 | N18: 0 | O18: 1050 | P18: 0 | Q18: 1050 | R18: 0 | S18: 1050 | T18: 0
B19: 3 | C19: Organizácia občianskych obradov | G19: =G20 -> 4402 | H19: =H20 -> 0 | I19: =I20 -> 5175 | J19: =J20 -> 0 | K19: =K20 -> 4500 | L19: =L20 -> 0 | M19: =M20 -> 5500 | N19: =N20 -> 0 | ... T19: =T20 -> 0
C20: 08.2.0 | D20: Občianske obrady | G20: =G21+G23 -> 4402 | H20: =H21+H23 -> 0 | I20: =I21+I23 -> 5175 | J20: =J21+J23 -> 0 | K20: =K21+K23 -> 4500 | L20: =L21+L23 -> 0 | M20: =M21+M23 -> 5500 | N20: =N21+N23 -> 0 | ... T20: =T21+T23 -> 0
D21: 630 | E21: Tovary a služby | F21: 41 | G21: 2578 | H21: 0 | I21: 2895 | J21: 0 | K21: 2200 | L21: 0 | M21: 4000 | N21: 0 | O21: 2200 | P21: 0 | Q21: 2200 | R21: 0 | S21: 2200 | T21: 0
D22: 630 | E22: Tovary a služby/Sponz. Príspevok | F22: 71 | G22: 0 | H22: 0 | I22: 0 | J22: 0 | K22: 0 | L22: 0 | M22: 0 | N22: 0 | O22: 0 | P22: 0 | Q22: 0 | R22: 0 | S22: 0 | T22: 0
D23: 640 | E23: Bežné transfery/Príspevok | F23: 41 | G23: 1824 | H23: 0 | I23: 2280 | J23: 0 | K23: 2300 | L23: 0 | M23: 1500 | N23: 0 | O23: 4000 | P23: 0 | Q23: 2300 | R23: 0 | S23: 2300 | T23: 0
B24: 4 | C24: Záujmová činnosť/Obec | G24: =G25+G31+G36 -> 1096 | H24: =H25+H31+H36 -> 0 | I24: =I25+I31+I36 -> 938 | J24: =J25+J31+J36 -> 0 | K24: =K25+K31+K36 -> 15941 | L24: =L25+L31+L36 -> 0 | M24: =M25+M31+M36 -> 17000 | N24: =N25+N31+N36 -> 0 | ... T24: =T25+T31+T36 -> 0
C25: 08.1.0 | D25: Športové podujatia | G25: =G26+G27+G28+G29+G30 -> 409 | H25: =H26+H27+H28+H29+H30 -> 0 | I25: =I26+I27+I28+I29+I30 -> 0 | J25: =J26+J27+J28+J29+J30 -> 0 | K25: =K26+K27+K28+K29+K30 -> 1200 | L25: =L26+L27+L28+L29+L30 -> 0 | M25: =M26+M27+M28+M29+M30 -> 1423 | N25: =N26+N27+N28+N29+N30 -> 0 | ... T25: =T26+T27+T28+T29+T30 -> 0
D26: 620 | E26: Poistné a príspevok do poisťovní | F26: 41 | G26: 0 | H26: 0 | I26: 0 | J26: 0 | K26: 200 | L26: 0 | M26: 0 | N26: 0 | O26: 0 | P26: 0 | Q26: 0 | R26: 0 | S26: 0 | T26: 0
D27: 630 | E27: Tovary a služby/TJ-pranie dresov | F27: 41 | G27: 0 | H27: 0 | I27: 0 | J27: 0 | K27: 1000 | L27: 0 | M27: 0 | N27: 0 | O27: 0 | P27: 0 | Q27: 0 | R27: 0 | S27: 0 | T27: 0
D28: 630 | E28: Príspevok/HK Altis+podpora šp.podujatí | F28: 41 | G28: 0 | H28: 0 | I28: 0 | J28: 0 | K28: 0 | L28: 0 | M28: 0 | N28: 0 | O28: 0 | P28: 0 | Q28: 0 | R28: 0 | S28: 0 | T28: 0
D29: 630 | E29: Športové aktivity/Záujmová činnosť | F29: 41 | G29: 409 | H29: 0 | I29: 0 | J29: 0 | K29: 0 | L29: 0 | M29: 1423 | N29: 0 | O29: 0 | P29: 0 | Q29: 0 | R29: 0 | S29: 0 | T29: 0
D30: 630 | E30: Športové aktivity/Záujmová činnosť-Sponz | F30: 71 | G30: 0 | H30: 0 | I30: 0 | J30: 0 | K30: 0 | L30: 0 | M30: 0 | N30: 0 | O30: 0 | P30: 0 | Q30: 0 | R30: 0 | S30: 0 | T30: 0
C31: 08.2.0 | D31: Kultúrne podujatia | G31: =G32+G35+G33+G34 -> 387 | H31: =H32+H35+H33+H34 -> 0 | I31: =I32+I35+I33+I34 -> 911 | J31: =J32+J35+J33+J34 -> 0 | K31: =K32+K35+K33+K34 -> 14741 | L31: =L32+L35+L33+L34 -> 0 | M31: =M32+M35+M33+M34 -> 15523 | N31: =N32+N35+N33+N34 -> 0 | ... T31: =T32+T35+T33+T34 -> 0
D32: 620 | E32: Poistné a príspevok do poisťovní | F32: 41 | G32: 0 | H32: 0 | I32: 0 | J32: 0 | K32: 0 | L32: 0 | M32: 0 | N32: 0 | O32: 0 | P32: 0 | Q32: 0 | R32: 0 | S32: 0 | T32: 0
D33: 630 | E33: Tovary a služby | F33: 41 | G33: 387 | H33: 0 | I33: 911 | J33: 0 | K33: 14741 | L33: 0 | M33: 0 | N33: 0 | O33: 20443 | P33: 0 | Q33: 20443 | R33: 0 | S33: 20443 | T33: 0
D34: 630 | E34: Tovary a služby/Prísp.Kašunka | F34: 41 | G34: 0 | H34: 0 | I34: 0 | J34: 0 | K34: 0 | L34: 0 | M34: 523 | N34: 0 | O34: 0 | P34: 0 | Q34: 0 | R34: 0 | S34: 0 | T34: 0
D35: 640 | E35: Príspevok/TJ | F35: 41 | G35: 0 | H35: 0 | I35: 0 | J35: 0 | K35: 0 | L35: 0 | M35: 15000 | N35: 0 | O35: 0 | P35: 0 | Q35: 0 | R35: 0 | S35: 0 | T35: 0
C36: 09.5.0 | D36: Centrum voľného času maják | G36: =G37 -> 300 | H36: =H37 -> 0 | I36: =I37 -> 27 | J36: =J37 -> 0 | K36: =K37 -> 0 | L36: =L37 -> 0 | M36: =M37 -> 54 | N36: =N37 -> 0 | ... T36: =T37 -> 0
D37: 640 | E37: Príspevok | F37: 41 | G37: 300 | H37: 0 | I37: 27 | J37: 0 | K37: 0 | L37: 0 | M37: 54 | N37: 0 | O37: 0 | P37: 0 | Q37: 0 | R37: 0 | S37: 0 | T37: 0

Sheet Program 8
B1: PROGRAM 8: VZDELÁVANIE
G3: Skutoč.plnenie r.2020 | I3: Skutoč.plnenie r.2021 | K3: Rozpočet 2022 | M3: Očakáv. skutoč. 2022 | O3: Rozpočet 2023 | Q3: Rozpočet 2024 | S3: Rozpočet 2025
G4: Bežné výdavky | H4: Kapitálové výdavky | I4: Bežné výdavky | J4: Kapitálové výdavky | K4: Bežné výdavky | L4: Kapitálové výdavky | M4: Bežné výdavky | N4: Kapitálové výdavky | O4: Bežné výdavky | P4: Kapitál. výdavky | Q4: Bežné výdavky | R4: Kapitálové výdavky | S4: Bežné výdavky | T4: Kapitálové výdavky
B5: Akti- | C5: funkčná | D5: ekonomická klasifikácia
B6: vita | C6: klasifik. | E6: ukazovateľ
F7: KÓD ZDROJA
B8: PROGRAM 8: Vzdelávanie | G8: =G9+G37+G56+G72+G77 -> 990789 | H8: =H9+H37+H56+H72+H77 -> 0 | I8: =I9+I37+I56+I72+I77 -> 1040201 | J8: =J9+J37+J56+J72+J77 -> 0 | K8: =K9+K37+K56+K72+K77 -> 988039 | L8: =L9+L37+L56+L72+L77 -> 0 | M8: =M9+M37+M56+M72+M77 -> 1076257 | N8: =N9+N37+N56+N72+N77 -> 0 | ... T8: =T9+T37+T56+T72+T77 -> 0
B9: 1 | C9: Základná škola | G9: =G10+G27+G31 -> 728830 | H9: =H10+H27+H31 -> 0 | I9: =I10+I27+I31 -> 771789 | J9: =J10+J27+J31 -> 0 | K9: =K10+K27+K31 -> 717350 | L9: =L10+L27+L31 -> 0 | M9: =M10+M27+M31 -> 776498 | N9: =N10+N27+N31 -> 0 | ... T9: =T10+T27+T31 -> 0
C10: 09.1.2.1 | D10: Základná škola | G10: =G11+G12+G13+G14+G15+G16+G17+G21+G24+G25+G26+G19+G18+G20+G22+G23 -> 719257 | H10: =H11+H12+H13+H14+H15+H16+H17+H21+H24+H25+H26+H19+H18+H20+H22+H23 -> 0 | I10: =I11+I12+I13+I14+I15+I16+I17+I21+I24+I25+I26+I19+I18+I20+I22+I23 -> 764557 | J10: =J11+J12+J13+J14+J15+J16+J17+J21+J24+J25+J26+J19+J18+J20+J22+J23 -> 0 | K10: =K11+K12+K13+K14+K15+K16+K17+K21+K24+K25+K26+K19+K18+K20+K22+K23 -> 710118 | L10: =L11+L12+L13+L14+L15+L16+L17+L21+L24+L25+L26+L19+L18+L20+L22+L23 -> 0 | M10: =M11+M12+M13+M14+M15+M16+M17+M21+M24+M25+M26+M19+M18+M20+M22+M23 -> 758052 | N10: =N11+N12+N13+N14+N15+N16+N17+N21+N24+N25+N26+N19+N18+N20+N22+N23 -> 0 | ... T10: =T11+T12+T13+T14+T15+T16+T17+T21+T24+T25+T26+T19+T18+T20+T22+T23 -> 0
D11: 610 | E11: Mzdy, platy a ostatné osobné vyrovnania | F11: 111 | G11: 449508 | H11: 0 | I11: 450377 | J11: 0 | K11: 409870 | L11: 0 | M11: 492191 | N11: 0 | O11: 467000 | P11: 0 | Q11: 467000 | R11: 0 | S11: 467000 | T11: 0
D12: 620 | E12: Poistné a príspevok do poisťovní | F12: 111 | G12: 149865 | H12: 0 | I12: 165107 | J12: 0 | K12: 178300 | L12: 0 | M12: 161033 | N12: 0 | O12: 178300 | P12: 0 | Q12: 178300 | R12: 0 | S12: 178300 | T12: 0
D13: 630 | E13: Tovary a služby | F13: 111 | G13: 51559 | H13: 0 | I13: 47819 | J13: 0 | K13: 28857 | L13: 0 | M13: 23346 | N13: 0 | O13: 17882 | P13: 0 | Q13: 16128 | R13: 0 | S13: 16128 | T13: 0
D14: 630 | E14: Tovary a služby/Deti zo soc.znev.pros | F14: 111 | G14: 1902 | H14: 0 | I14: 0 | J14: 0 | K14: 0 | L14: 0 | M14: 0 | N14: 0 | O14: 15450 | P14: 0 | Q14: 15450 | R14: 0 | S14: 15450 | T14: 0
D15: 640 | E15: Bežné transfery | F15: 111 | G15: 3722 | H15: 0 | I15: 3950 | J15: 0 | K15: 200 | L15: 0 | M15: 4147 | N15: 0 | O15: 1600 | P15: 0 | Q15: 1600 | R15: 0 | S15: 1600 | T15: 0
D16: 610 | E16: Mzdy vlastne zdroje 3AC1 | G16: 47678 | H16: 0 | I16: 4340 | J16: 0 | K16: 65958 | L16: 0 | M16: 9362 | N16: 0 | O16: 0 | P16: 0 | Q16: 0 | R16: 0 | S16: 0 | T16: 0
D17: 620 | E17: Poistné a príspevok do poisťovní | F17: 3AC2 | G17: 5637 | H17: 0 | I17: 7176 | J17: 0 | K17: 21628 | L17: 0 | M17: 4539 | N17: 0 | O17: 0 | P17: 0 | Q17: 0 | R17: 0 | S17: 0 | T17: 0
D18: 630 | E18: Tovary a služby | G18: 0 | H18: 0 | I18: 20878 | J18: 0 | K18: 0 | L18: 0 | M18: 9950 | N18: 0 | O18: 0 | P18: 0 | Q18: 0 | R18: 0 | S18: 0 | T18: 0
D19: 610 | E19: Mzdy | F19: 3AC1 | G19: 3529 | H19: 0 | I19: 3677 | J19: 0 | K19: 3677 | L19: 0 | M19: 3892 | N19: 0 | O19: 3892 | P19: 0 | Q19: 3892 | R19: 0 | S19: 3892 | T19: 0
D20: 610 | E20: Mzdy | F20: 41 | G20: 0 | H20: 0 | I20: 18531 | J20: 0 | K20: 0 | L20: 0 | M20: 0 | N20: 0 | O20: 0 | P20: 0 | Q20: 0 | R20: 0 | S20: 0 | T20: 0
D21: 610 | E21: Mzdy-spoluú | F21: 41 | G21: 3712 | H21: 0 | I21: 1147 | J21: 0 | K21: 1059 | L21: 0 | M21: 1059 | N21: 0 | O21: 0 | P21: 0 | Q21: 0 | R21: 0 | S21: 0 | T21: 0
D22: 610 | E22: mzdy vlastné | G22: 0 | H22: 0 | I22: 30389 | J22: 0 | K22: 0 | L22: 0 | M22: 37768 | N22: 0 | O22: 37768 | P22: 0 | Q22: 0 | R22: 0 | S22: 0 | T22: 0
D23: 620 | E23: Poistné a príspevok do poisťovní | G23: 0 | H23: 0 | I23: 10659 | J23: 0 | K23: 0 | L23: 0 | M23: 10165 | N23: 0 | O23: 10165 | P23: 0 | Q23: 0 | R23: 0 | S23: 0 | T23: 0
D24: 630 | E24: Tovary a sl | F24: 72c | G24: 1500 | H24: 0 | I24: 0 | J24: 0 | K24: 0 | L24: 0 | M24: 0 | N24: 0 | O24: 0 | P24: 0 | Q24: 0 | R24: 0 | S24: 0 | T24: 0
D25: 630 | E25: Tovary a služby | F25: 72a | G25: 240 | H25: 0 | I25: 297 | J25: 0 | K25: 369 | L25: 0 | M25: 325 | N25: 0 | O25: 325 | P25: 0 | Q25: 325 | R25: 0 | S25: 325 | T25: 0
D26: 630 | E26: Telocvičňa | G26: 405 | H26: 0 | I26: 210 | J26: 0 | K26: 200 | L26: 0 | M26: 275 | N26: 0 | O26: 275 | P26: 0 | Q26: 275 | R26: 0 | S26: 275 | T26: 0
C27: 09.1.2.2 | D27: Neformálne vzdelávanie pre deti a mládež | G27: =G28+G29+G30 -> 7424 | H27: =H28+H29+H30 -> 0 | I27: =I28+I29+I30 -> 7232 | J27: =J28+J29+J30 -> 0 | K27: =K28+K29+K30 -> 7232 | L27: =L28+L29+L30 -> 0 | M27: =M28+M29+M30 -> 7206 | N27: =N28+N29+N30 -> 0 | ... T27: =T28+T29+T30 -> 0
D28: 610 | E28: Mzdy, platy a ostatné osobné vyrovnania | F28: 111 | G28: 0 | H28: 0 | I28: 0 | J28: 0 | K28: 0 | L28: 0 | M28: 0 | N28: 0 | O28: 0 | P28: 0 | Q28: 0 | R28: 0 | S28: 0 | T28: 0
D29: 620 | E29: Poistné a príspevok do poisťovní | F29: 111 | G29: 0 | H29: 0 | I29: 0 | J29: 0 | K29: 0 | L29: 0 | M29: 0 | N29: 0 | O29: 0 | P29: 0 | Q29: 0 | R29: 0 | S29: 0 | T29: 0
D30: 630 | E30: Tovary a služby | F30: 111 | G30: 7424 | H30: 0 | I30: 7232 | J30: 0 | K30: 7232 | L30: 0 | M30: 7206 | N30: 0 | O30: 7206 | P30: 0 | Q30: 7206 | R30: 0 | S30: 7206 | T30: 0
C31: 09.1.1.1 | D31: Záujmová činnosť | G31: =G32+G33+G34+G35+G36 -> 2149 | H31: =H32+H33+H34+H35+H36 -> 0 | I31: 0 | J31: =J32+J33+J34+J35+J36 -> 0 | K31: =K32+K33+K34+K35+K36 -> 0 | L31: =L32+L33+L34+L35+L36 -> 0 | M31: =M32+M33+M34+M35+M36 -> 11240 | N31: =N32+N33+N34+N35+N36 -> 0 | O31: =O32+O33+O34+O35+O36 -> 5600 | P31: =P32+P33+P34+P35+P36 -> 0 | Q31: =Q32+Q33+Q34+Q35+Q36 -> 5600 | ... T31: =T32+T33+T34+T35+T36 -> 0
D32: 610 | E32: Mzdy, platy a ostatné osobné vyrovnania | F32: 41 | G32: 0 | H32: 0 | I32: 0 | J32: 0 | K32: 0 | L32: 0 | M32: 0 | N32: 0 | O32: 0 | P32: 0 | Q32: 0 | R32: 0 | S32: 0 | T32: 0
D33: 620 | E33: Poistné a príspevok do poisťovní | F33: 41 | G33: 884 | H33: 0 | I33: 0 | J33: 0 | K33: 0 | L33: 0 | M33: 0 | N33: 0 | O33: 0 | P33: 0 | Q33: 0 | R33: 0 | S33: 0 | T33: 0
D34: 630 | E34: Tovary a služby - dohody ZŠ | F34: 41 | G34: 1265 | H34: 0 | I34: 0 | J34: 0 | K34: 0 | L34: 0 | M34: 11240 | N34: 0 | O34: 5600 | P34: 0 | Q34: 5600 | R34: 0 | S34: 5600 | T34: 0
D35: 630 | E35: Tovary a služby - MŠ | F35: 41 | G35: 0 | H35: 0 | I35: 0 | J35: 0 | K35: 0 | L35: 0 | M35: 0 | N35: 0 | O35: 0 | P35: 0 | Q35: 0 | R35: 0 | S35: 0 | T35: 0
D36: 710 | E36: Obstaranie kapitálových aktív/Mixér ŠJ | F36: 41 | G36: 0 | H36: 0 | I36: 0 | J36: 0 | K36: 0 | L36: 0 | M36: 0 | N36: 0 | O36: 0 | P36: 0 | Q36: 0 | R36: 0 | S36: 0 | T36: 0
B37: 2 | C37: Materská škola | G37: =G38+G52 -> 121873 | H37: =H38+H52 -> 0 | I37: =I38+I52 -> 148653 | J37: =J38+J52 -> 0 | K37: =K38+K52 -> 147706 | L37: =L38+L52 -> 0 | M37: =M38+M52 -> 172248 | N37: =N38+N52 -> 0 | ... T37: =T38+T52 -> 0
C38: 09.1.1.1 | D38: Materská škola | G38: =G39+G44 -> 117927 | H38: =H39+H44 -> 0 | I38: =I39+I44 -> 141647 | J38: =J39+J44 -> 0 | K38: =K39+K44 -> 140700 | L38: =L39+L44 -> 0 | M38: =M39+M44 -> 163885 | N38: =N39+N44 -> 0 | ... T38: =T39+T44 -> 0
E39: SPOLU MŠ - z rozpočtu obce | G39: =G40+G41+G42+G43 -> 105175 | H39: =H40+H41+H42+H43 -> 0 | I39: =I40+I41+I42+I43 -> 129624 | J39: =J40+J41+J42+J43 -> 0 | K39: =K40+K41+K42+K43 -> 135700 | L39: =L40+L41+L42+L43 -> 0 | M39: =M40+M41+M42+M43 -> 142150 | N39: =N40+N41+N42+N43 -> 0 | ... T39: =T40+T41+T42+T43 -> 0
B40: z rozpočtu | C40: obce | D40: 610 | E40: Mzdy, platy a ostatné osobné vyrovnania | F40: 41 | G40: 50220 | H40: 0 | I40: 67769 | J40: 0 | K40: 83600 | L40: 0 | M40: 95550 | N40: 0 | O40: 100830 | P40: 0 | Q40: 100830 | R40: 0 | S40: 100830 | T40: 0
B41: z rozpočtu | C41: obce | D41: 620 | E41: Poistné a príspevok do poisťovní | F41: 41 | G41: 21545 | H41: 0 | I41: 27714 | J41: 0 | K41: 27000 | L41: 0 | M41: 34750 | N41: 0 | O41: 35240 | P41: 0 | Q41: 35240 | R41: 0 | S41: 35240 | T41: 0
...

Sheet Výdavky spolu
G1: Skutočné plnenie r.2020 | I1: Skutočné plnenie r.2021 | K1: Rozpočet 2022 | M1: Očakáv.skutočn. 2022 | O1: Rozpočet 2023 | Q1: Rozpočet 2024 | S1: Rozpočet 2025
G2: Bežné výdavky | H2: Kapitálové výdavky | I2: Bežné výdavky | J2: Kapitálové výdavky | K2: Bežné výdavky | L2: Kapitálové výdavky | M2: Bežné výdavky | N2: Kapitálové výdavky | O2: Bežné výdavky | P2: Kapitálové výdavky | Q2: Bežné výdavky | R2: Kapitálové výdavky | S2: Bežné výdavky | T2: Kapitálové výdavky
B3: Akti- | C3: funkčná | D3: ekonomická klasifikácia
B4: vita | C4: klasifik. | E4: ukazovateľ
F5: KÓD ZDROJA
C6: Výdavky celkom/obec: | G6: ='[1]Program 1'!G9+'[1]Program 2'!G8+'[1]Program 3'!G8+'[1]Program 4'!G7+'[1]Program 5'!G8+'[1]Program 6'!G7+'[1]Program 7'!G7+'[1]Program 8'!G86 -> 469982 | H6: ='[1]Program 1'!H9+'[1]Program 2'!H8+'[1]Program 3'!H8+'[1]Program 4'!H7+'[1]Program 5'!H8+'[1]Program 6'!H7+'[1]Program 7'!H7+'[1]Program 8'!H86+'[1]Program 8'!H87 -> 11787 | I6: ='[1]Program 1'!I9+'[1]Program 2'!I8+'[1]Program 3'!I8+'[1]Program 4'!I7+'[1]Program 5'!I8+'[1]Program 6'!I7+'[1]Program 7'!I7+'[1]Program 8'!I86 -> 587389 | J6: ='[1]Program 1'!J9+'[1]Program 2'!J8+'[1]Program 3'!J8+'[1]Program 4'!J7+'[1]Program 5'!J8+'[1]Program 6'!J7+'[1]Program 7'!J7+'[1]Program 8'!J87 -> 130342 | K6: ='[1]Program 1'!K9+'[1]Program 2'!K8+'[1]Program 3'!K8+'[1]Program 4'!K7+'[1]Program 5'!K8+'[1]Program 6'!K7+'[1]Program 7'!K7+'[1]Program 8'!M86 -> 679640 | L6: ='[1]Program 1'!L9+'[1]Program 2'!L8+'[1]Program 3'!L8+'[1]Program 4'!L7+'[1]Program 5'!L8+'[1]Program 6'!L7+'[1]Program 7'!L7+'[1]Program 8'!L87 -> 141713 | M6: ='[1]Program 1'!M9+'[1]Program 2'!M8+'[1]Program 3'!M8+'[1]Program 4'!M7+'[1]Program 5'!M8+'[1]Program 6'!M7+'[1]Program 7'!M7+'[1]Program 8'!M86 -> 717595 | N6: ='[1]Program 1'!N9+'[1]Program 2'!N8+'[1]Program 3'!N8+'[1]Program 4'!N7+'[1]Program 5'!N8+'[1]Program 6'!N7+'[1]Program 7'!N7+'[1]Program 8'!N87 -> 380882 | O6: ='[1]Program 1'!O9+'[1]Program 2'!O8+'[1]Program 3'!O8+'[1]Program 4'!O7+'[1]Program 5'!O8+'[1]Program 6'!O7+'[1]Program 7'!O7+'[1]Program 8'!O86 -> 810593 | P6: ='[1]Program 1'!P9+'[1]Program 2'!P8+'[1]Program 3'!P8+'[1]Program 4'!P7+'[1]Program 5'!P8+'[1]Program 6'!P7+'[1]Program 7'!P7+'[1]Program 8'!P87 -> 179200 | Q6: ='[1]Program 1'!Q9+'[1]Program 2'!Q8+'[1]Program 3'!Q8+'[1]Program 4'!Q7+'[1]Program 5'!Q8+'[1]Program 6'!Q7+'[1]Program 7'!Q7+'[1]Program 8'!Q86 -> 902457 | R6: ='[1]Program 1'!R9+'[1]Program 2'!R8+'[1]Program 3'!R8+'[1]Program 4'!R7+'[1]Program 5'!R8+'[1]Program 6'!R7+'[1]Program 7'!R7+'[1]Program 8'!R87 -> 0 | S6: ='[1]Program 1'!S9+'[1]Program 2'!S8+'[1]Program 3'!S8+'[1]Program 4'!S7+'[1]Program 5'!S8+'[1]Program 6'!S7+'[1]Program 7'!S7+'[1]Program 8'!S86 -> 1012457 | T6: ='[1]Program 1'!T9+'[1]Program 2'!T8+'[1]Program 3'!T8+'[1]Program 4'!T7+'[1]Program 5'!T8+'[1]Program 6'!T7+'[1]Program 7'!T7+'[1]Program 8'!T87 -> 0
C7: Výdavky celkom/škola: | G7: ='[1]Program 8'!G8 -> 990789 | H7: ='[1]Program 8'!H8 -> 0 | I7: ='[1]Program 8'!I8 -> 1040201 | J7: ='[1]Program 8'!J8 -> 0 | K7: ='[1]Program 8'!K8 -> 988039 | L7: ='[1]Program 8'!L8 -> 0 | M7: ='[1]Program 8'!K8 -> 988039 | N7: ='[1]Program 8'!L8 -> 0 | O7: ='[1]Program 8'!O8 -> 1061239 | P7: ='[1]Program 8'!P8 -> 0 | Q7: ='[1]Program 8'!Q8 -> 1011543 | R7: ='[1]Program 8'!P8 -> 0 | S7: ='[1]Program 8'!S8 -> 1011543 | T7: ='[1]Program 8'!R8 -> 0
C8: Výdavky celkom: | G8: =G6+G7 -> 1460771 | H8: =H6+H7 -> 11787 | I8: =I6+I7 -> 1627590 | J8: =J6+J7 -> 130342 | K8: =K6+K7 -> 1667679 | L8: =L6+L7 -> 141713 | M8: =M6+M7 -> 1705634 | N8: =N6+N7 -> 380882 | ... T8: =T6+T7 -> 0
G12: Skutočné plnenie r.2020 | I12: Skutočné plnenie r.2021 | K12: Rozpočet 2022 | M12: Očakáv.skutočn. 2022 | O12: Rozpočet 2023 | Q12: Rozpočet 2024 | S12: Rozpočet 2025
G13: Bežné výdavky | H13: Kapitálové výdavky | I13: Bežné výdavky | J13: Kapitálové výdavky | K13: Bežné výdavky | L13: Kapitálové výdavky | M13: Bežné výdavky | N13: Kapitálové výdavky | O13: Bežné výdavky | P13: Kapitálové výdavky | Q13: Bežné výdavky | R13: Kapitálové výdavky | S13: Bežné výdavky | T13: Kapitálové výdavky
B14: Akti- | C14: funkčná | D14: ekonomická klasifikácia
B15: vita | C15: klasifik. | E15: ukazovateľ
F16: KÓD ZDROJA
B17: Výdavkové finančné operácie
A18: 1 | G18: =G19 -> 100008 | H18: =H19 -> 0 | I18: =I19 -> 100008 | J18: =J19 -> 0 | K18: =K19 -> 100008 | L18: =L19 -> 0 | M18: =M19 -> 100008 | N18: =N19 -> 0 | ... T18: =T19 -> 0
A19: 2 | B19: 6 | C19: Transakcie verejného dlhu | G19: =G20 -> 100008 | H19: =H20 -> 0 | I19: =I20 -> 100008 | J19: =J20 -> 0 | K19: =K20 -> 100008 | L19: =L20 -> 0 | M19: =M20 -> 100008 | N19: =N20 -> 0 | ... T19: =T20 -> 0
A20: 3 | C20: 01.7.0 | D20: Splátka úveru | G20: =G21+G22 -> 100008 | H20: =H21+H22 -> 0 | I20: =I21+I22 -> 100008 | J20: =J21+J22 -> 0 | K20: =K21+K22 -> 100008 | L20: =L21+L22 -> 0 | M20: =M21+M22 -> 100008 | N20: =N21+N22 -> 0 | ... T20: =T21+T22 -> 0
A21: 4 | D21: 820 | E21: Služby/Splátka úveru | F21: 41 | G21: 100008 | H21: 0 | I21: 100008 | J21: 0 | K21: 100008 | L21: 0 | M21: 100008 | O21: 99968 | P21: 0 | Q21: 0 | R21: 0 | S21: 0 | T21: 0
D22: 81x | E22: Splátka návr. Finančnej výpomoci | F22: 41 | G22: 0 | H22: 0 | I22: 0 | J22: 0 | K22: 0 | L22: 0 | M22: 0 | N22: 0 | O22: 0 | P22: 0 | Q22: 0 | R22: 0 | S22: 0 | T22: 0
A23: Finančné operácie - výdavkové spolu: | G23: =G18 -> 100008 | H23: =H18 -> 0 | I23: =I18 -> 100008 | J23: =J18 -> 0 | K23: =K18 -> 100008 | L23: =L18 -> 0 | M23: =M18 -> 100008 | N23: =N18 -> 0 | ... T23: =T18 -> 0
A27: Bežné výdavky | G27: =G8 -> 1460771 | H27: 0 | I27: =I8 -> 1627590 | J27: =J8 -> 130342 | K27: =K8 -> 1667679 | L27: 0 | M27: =M8 -> 1705634 | N27: 0 | O27: =O8 -> 1871832 | P27: 0 | Q27: =Q8 -> 1914000 | R27: 0 | S27: =S8 -> 2024000 | T27: =T8 -> 0
A28: Kapitálové výdavky | G28: =H8 -> 11787 | I28: =J8 -> 130342 | J28: 0 | K28: =L8 -> 141713 | L28: 0 | M28: =N8 -> 380882 | N28: 0 | O28: =P8 -> 179200 | P28: 0 | Q28: =R8 -> 0 | R28: 0 | S28: =T8 -> 0 | T28: =U8 -> 0
A29: Výdavkové finančné operácie | G29: =G23 -> 100008 | H29: =H23 -> 0 | I29: =I23 -> 100008 | J29: =J23 -> 0 | K29: =K23 -> 100008 | L29: =L23 -> 0 | M29: =M23 -> 100008 | N29: =N23 -> 0 | ... T29: =T23 -> 0
