Workbook

Sheet Príjmy
A1: PROGRAMOVÝ ROZPOČET OBCE RABČICE NA ROK 2023
A2: S VÝHĽADOM NA ROKY 2024 - 2025
A6: Bežné príjmy | C6: KÓD | D6: Skut.plnenie r. 2020 | E6: Skut.plnenie r. 2021 | F6: Rozpočet rok 2022 | G6: Očakávaná skutočnosť rok 2022 | H6: Rozpočet rok 2023 | I6: Rozpočet rok 2024 | J6: Rozpočet rok 2025
C7: ZDROJA | D7: v EUR | F7: v EUR | G7: v EUR | H7: v EUR | I7: v EUR | J7: v EUR
A8: 100 | B8: Daňové príjmy | D8: =D9+D10+D11 -> 834697 | E8: =E9+E10+E11 -> 889829 | F8: =F9+F10+F11 -> 919024 | G8: =G9+G10+G11 -> 951065 | H8: =H9+H10+H11 -> 1005613 | I8: =I9+I10+I11 -> 1045970 | J8: =J9+J10+J11 -> 1156417
A9: 110 | B9: Daň z príjmov FO | D9: =[1]príjmy!D10 -> 753980 | E9: =[1]príjmy!E10 -> 803579 | F9: =[1]príjmy!F10 -> 832353 | G9: 866551 | H9: 910062 | I9: 950419 | J9: 1060866
A10: 120 | B10: Dane z majetku | D10: =[1]príjmy!D13 -> 33411 | E10: =[1]príjmy!E13 -> 34448 | F10: =[1]príjmy!F13 -> 34376 | G10: =[1]príjmy!G13 -> 33414 | H10: =[1]príjmy!H13 -> 34376 | I10: =[1]príjmy!I13 -> 34376 | J10: =[1]príjmy!J13 -> 34376
A11: 130 | B11: Dane za špecifické služby | D11: =[1]príjmy!D17 -> 47306 | E11: =[1]príjmy!E17 -> 51802 | F11: =[1]príjmy!F17 -> 52295 | G11: =[1]príjmy!G17 -> 51100 | H11: =[1]príjmy!H17 -> 61175 | I11: =[1]príjmy!I17 -> 61175 | J11: =[1]príjmy!J17 -> 61175
A12: 200 | B12: Nedaňové príjmy-príjmy z podnikania a z vlastn.maj. | D12: =D13+D14+D15+D16 -> 88749 | E12: =E13+E14+E15+E16 -> 65648 | F12: =F13+F14+F15+F16 -> 69420 | G12: =G13+G14+G15+G16 -> 95365 | H12: =H13+H14+H15+H16 -> 104410 | I12: =I13+I14+I15+I16 -> 104186 | J12: =J13+J14+J15+J16 -> 103739
A13: 210 | B13: Nedaňové príjmy - príjmy z podnikania a z vlastníctva majetku | D13: =[1]príjmy!D21 -> 35606 | E13: =[1]príjmy!E21 -> 34108 | F13: =[1]príjmy!F21 -> 37834 | G13: =[1]príjmy!G21 -> 34680 | H13: =[1]príjmy!H21 -> 38253 | I13: =[1]príjmy!I21 -> 37999 | J13: =[1]príjmy!J21 -> 37999
A14: 220 | B14: Administratívne a iné poplatky a platby | D14: =[1]príjmy!D26 -> 34046 | E14: =[1]príjmy!E26 -> 27541 | F14: =[1]príjmy!F26 -> 31536 | G14: =[1]príjmy!G26 -> 43420 | H14: =[1]príjmy!H26 -> 66147 | I14: =[1]príjmy!I26 -> 66177 | J14: =[1]príjmy!J26 -> 65730
A15: 240 | B15: Úroky z účtov finančného hospodárenia | D15: =[1]príjmy!D37 -> 95 | E15: =[1]príjmy!E37 -> 3 | F15: =[1]príjmy!F37 -> 50 | G15: =[1]príjmy!G37 -> 5 | H15: =[1]príjmy!H37 -> 10 | I15: =[1]príjmy!I37 -> 10 | J15: =[1]príjmy!J37 -> 10
A16: 290 | B16: Iné nedaňové príjmy | D16: =[1]príjmy!D40 -> 19002 | E16: =[1]príjmy!E40 -> 3996 | F16: =[1]príjmy!F40 -> 0 | G16: =[1]príjmy!G40 -> 17260 | H16: =[1]príjmy!H40 -> 0 | I16: =[1]príjmy!I40 -> 0 | J16: =[1]príjmy!J40 -> 0
A17: 300 | B17: Granty a transfery | D17: =D18+D21 -> 755397 | E17: =E18+E21 -> 892833 | F17: =F18+F21 -> 693356 | G17: =G18+G21 -> 770107 | H17: =H18+H21 -> 758707 | I17: =I18+I21 -> 710774 | J17: =J18+J21 -> 710774
A18: 310 | B18: Tuzemské bežné granty a transfery | D18: =D19+D20 -> 747163 | E18: =E19+E20 -> 891864 | F18: =F19+F20 -> 693356 | G18: =G19+G20+G21 -> 770107 | H18: =H19+H20 -> 758707 | I18: =I19+I20 -> 710774 | J18: =J19+J20 -> 710774
A19: 311 | B19: Sponzorské príspevky | D19: =[1]príjmy!D48 -> 120 | E19: =[1]príjmy!E48 -> 0 | F19: =[1]príjmy!F48 -> 0 | G19: =[1]príjmy!G48 -> 0 | H19: =[1]príjmy!H48 -> 0 | I19: =[1]príjmy!I48 -> 0 | J19: =[1]príjmy!J48 -> 0
A20: 312 | B20: Tuzemské dotácie a transfery | D20: =[1]príjmy!D50 -> 747043 | E20: =[1]príjmy!E50 -> 891864 | F20: =[1]príjmy!F50 -> 693356 | G20: =[1]príjmy!G50 -> 770107 | H20: =[1]príjmy!H50 -> 758707 | I20: =[1]príjmy!I50 -> 710774 | J20: =[1]príjmy!J50 -> 710774
A21: 330 | B21: Zahraničné granty | D21: =[1]príjmy!D99 -> 8234 | E21: =[1]príjmy!E99 -> 969 | F21: =[1]príjmy!F99 -> 0 | G21: =[1]príjmy!G99 -> 0 | H21: =[1]príjmy!H99 -> 0 | I21: =[1]príjmy!I99 -> 0 | J21: =[1]príjmy!J99 -> 0
A22: Bežné príjmy spolu: | D22: =D17+D12+D8 -> 1678843 | E22: =E17+E12+E8 -> 1848310 | F22: =F17+F12+F8 -> 1681800 | G22: =G17+G12+G8 -> 1816537 | H22: =H17+H12+H8 -> 1868730 | I22: =I17+I12+I8 -> 1860930 | J22: =J17+J12+J8 -> 1970930
A24: Školstvo/RO s právnou subjektivitou - ZŠ s MŠ Rabčice | D24: =[1]príjmy!D105 -> 75549 | E24: =[1]príjmy!E105 -> 68458 | F24: =[1]príjmy!F105 -> 86387 | G24: =[1]príjmy!G105 -> 70790 | H24: =[1]príjmy!H105 -> 53070 | I24: =[1]príjmy!I105 -> 53070 | J24: =[1]príjmy!J105 -> 53070
A25: Bežné príjmy spolu: | D25: =D22+D24 -> 1754392 | E25: =E22+E24 -> 1916768 | F25: =F22+F24 -> 1768187 | G25: =G22+G24 -> 1887327 | H25: =H22+H24 -> 1921800 | I25: =I22+I24 -> 1914000 | J25: =J22+J24 -> 2024000
A27: Kapitálové príjmy | C27: KÓD | D27: Skut.plnenie r. 2020 | E27: Skut.plnenie r. 2021 | F27: Rozpočet rok 2022 | G27: Očakávaná skutočnosť rok 2022 | H27: Rozpočet rok 2023 | I27: Rozpočet rok 2024 | J27: Rozpočet rok 2025
C28: ZDROJA | D28: v EUR | F28: v EUR | G28: v EUR | H28: v EUR | I28: v EUR | J28: v EUR
A29: 200 | B29: Nedaňové príjmy-príjmy z podnikania a z vlastn.maj. | D29: =[1]príjmy!D126 -> 6160 | E29: =[1]príjmy!E126 -> 0 | F29: =[1]príjmy!F126 -> 34 | G29: =[1]príjmy!G126 -> 440 | H29: =[1]príjmy!H126 -> 0 | I29: =[1]príjmy!I126 -> 0 | J29: =[1]príjmy!J126 -> 0
A30: 230 | B30: Kapitálové príjmy | D30: =[1]príjmy!D127 -> 6160 | E30: =[1]príjmy!E127 -> 0 | F30: =[1]príjmy!F127 -> 34 | G30: =[1]príjmy!G127 -> 440 | H30: =[1]príjmy!H127 -> 0 | I30: =[1]príjmy!I127 -> 0 | J30: =[1]príjmy!J127 -> 0
A31: 300 | B31: Granty a transfery | D31: =[1]príjmy!D130 -> 0 | E31: =[1]príjmy!E130 -> 0 | F31: =[1]príjmy!F130 -> 0 | G31: =[1]príjmy!G130 -> 194170 | H31: =[1]príjmy!H130 -> 46740 | I31: =[1]príjmy!I130 -> 0 | J31: =[1]príjmy!J130 -> 0
A32: 320 | B32: Tuzemské kapitálové granty a transfery | D32: =[1]príjmy!D131 -> 0 | E32: =[1]príjmy!E131 -> 0 | F32: =[1]príjmy!F131 -> 0 | G32: =[1]príjmy!G131 -> 194170 | H32: =[1]príjmy!H131 -> 46740 | I32: =[1]príjmy!I131 -> 0 | J32: =[1]príjmy!J131 -> 0
A33: 330 | B33: Zahraničné granty | D33: 0 | E33: 0 | F33: 0 | G33: 0 | H33: 0 | I33: 0 | J33: 0
A34: Kapitálové príjmy spolu: | D34: =D29+D31 -> 6160 | E34: =E29+E31 -> 0 | F34: =F29+F31 -> 34 | G34: =G29+G31 -> 194610 | H34: =H29+H31 -> 46740 | I34: =I29+I31 -> 0 | J34: =J29+J31 -> 0
A36: Finančné operácie - príjmy | C36: KÓD | D36: Skut.plnenie r. 2020 | E36: Skut.plnenie r. 2021 | F36: Rozpočet rok 2022 | G36: Očakávaná skutočnosť rok 2022 | H36: Rozpočet rok 2023 | I36: Rozpočet rok 2024 | J36: Rozpočet rok 2025
C37: ZDROJA | D37: v EUR | F37: v EUR | H37: v EUR | I37: v EUR | J37: v EUR
A38: 400 | B38: Príjmy zo sprlác.úver.a pôžičiekk a z pred.maj.úč. | D38: =D39 -> 50255 | E38: =E39 -> 114566 | F38: =F39 -> 143713 | G38: =G39 -> 298971 | H38: =H39 -> 182460 | I38: =I39 -> 0 | J38: =J39 -> 0
A39: 450 | B39: Tuzemské kapitálové granty a transfery | D39: =[1]príjmy!D143 -> 50255 | E39: =[1]príjmy!E143 -> 114566 | F39: =[1]príjmy!F143 -> 143713 | G39: =[1]príjmy!G143 -> 298971 | H39: =[1]príjmy!H143 -> 182460 | I39: =[1]príjmy!I143 -> 0 | J39: =[1]príjmy!J143 -> 0
A40: 500 | B40: Prijaté úvery a výpojoci | D40: =[1]príjmy!D170 -> 41601 | E40: =[1]príjmy!E170 -> 0 | F40: =[1]príjmy!F170 -> 0 | G40: =[1]príjmy!G170 -> 0 | H40: =[1]príjmy!H170 -> 0 | I40: =[1]príjmy!I170 -> 0 | J40: =[1]príjmy!J170 -> 0
A41: 510 | B41: Tuzemské úvery | C41: 52 | D41: =[1]príjmy!D172 -> 0 | E41: =[1]príjmy!E172 -> 0 | F41: =[1]príjmy!F172 -> 0 | G41: =[1]príjmy!G172 -> 0 | H41: =[1]príjmy!H172 -> 0 | I41: =[1]príjmy!I172 -> 0 | J41: =[1]príjmy!J172 -> 0
A42: 514 | B42: Návratné finančné výpomoci | C42: 45 | D42: =[1]príjmy!D174 -> 41601 | E42: =[1]príjmy!E174 -> 0 | F42: =[1]príjmy!F174 -> 0 | G42: =[1]príjmy!G174 -> 0 | H42: =[1]príjmy!H174 -> 0 | I42: =[1]príjmy!I174 -> 0 | J42: =[1]príjmy!J174 -> 0
A43: Finančné operácie - príjmové spolu: | D43: =D38+D40 -> 91856 | E43: =E38+E40 -> 114566 | F43: =F38+F40 -> 143713 | G43: =G38+G40 -> 298971 | H43: =H38+H40 -> 182460 | I43: =I38+I40 -> 0 | J43: =J38+J40 -> 0
A46: Bežné príjmy | D46: =D25 -> 1754392 | E46: =E25 -> 1916768 | F46: =F25 -> 1768187 | G46: =G25 -> 1887327 | H46: =H25 -> 1921800 | I46: =I25 -> 1914000 | J46: =J25 -> 2024000
A47: Kapitálové príjmy | D47: =D34 -> 6160 | E47: =E34 -> 0 | F47: =F34 -> 34 | G47: =G34 -> 194610 | H47: =H34 -> 46740 | I47: =I34 -> 0 | J47: =J34 -> 0
A48: Príjmové finančné operácie | D48: =D38 -> 50255 | E48: =E38 -> 114566 | F48: =F38 -> 143713 | G48: =G38 -> 298971 | H48: =H38 -> 182460 | I48: =I38 -> 0 | J48: =J38 -> 0
A49: Prijaté úvery a výpomoci | D49: =D40 -> 41601 | E49: =E40 -> 0 | F49: =F40 -> 0 | G49: =G40 -> 0 | H49: =H40 -> 0 | I49: =I40 -> 0 | J49: =J40 -> 0
A50: PRÍJMY SPOLU | D50: =D48+D47+D46+D49 -> 1852408 | E50: =E48+E47+E46+E49 -> 2031334 | F50: =F48+F47+F46+F49 -> 1911934 | G50: =G48+G47+G46+G49 -> 2380908 | H50: =H48+H47+H46+H49 -> 2151000 | I50: =I48+I47+I46+I49 -> 1914000 | J50: =J48+J47+J46+J49 -> 2024000

Sheet Program 1
B2: PROGRAM 1: PLÁNOVANIE, MANAŽMENT A KONTROLA
G4: Skutočné plnenie r.2020 | I4: Skutočné plnenie r.2021 | K4: Rozpočet 2022 | M4: Očakáv.skutočn. 2022 | O4: Rozpočet 2023 | Q4: Rozpočet 2024 | S4: Rozpočet 2025
G5: Bežné výdavky | H5: Kapitálové výdavky | I5: Bežné výdavky | J5: Kapitálové výdavky | K5: Bežné výdavky | L5: Kapitálové výdavky | M5: Bežné výdavky | N5: Kapitálové výdavky | O5: Bežné výdavky | P5: Kapitál. výdavky | Q5: Bežné výdavky | R5: Kapitálové výdavky | S5: Bežné výdavky | T5: Kapitálové výdavky
B6: Akti- | C6: funkčná
B7: vita | C7: klasifik. | E7: ukazovateľ
F8: KÓD ZDROJA
B9: PROGRAM 1: Plánovanie, manažment a kontrola | G9: =G10+G21+G29+G32+G35+G24+G42 -> 278727 | H9: =H10+H21+H29+H32+H35+H24+H42 -> 3 | I9: =I10+I21+I29+I32+I35+I24+I42 -> 297952 | J9: =J10+J21+J29+J32+J35+J24+J42 -> 0 | K9: =K10+K21+K29+K32+K35+K24+K42 -> 397911 | L9: =L10+L21+L29+L32+L35+L24+L42 -> 0 | M9: =M10+M21+M29+M32+M35+M24+M42 -> 398733 | N9: =N10+N21+N29+N32+N35+N24+N42 -> 0 | O9: =O10+O21+O29+O32+O35+O24+O42 -> 465373 | P9: =P10+P21+P29+P32+P35+P24+P42+P38 -> 100000 | Q9: =Q10+Q21+Q29+Q32+Q35+Q24+Q42+Q38 -> 450773 | R9: =R10+R21+R29+R32+R35+R24+R42+R38 -> 0 | S9: =S10+S21+S29+S32+S35+S24+S42+S38 -> 450173 | T9: =T10+T21+T29+T32+T35+T24+T42+T38 -> 0
B10: 1 | C10: Činnosť obecného úradu | G10: =G11 -> 270884 | H10: =H11 -> 3 | I10: =I11 -> 285908 | J10: =J11 -> 0 | K10: =K11 -> 385811 | L10: =L11 -> 0 | M10: =M11 -> 388706 | N10: =N11 -> 0 | ... T10: =T11 -> 0
C11: 01.1.1 | D11: Obce | G11: =G12+G14+G16+G15+G13+G18+G19 -> 270884 | H11: =H12+H14+H16+H15+H13+H18+H19 -> 3 | I11: =I12+I14+I16+I15+I13+I18+I19 -> 285908 | J11: =J12+J14+J16+J15+J13+J18+J19 -> 0 | K11: =K12+K14+K16+K15+K13+K18+K19 -> 385811 | L11: =L12+L14+L16+L15+L13+L18+L19 -> 0 | M11: =M12+M14+M16+M15+M13+M18+M19 -> 388706 | N11: =N12+N14+N16+N15+N13+N18+N19 -> 0 | O11: 453573 | P11: =P12+P14+P16+P15+P13+P18+P19 -> 100000 | Q11: =Q12+Q14+Q16+Q15+Q13+Q18+Q19 -> 428573 | R11: =R12+R14+R16+R15+R13+R18+R19 -> 0 | S11: =S12+S14+S16+S15+S13+S18+S19 -> 428573
D12: 610 | E12: Mzdy, platy a ostatné osobné vyrovnania | F12: 41 | G12: 142656 | H12: 0 | I12: 152610 | J12: 0 | K12: 218800 | L12: 0 | M12: 210000 | N12: 0 | O12: 220000 | P12: 0 | Q12: 215000 | R12: 0 | S12: 215000
D13: 610 | E13: Mzdy, platy a ost.os. Vyr/Dorovnanie kódov | F13: 1AC | G13: 2323 | H13: 0 | I13: 0 | J13: 0 | K13: 0 | L13: 0 | M13: 2691 | N13: 0 | O13: 0 | P13: 0 | Q13: 0 | R13: 0 | S13: 0 | T13: 0
D14: 620 | E14: Poistné a príspevok do poisťovní | F14: 41 | G14: 56335 | H14: 0 | I14: 58311 | J14: 0 | K14: 78950 | L14: 0 | M14: 70000 | N14: 0 | O14: 82000 | P14: 0 | Q14: 82000 | R14: 0 | S14: 82000 | T14: 0
D15: 620 | E15: Poistné a príspevok do poisťovní/Dor.kódov | F15: 1AC | G15: 0 | H15: 0 | I15: 0 | J15: 0 | K15: 0 | L15: 0 | M15: 0 | N15: 0 | O15: 0 | P15: 0 | Q15: 0 | R15: 0 | S15: 0 | T15: 0
D16: 630 | E16: Tovary a služby | F16: 41 | G16: 69438 | H16: 0 | I16: 74069 | J16: 0 | K16: 69961 | L16: 0 | M16: 84000 | N16: 0 | O16: 100573 | P16: 0 | Q16: 130573 | R16: 0 | S16: 130573 | T16: 0
D17: 630 | E17: Tovary a služby/Rez.fond | F17: 46 | G17: 0 | H17: 0 | I17: 0 | J17: 0 | K17: 0 | L17: 0 | M17: 0 | N17: 0 | O17: 50000 | P17: 0 | Q17: 0
D18: 640 | E18: Príspevky/Náhrada PN+odch,odstupné | F18: 41 | G18: 132 | H18: 0 | I18: 918 | J18: 0 | K18: 18100 | L18: 0 | M18: 22000 | N18: 0 | O18: 1000 | P18: 0 | Q18: 1000 | R18: 0 | S18: 1000 | T18: 0
D19: 710 | E19: Kapitálové aktíva-investície | F19: 43.46 | G19: 0 | H19: 3 | I19: 0 | J19: 0 | K19: 0 | L19: 0 | M19: 15 | N19: 0 | O19: 0 | P19: 100000 | Q19: 0 | R19: 0 | S19: 0 | T19: 0
D20: 819 | E20: Poplatok IOM | F20: 71 | G20: 0 | H20: 0 | I20: 6 | J20: 0 | K20: 0 | L20: 0 | M20: 2 | N20: 0 | O20: 0 | P20: 0 | Q20: 0 | R20: 0 | S20: 0 | T20: 0
B21: 2 | C21: Členstvo v organizáciach a združeniach | G21: =G22 -> 4987 | H21: =H22 -> 0 | I21: =I22 -> 8511 | J21: =J22 -> 0 | K21: =K22 -> 8000 | L21: =L22 -> 0 | M21: =M22 -> 7000 | N21: =N22 -> 0 | ... T21: =T22 -> 0
C22: 08.4.0. | D22: Náboženské a iné spoločenské služby | G22: =G23 -> 4987 | H22: =H23 -> 0 | I22: =I23 -> 8511 | J22: =J23 -> 0 | K22: =K23 -> 8000 | L22: =L23 -> 0 | M22: =M23 -> 7000 | N22: =N23 -> 0 | ... T22: =T23 -> 0
D23: 640 | E23: Bežné transfery/Členské ZMOS, ZMOBO,... | F23: 41 | G23: 4987 | H23: 0 | I23: 8511 | J23: 0 | K23: 8000 | L23: 0 | M23: 7000 | N23: 0 | O23: 8000 | P23: 0 | Q23: 8000 | R23: 0 | S23: 8000 | T23: 0
B24: 3 | C24: Vnútorná kontrola | G24: =G25 -> 815 | H24: =H25 -> 0 | I24: =I25 -> 731 | J24: =J25 -> 0 | K24: =K25 -> 1300 | L24: =L25 -> 0 | M24: =M25 -> 787 | N24: =N25 -> 0 | ... T24: =T25 -> 0
C25: 01.1.2. | D25: Obce | G25: =G26+G27+G28 -> 815 | H25: =H26+H27+H28 -> 0 | I25: =I26+I27+I28 -> 731 | J25: =J26+J27+J28 -> 0 | K25: =K26+K27+K28 -> 1300 | L25: =L26+L27+L28 -> 0 | M25: =M26+M27+M28 -> 787 | N25: =N26+N27+N28 -> 0 | ... T25: =T26+T27+T28 -> 0
D26: 610 | E26: Mzdy, platy a ostatné osobné vyrovnania | F26: 41 | G26: 620 | H26: 0 | I26: 565 | J26: 0 | K26: 960 | L26: 0 | M26: 575 | N26: 0 | O26: 960 | P26: 0 | Q26: 960 | R26: 0 | S26: 960 | T26: 0
D27: 620 | E27: Poistné a príspevok do poisťovní | F27: 41 | G27: 195 | H27: 0 | I27: 166 | J27: 0 | K27: 340 | L27: 0 | M27: 202 | N27: 0 | O27: 340 | P27: 0 | Q27: 340 | R27: 0 | S27: 340 | T27: 0
D28: 640 | E28: Príspevky/Náhrada PN | F28: 41 | G28: 0 | H28: 0 | I28: 0 | J28: 0 | K28: 0 | L28: 0 | M28: 10 | N28: 0 | O28: 0 | P28: 0 | Q28: 0 | R28: 0 | S28: 0 | T28: 0
B29: 4 | C29: Audit | G29: =G30 -> 0 | H29: =H30 -> 0 | I29: =I30 -> 1140 | J29: =J30 -> 0 | K29: =K30 -> 1200 | L29: =L30 -> 0 | M29: =M30 -> 1140 | N29: =N30 -> 0 | ... T29: =T30 -> 0
C30: 01.1.2. | D30: Finančná a rozpočtová oblasť - audit | G30: =G31 -> 0 | H30: =H31 -> 0 | I30: =I31 -> 1140 | J30: =J31 -> 0 | K30: =K31 -> 1200 | L30: =L31 -> 0 | M30: =M31 -> 1140 | N30: =N31 -> 0 | ... T30: =T31 -> 0
D31: 630 | E31: Tovary a služby | F31: 41 | G31: 0 | H31: 0 | I31: 1140 | J31: 0 | K31: 1200 | L31: 0 | M31: 1140 | N31: 0 | O31: 1200 | P31: 0 | Q31: 1200 | R31: 0 | S31: 1200 | T31: 0
B32: 5 | C32: Bankové poplatky | G32: =G33 -> 781 | H32: =H33 -> 0 | I32: =I33 -> 761 | J32: =J33 -> 0 | K32: =K33 -> 700 | L32: =L33 -> 0 | M32: =M33 -> 500 | N32: =N33 -> 0 | ... T32: =T33 -> 0
C33: 01.1.2. | D33: Poplatky banke | G33: =G34 -> 781 | H33: =H34 -> 0 | I33: =I34 -> 761 | J33: =J34 -> 0 | K33: =K34 -> 700 | L33: =L34 -> 0 | M33: =M34 -> 500 | N33: =N34 -> 0 | ... T33: =T34 -> 0
D34: 630 | E34: Tovary a služby | F34: 41 | G34: 781 | H34: 0 | I34: 761 | J34: 0 | K34: 700 | L34: 0 | M34: 500 | N34: 0 | O34: 700 | P34: 0 | Q34: 700 | R34: 0 | S34: 700 | T34: 0
B35: 6 | C35: Splátka úrokov z úveru | G35: =G36 -> 1260 | H35: =H36 -> 0 | I35: =I36 -> 901 | J35: =J36 -> 0 | K35: =K36 -> 900 | L35: =L36 -> 0 | M35: =M36 -> 600 | N35: =N36 -> 0 | ... T35: =T36 -> 0
C36: 01.7.0 | D36: Splátka úrokov | G36: =G37 -> 1260 | H36: =H37 -> 0 | I36: =I37 -> 901 | J36: =J37 -> 0 | K36: =K37 -> 900 | L36: =L37 -> 0 | M36: =M37 -> 600 | N36: =N37 -> 0 | ... T36: =T37 -> 0
D37: 650 | E37: Služby/Splátka úrokov | F37: 41 | G37: 1260 | H37: 0 | I37: 901 | J37: 0 | K37: 900 | L37: 0 | M37: 600 | N37: 0 | O37: 600 | P37: 0 | Q37: 600 | R37: 0 | S37: 0 | T37: 0
B38: 7 | C38: Splátka návratnej finančnej pomoci | G38: =G39 -> 0 | H38: =H39 -> 0 | I38: =I39 -> 0 | J38: =J39 -> 0 | K38: =K39 -> 0 | L38: =L39 -> 0 | M38: =M39 -> 0 | N38: =N39 -> 0 | ... T38: =T39 -> 0
C39: 01.7.0 | D39: Splátka návratnej finančnej pomoci | G39: =G40 -> 0 | H39: =H40 -> 0 | I39: =I40 -> 0 | J39: =J40 -> 0 | K39: =K40 -> 0 | L39: =L40 -> 0 | M39: =M40 -> 0 | N39: =N40 -> 0 | ... T39: =T40 -> 0
D40: 820 | E40: Splátka návratnej finančnej pomoci | F40: 41 | G40: 0 | H40: 0 | I40: 0 | J40: 0 | K40: 0 | L40: 0 | M40: 0 | N40: 0 | O40: 0 | P40: 0 | Q40: 10400 | R40: 0 | S40: 10400 | T40: 0

Sheet Program 2
B1: PROGRAM 2: PROPAGÁCIA A PREZENTÁCIA OBCE
G3: Skutočné plnenie r.2020 | I3: Skutočné plnenie r.2021 | K3: Rozpočet 2022 | M3: Očakáv.skutočn. 2022 | O3: Rozpočet 2023 | Q3: Rozpočet 2024 | S3: Rozpočet 2025
G4: Bežné výdavky | H4: Kapitálové výdavky | I4: Bežné výdavky | J4: Kapitálové výdavky | K4: Bežné výdavky | L4: Kapitálové výdavky | M4: Bežné výdavky | N4: Kapitálové výdavky | O4: Bežné výdavky | P4: Kapitál. výdavky | Q4: Bežné výdavky | R4: Kapitálové výdavky | S4: Bežné výdavky | T4: Kapitálové výdavky
B5: Akti- | C5: funkčná
B6: vita | C6: klasifik. | E6: ukazovateľ
F7: KÓD ZDROJA
B8: PROGRAM 2: Propagácia a prezentácia obce | G8: =G9 -> 3754 | H8: =H9 -> 0 | I8: =I9 -> 4669 | J8: =J9 -> 0 | K8: =K9 -> 5000 | L8: =L9 -> 0 | M8: =M9 -> 4000 | N8: =N9 -> 0 | ... T8: =T9 -> 0
B9: 1 | C9: Propagácia a prezentácia obce | G9: =G10 -> 3754 | H9: =H10 -> 0 | I9: =I10 -> 4669 | J9: =J10 -> 0 | K9: =K10 -> 5000 | L9: =L10 -> 0 | M9: =M10 -> 4000 | N9: =N10 -> 0 | ... T9: =T10 -> 0
C10: 01.1.1 | D10: Obce | G10: =G11 -> 3754 | H10: =H11 -> 0 | I10: =I11 -> 4669 | J10: =J11 -> 0 | K10: =K11 -> 5000 | L10: =L11 -> 0 | M10: =M11 -> 4000 | N10: =N11 -> 0 | ... T10: =T11 -> 0
D11: 630 | E11: Tovary a služby | F11: 41 | G11: 3754 | H11: 0 | I11: 4669 | J11: 0 | K11: 5000 | L11: 0 | M11: 4000 | N11: 0 | O11: 5000 | P11: 0 | Q11: 5000 | R11: 0 | S11: 5000 | T11: 0

Sheet Program 3
B1: PROGRAM 3: INTERNÉ SLUŽBY OBCE
G3: Skutočné plnenie r.2020 | I3: Skutočné plnenie r.2021 | K3: Rozpočet 2022 | M3: Očakáv.skutočn. 2022 | O3: Rozpočet 2023 | Q3: Rozpočet 2024 | S3: Rozpočet 2025
G4: Bežné výdavky | H4: Kapitálové výdavky | I4: Bežné výdavky | J4: Kapitálové výdavky | K4: Bežné výdavky | L4: Kapitálové výdavky | M4: Bežné výdavky | N4: Kapitálové výdavky | O4: Bežné výdavky | P4: Kapitál. výdavky | Q4: Bežné výdavky | R4: Kapitálové výdavky | S4: Bežné výdavky | T4: Kapitálové výdavky
B5: Akti- | C5: funkčná
B6: vita | C6: klasifik. | E6: ukazovateľ
F7: KÓD ZDROJA
B8: PROGRAM 3: Interné služby obce | G8: =G9+G13+G18+G21+G26 -> 6791 | H8: =H9+H13+H18+H21+H26 -> 0 | I8: =I9+I13+I18+I21+I26 -> 41751 | J8: =J9+J13+J18+J21+J26 -> 0 | K8: =K9+K13+K18+K21+K26 -> 32500 | L8: =L9+L13+L18+L21+L26 -> 0 | M8: =M9+M13+M18+M21+M26 -> 15087 | N8: =N9+N13+N18+N21+N26 -> 0 | ... T8: =T9+T13+T18+T21+T26 -> 0
B9: 1 | C9: Činnosť volených orgánov samosprávy | G9: =G10 -> 2403 | H9: =H10 -> 0 | I9: =I10 -> 4685 | J9: =J10 -> 0 | K9: =K10 -> 6100 | L9: =L10 -> 0 | M9: =M10 -> 6100 | N9: =N10 -> 0 | ... T9: =T10 -> 0
C10: 01.1.1 | D10: Obce | G10: =G11+G12 -> 2403 | H10: =H11+H12 -> 0 | I10: =I11+I12 -> 4685 | J10: =J11+J12 -> 0 | K10: =K11+K12 -> 6100 | L10: =L11+L12 -> 0 | M10: =M11+M12 -> 6100 | N10: =N11+N12 -> 0 | ... T10: =T11+T12 -> 0
D11: 620 | E11: Poistné a príspevok do poisťovní | F11: 41 | G11: 65 | H11: 0 | I11: 716 | J11: 0 | K11: 1600 | L11: 0 | M11: 1600 | N11: 0 | O11: 1600 | P11: 0 | Q11: 1600 | R11: 0 | S11: 1600 | T11: 0
D12: 630 | E12: Tovary a služby | F12: 41 | G12: 2338 | H12: 0 | I12: 3969 | J12: 0 | K12: 4500 | L12: 0 | M12: 4500 | N12: 0 | O12: 4500 | P12: 0 | Q12: 4500 | R12: 0 | S12: 4500 | T12: 0
B13: 2 | C13: Plánovanie obce | G13: =G14 -> 1650 | H13: =H14 -> 0 | I13: =I14 -> 29663 | J13: =J14 -> 0 | K13: =K14 -> 25000 | L13: =L14 -> 0 | M13: =M14 -> 6000 | N13: =N14 -> 0 | ... T13: =T14 -> 0
C14: 01.1.1 | D14: Obce/Pojekty | G14: =G15+G16+G17 -> 1650 | H14: =H15+H16+H17 -> 0 | I14: =I15+I16+I17 -> 29663 | J14: =J15+J16+J17 -> 0 | K14: =K15+K16+K17 -> 25000 | L14: =L15+L16+L17 -> 0 | M14: =M15+M16+M17 -> 6000 | N14: =N15+N16+N17 -> 0 | ... T14: =T15+T16+T17 -> 0
D15: 630 | E15: Tovary a služby | F15: 41 | G15: 1650 | H15: 0 | I15: 17663 | J15: 0 | K15: 25000 | L15: 0 | M15: 6000 | N15: 0 | O15: 25000 | P15: 0 | Q15: 25000 | R15: 0 | S15: 25000 | T15: 0
D16: 710 | E16: Realizácia kapitálových aktív | F16: 41 | G16: 0 | H16: 0 | I16: 0 | J16: 0 | K16: 0 | L16: 0 | M16: 0 | N16: 0 | O16: 0 | P16: 0 | Q16: 0 | R16: 0 | S16: 0 | T16: 0
D17: 819 | E17: Vrátené finančné zábezpeky | F17: 71 | G17: 0 | H17: 0 | I17: 12000 | J17: 0 | K17: 0 | L17: 0 | M17: 0 | N17: 0 | O17: 0 | P17: 0 | Q17: 0 | R17: 0 | S17: 0 | T17: 0
B18: 4 | C18: Vzdelávanie zamestnancov obecného úradu | G18: =G19 -> 129 | H18: =H19 -> 0 | I18: =I19 -> 899 | J18: =J19 -> 0 | K18: =K19 -> 1400 | L18: =L19 -> 0 | M18: =M19 -> 1300 | N18: =N19 -> 0 | ... T18: =T19 -> 0
C19: 09.8.0 | D19: Vzdelávanie | G19: =G20 -> 129 | H19: =H20 -> 0 | I19: =I20 -> 899 | J19: =J20 -> 0 | K19: =K20 -> 1400 | L19: =L20 -> 0 | M19: =M20 -> 1300 | N19: =N20 -> 0 | ... T19: =T20 -> 0
D20: 630 | E20: Tovary a služby | F20: 41 | G20: 129 | H20: 0 | I20: 899 | J20: 0 | K20: 1400 | L20: 0 | M20: 1300 | N20: 0 | O20: 1400 | P20: 0 | Q20: 1400 | R20: 0 | S20: 1400 | T20: 0
B21: 5 | C21: Voľby | G21: =G22 -> 1200 | H21: =H22 -> 0 | I21: =I22 -> 0 | J21: =J22 -> 0 | K21: =K22 -> 0 | L21: =L22 -> 0 | M21: =M22 -> 1687 | N21: =N22 -> 0 | ... T21: =T22 -> 0
C22: 01.6.0 | D22: Voľby | G22: =G23+G24+G25 -> 1200 | H22: =H23+H24+H25 -> 0 | I22: =I23+I24+I25 -> 0 | J22: =J23+J24+J25 -> 0 | K22: =K23+K24+K25 -> 0 | L22: =L23+L24+L25 -> 0 | M22: =M23+M24+M25 -> 1687 | N22: =N23+N24+N25 -> 0 | ... T22: =T23+T24+T25 -> 0
D23: 610 | E23: Mzdy, platy a ostatné osobné vyrovnania | F23: 111 | G23: 90 | H23: 0 | I23: 0 | J23: 0 | K23: 0 | L23: 0 | M23: 60 | N23: 0 | O23: 0 | P23: 0 | Q23: 0 | R23: 0 | S23: 0 | T23: 0
D24: 620 | E24: Poistné a príspevok do poisťovní | F24: 111 | G24: 32 | H24: 0 | I24: 0 | J24: 0 | K24: 0 | L24: 0 | M24: 31 | N24: 0 | O24: 0 | P24: 0 | Q24: 0 | R24: 0 | S24: 0 | T24: 0
D25: 630 | E25: Tovary a služby | F25: 111 | G25: 1078 | H25: 0 | I25: 0 | J25: 0 | K25: 0 | L25: 0 | M25: 1596 | N25: 0 | O25: 0 | P25: 0 | Q25: 0 | R25: 0 | S25: 0 | T25: 0
B26: 6 | C26: Sčítanie | G26: =G27 -> 1409 | H26: =H27 -> 0 | I26: =I27 -> 6504 | J26: =J27 -> 0 | K26: =K27 -> 0 | L26: =L27 -> 0 | M26: =M27 -> 0 | N26: =N27 -> 0 | ... T26: =T27 -> 0
C27: 01.3.2 | D27: Sčítanie | G27: =G28+G29+G30 -> 1409 | H27: =H28+H29+H30 -> 0 | I27: =I28+I29+I30 -> 6504 | J27: =J28+J29+J30 -> 0 | K27: =K28+K29+K30 -> 0 | L27: =L28+L29+L30 -> 0 | M27: =M28+M29+M30 -> 0 | N27: =N28+N29+N30 -> 0 | ... T27: =T28+T29+T30 -> 0
D28: 610 | E28: Mzdy, platy a ostatné osobné vyrovnania | F28: 111 | G28: 0 | H28: 0 | I28: 1540 | J28: 0 | K28: 0 | L28: 0 | M28: 0 | N28: 0 | O28: 0 | P28: 0 | Q28: 0 | R28: 0 | S28: 0 | T28: 0
D29: 620 | E29: Poistné a príspevok do poisťovní | F29: 111 | G29: 0 | H29: 0 | I29: 978 | J29: 0 | K29: 0 | L29: 0 | M29: 0 | N29: 0 | O29: 0 | P29: 0 | Q29: 0 | R29: 0 | S29: 0 | T29: 0
D30: 630 | E30: Tovary a služby | F30: 111 | G30: 1409 | H30: 0 | I30: 3986 | J30: 0 | K30: 0 | L30: 0 | M30: 0 | N30: 0 | O30: 0 | P30: 0 | Q30: 0 | R30: 0 | S30: 0 | T30: 0

Sheet Program 4
B1: PROGRAM 4: SLUŽBY OBČANOM
G3: Skutočné plnenie r.2020 | I3: Skutočné plnenie r.2021 | K3: Rozpočet 2022 | M3: Očakáv.skutočn. 2022 | O3: Rozpočet 2023 | Q3: Rozpočet 2024 | S3: Rozpočet 2025
G4: Bežné výdavky | H4: Kapitálové výdavky | I4: Bežné výdavky | J4: Kapitálové výdavky | K4: Bežné výdavky | L4: Kapitálové výdavky | M4: Bežné výdavky | N4: Kapitálové výdavky | O4: Bežné výdavky | P4: Kapitál. výdavky | Q4: Bežné výdavky | R4: Kapitálové výdavky | S4: Bežné výdavky | T4: Kapitálové výdavky
B5: Akti- | C5: funkčná | D5: ekonomická klasifikácia
B6: vita | C6: klasifik. | E6: ukazovateľ | F6: KÓD ZDROJA
B7: PROGRAM 4: Služby občanom | G7: =G8+G13+G26+G31+G35+G43+G46+G49+G54+G57+G66+G77+G84+G90+G72++G95+G99+G111+G102+G116+G129+G119+G124+G107+G132 -> 166631 | H7: =H8+H13+H26+H31+H35+H43+H46+H49+H54+H57+H66+H77+H84+H90+H72++H95+H99+H111+H102+H116+H129+H119+H124+H107+H132 -> 11784 | I7: =I8+I13+I26+I31+I35+I43+I46+I49+I54+I57+I66+I77+I84+I90+I72++I95+I99+I111+I102+I116+I129+I119+I124+I107+I132 -> 203808 | J7: =J8+J13+J26+J31+J35+J43+J46+J49+J54+J57+J66+J77+J84+J90+J72++J95+J99+J111+J102+J116+J129+J119+J124+J107+J132 -> 130342 | K7: =K8+K13+K26+K31+K35+K43+K46+K49+K54+K57+K66+K77+K84+K90+K72++K95+K99+K111+K102+K116+K129+K119+K124+K107+K132 -> 207688 | L7: =L8+L13+L26+L31+L35+L43+L46+L49+L54+L57+L66+L77+L84+L90+L72++L95+L99+L111+L102+L116+L129+L119+L124+L107+L132 -> 141713 | M7: =M8+M13+M26+M31+M35+M43+M46+M49+M54+M57+M66+M77+M84+M90+M72++M95+M99+M111+M102+M116+M129+M119+M124+M107+M132 -> 261611 | N7: =N8+N13+N26+N31+N35+N43+N46+N49+N54+N57+N66+N77+N84+N90+N72++N95+N99+N111+N102+N116+N129+N119+N124+N107+N132 -> 380882 | ... T7: =T8+T13+T26+T31+T35+T43+T46+T49+T54+T57+T66+T77+T84+T90+T72++T95+T99+T111+T102+T116+T129+T119+T124+T107+T132 -> 0
B8: 1 | C8: Činnosť matriky | G8: =G9 -> 4018 | H8: =H9 -> 0 | I8: =I9 -> 4151 | J8: =J9 -> 0 | K8: =K9 -> 4042 | L8: =L9 -> 0 | M8: =M9 -> 4042 | N8: =N9 -> 0 | ... T8: =T9 -> 0
C9: 01.3.3. | D9: Iné všeobecné služby - matrika | G9: =G10+G11+G12 -> 4018 | H9: =H10+H11+H12 -> 0 | I9: =I10+I11+I12 -> 4151 | J9: =J10+J11+J12 -> 0 | K9: =K10+K11+K12 -> 4042 | L9: =L10+L11+L12 -> 0 | M9: =M10+M11+M12 -> 4042 | N9: =N10+N11+N12 -> 0 | ... T9: =T10+T11+T12 -> 0
D10: 610 | E10: Mzdy, platy a ostatné osobné vyrovnania | F10: 111 | G10: 2610 | H10: 0 | I10: 2621 | J10: 0 | K10: 2424 | L10: 0 | M10: 2424 | N10: 0 | O10: 2424 | P10: 0 | Q10: 2424 | R10: 0 | S10: 2424 | T10: 0
D11: 620 | E11: Poistné a príspevok do poisťovní | F11: 111 | G11: 860 | H11: 0 | I11: 865 | J11: 0 | K11: 850 | L11: 0 | M11: 850 | N11: 0 | O11: 850 | P11: 0 | Q11: 850 | R11: 0 | S11: 850 | T11: 0
D12: 630 | E12: Tovary a služby | F12: 111 | G12: 548 | H12: 0 | I12: 665 | J12: 0 | K12: 768 | L12: 0 | M12: 768 | N12: 0 | O12: 768 | P12: 0 | Q12: 768 | R12: 0 | S12: 768 | T12: 0
B13: 2 | C13: Rozvoj obce+aktivačné práce | G13: =G14 -> 15506 | H13: =H14 -> 0 | I13: =I14 -> 20544 | J13: =J14 -> 0 | K13: =K14 -> 21380 | L13: =L14 -> 0 | M13: =M14 -> 1686 | N13: =N14 -> 0 | ... T13: =T14 -> 0
C14: 06.2.0 | D14: Aktivačné práce | G14: =G15+G16+G18+G17+G19+G20+G21+G22+G23+G24+G25 -> 15506 | H14: =H15+H16+H18+H17+H19+H20+H21+H22+H23+H24+H25 -> 0 | I14: =I15+I16+I18+I17+I19+I20+I21+I22+I23+I24+I25 -> 20544 | J14: =J15+J16+J18+J17+J19+J20+J21+J22+J23+J24+J25 -> 0 | K14: =K15+K16+K18+K17+K19+K20+K21+K22+K23+K24+K25 -> 21380 | L14: =L15+L16+L18+L17+L19+L20+L21+L22+L23+L24+L25 -> 0 | M14: =M15+M16+M18+M17+M19+M20+M21+M22+M23+M24+M25 -> 1686 | N14: =N15+N16+N18+N17+N19+N20+N21+N22+N23+N24+N25 -> 0 | ... T14: =T15+T16+T18+T17+T19+T20+T21+T22+T23+T24+T25 -> 0
D15: 610 | E15: Mzdy, platy a ostatné osobné vyrovnania | F15: 41 | G15: 10038 | H15: 0 | I15: 6612 | J15: 0 | K15: 15900 | L15: 0 | M15: 1240 | N15: 0 | O15: 0 | P15: 0 | Q15: 0 | R15: 0 | S15: 0 | T15: 0
D16: 620 | E16: Poistné a príspevok do poisťovní | F16: 41 | G16: 794 | H16: 0 | I16: 2500 | J16: 0 | K16: 5480 | L16: 0 | M16: 446 | N16: 0 | O16: 0 | P16: 0 | Q16: 0 | R16: 0 | S16: 0 | T16: 0
D17: 630 | E17: Tovary a služby | F17: 41 | G17: 1107 | H17: 0 | I17: 1511 | J17: 0 | K17: 0 | L17: 0 | M17: 0 | N17: 0 | O17: 0 | P17: 0 | Q17: 0 | R17: 0 | S17: 0 | T17: 0
D18: 640 | E18: Bežné transfery/PN-náhrady | F18: 41 | G18: 110 | H18: 0 | I18: 0 | J18: 0 | K18: 0 | L18: 0 | M18: 0 | N18: 0 | O18: 0 | P18: 0 | Q18: 0 | R18: 0 | S18: 0 | T18: 0
D19: 610 | E19: Mzdy, platy a ostatné osobné vyrovnania | F19: 1AC1 | G19: 0 | H19: 0 | I19: 847 | J19: 0 | K19: 0 | L19: 0 | M19: 0 | N19: 0 | O19: 0 | P19: 0 | Q19: 0 | R19: 0 | S19: 0 | T19: 0
D20: 620 | E20: Poistné a príspevok do poisťovní | F20: 1AC1 | G20: 2371 | H20: 0 | I20: 296 | J20: 0 | K20: 0 | L20: 0 | M20: 0 | N20: 0 | O20: 0 | P20: 0 | Q20: 0 | R20: 0 | S20: 0 | T20: 0
D21: 630 | E21: Tovary a služby | F21: 1AC1 | G21: 0 | H21: 0 | I21: 0 | J21: 0 | K21: 0 | L21: 0 | M21: 0 | N21: 0 | O21: 0 | P21: 0 | Q21: 0 | R21: 0 | S21: 0 | T21: 0
D22: 610 | E22: Mzdy, platy a ostatné osobné vyrovnania | F22: 1AC2 | G22: 0 | H22: 0 | I22: 150 | J22: 0 | K22: 0 | L22: 0 | M22: 0 | N22: 0 | O22: 0 | P22: 0 | Q22: 0 | R22: 0 | S22: 0 | T22: 0
D23: 620 | E23: Poistné a príspevok do poisťovní | F23: 1AC2 | G23: 418 | H23: 0 | I23: 52 | J23: 0 | K23: 0 | L23: 0 | M23: 0 | N23: 0 | O23: 0 | P23: 0 | Q23: 0 | R23: 0 | S23: 0 | T23: 0
D24: 610 | E24: Mzdy, platy a ostatné osobné vyrovnania | F24: 131K | G24: 0 | H24: 0 | I24: 6355 | J24: 0 | K24: 0 | L24: 0 | M24: 0 | N24: 0 | O24: 0 | P24: 0 | Q24: 0 | R24: 0 | S24: 0 | T24: 0
D25: 620 | E25: Poistné a príspevok do poisťovní | F25: 131K | G25: 668 | H25: 0 | I25: 2221 | J25: 0 | K25: 0 | L25: 0 | M25: 0 | N25: 0 | O25: 0 | P25: 0 | Q25: 0 | R25: 0 | S25: 0 | T25: 0
B26: 3 | C26: Evidencia obyvateľstva | G26: =G27 -> 668 | H26: =H27 -> 0 | I26: =I27 -> 673 | J26: =J27 -> 0 | K26: =K27 -> 668 | L26: =L27 -> 0 | M26: =M27 -> 672 | N26: =N27 -> 0 | ... T26: =T27 -> 0
C27: 01.1.1 | D27: Obce - hlásenie pobytu občanov a reg.obyv. | G27: =G28+G29+G30 -> 668 | H27: =H28+H29+H30 -> 0 | I27: =I28+I29+I30 -> 673 | J27: =J28+J29+J30 -> 0 | K27: =K28+K29+K30 -> 668 | L27: =L28+L29+L30 -> 0 | M27: =M28+M29+M30 -> 672 | N27: =N28+N29+N30 -> 0 | ... T27: =T28+T29+T30 -> 0
D28: 610 | E28: Mzdy, platy a ostatné osobné vyrovnania | F28: 111 | G28: 380 | H28: 0 | I28: 420 | J28: 0 | K28: 353 | L28: 0 | M28: 355 | N28: 0 | O28: 355 | P28: 0 | Q28: 355 | R28: 0 | S28: 355 | T28: 0
D29: 620 | E29: Poistné a príspevok do poisťovní | F29: 111 | G29: 125 | H29: 0 | I29: 138 | J29: 0 | K29: 122 | L29: 0 | M29: 124 | N29: 0 | O29: 124 | P29: 0 | Q29: 124 | R29: 0 | S29: 124 | T29: 0
D30: 630 | E30: Tovary a služby | F30: 111 | G30: 163 | H30: 0 | I30: 115 | J30: 0 | K30: 193 | L30: 0 | M30: 193 | N30: 0 | O30: 193 | P30: 0 | Q30: 193 | R30: 0 | S30: 193 | T30: 0
B31: 4 | C31: Cintorínske a pohrebné služby | G31: =G32 -> 3932 | H31: =H32 -> 0 | I31: =I32 -> 2578 | J31: =J32 -> 0 | K31: =K32 -> 2000 | L31: =L32 -> 0 | M31: =M32 -> 4500 | N31: =N32 -> 0 | ... T31: =T32 -> 0
C32: 08.4.0. | D32: Náboženské a iné spoločenské služby | G32: =G34+G33 -> 3932 | H32: =H34+H33 -> 0 | I32: =I34+I33 -> 2578 | J32: =J34+J33 -> 0 | K32: =K34+K33 -> 2000 | L32: =L34+L33 -> 0 | M32: =M34+M33 -> 4500 | N32: =N34+N33 -> 0 | ... T32: =T34+T33 -> 0
D33: 630 | E33: Tovary a služby | F33: 41 | G33: 3932 | H33: 0 | I33: 2578 | J33: 0 | K33: 2000 | L33: 0 | M33: 4500 | N33: 0 | O33: 4500 | P33: 0 | Q33: 4500 | R33: 0 | S33: 4500 | T33: 0
D34: 640 | E34: Bežné transfery | F34: 41 | G34: 0 | H34: 0 | I34: 0 | J34: 0 | K34: 0 | L34: 0 | M34: 0 | N34: 0 | O34: 0 | P34: 0 | Q34: 0 | R34: 0 | S34: 0 | T34: 0
B35: 5 | C35: Odpadové hospodárstvo | G35: =G36 -> 50237 | H35: =H36 -> 0 | I35: =I36 -> 77650 | J35: =J36 -> 0 | K35: =K36 -> 51120 | L35: =L36 -> 0 | M35: =M36 -> 132052 | N35: =N36 -> 0 | ... T35: =T36 -> 0
C36: 05.1.0 | D36: Vývoz odpadu, zneškodňovanie, uloženie | G36: =G37+G38+G39+G40+G42+G41 -> 50237 | H36: =H37+H38+H39+H40+H42+H41 -> 0 | I36: =I37+I38+I39+I40+I42+I41 -> 77650 | J36: =J37+J38+J39+J40+J42+J41 -> 0 | K36: =K37+K38+K39+K40+K42+K41 -> 51120 | L36: =L37+L38+L39+L40+L42+L41 -> 0 | M36: =M37+M38+M39+M40+M42+M41 -> 132052 | N36: =N37+N38+N39+N40+N42+N41 -> 0 | ... T36: =T37+T38+T39+T40+T42+T41 -> 0
D37: 630 | E37: Tovary a služby | F37: 41 | G37: 46173 | H37: 0 | I37: 47274 | J37: 0 | K37: 51120 | L37: 0 | M37: 70000 | N37: 0 | O37: 60000 | P37: 0 | Q37: 60000 | R37: 0 | S37: 60000 | T37: 0
D38: 640 | E38: Bežné transfery/Separovaný zber-príspev. | F38: 41 | G38: 4064 | H38: 0 | I38: 0 | J38: 0 | K38: 0 | L38: 0 | M38: 0 | N38: 0 | O38: 0 | P38: 0 | Q38: 0 | R38: 0 | S38: 0 | T38: 0
D39: 630 | E39: Nákup kompostérov-VZ | F39: 41 | G39: 0 | H39: 0 | I39: 0 | J39: 0 | K39: 0 | L39: 0 | M39: 2202 | N39: 0 | O39: 0 | P39: 0 | Q39: 0 | R39: 0 | S39: 0 | T39: 0
D40: 630 | E40: Nákup kompostérov - RF | F40: 46,131 L | G40: 0 | H40: 0 | I40: 28560 | J40: 0 | K40: 0 | L40: 0 | M40: 41838 | N40: 0 | O40: 0 | P40: 0 | Q40: 0 | R40: 0 | S40: 0 | T40: 0
D41: 630 | E41: Vrátka dotácie/kompostéry | F41: 131 L | G41: 0 | H41: 0 | I41: 0 | J41: 0 | K41: 0 | L41: 0 | M41: 18012 | N41: 0 | O41: 0 | P41: 0 | Q41: 0 | R41: 0 | S41: 0 | T41: 0
D42: 630 | E42: Materiál- Environment. Fond | F42: 45 | G42: 0 | H42: 0 | I42: 1816 | J42: 0 | K42: 0 | L42: 0 | M42: 0 | N42: 0 | O42: 0 | P42: 0 | Q42: 0 | R42: 0 | S42: 0 | T42: 0
B43: 6 | C43: Miestny rozhlas | G43: =G44 -> 316 | H43: =H44 -> 0 | I43: =I44 -> 1822 | J43: =J44 -> 0 | K43: =K44 -> 1000 | L43: =L44 -> 0 | M43: =M44 -> 150 | N43: =N44 -> 0 | ... T43: =T44 -> 0
C44: 08.3.0 | D44: Vysielacie a vydavateľské služby | G44: =G45 -> 316 | H44: =H45 -> 0 | I44: =I45 -> 1822 | J44: =J45 -> 0 | K44: =K45 -> 1000 | L44: =L45 -> 0 | M44: =M45 -> 150 | N44: =N45 -> 0 | ... T44: =T45 -> 0
D45: 630 | E45: Tovary a služby | F45: 41 | G45: 316 | H45: 0 | I45: 1822 | J45: 0 | K45: 1000 | L45: 0 | M45: 150 | N45: 0 | O45: 1000 | P45: 0 | Q45: 1000 | R45: 0 | S45: 1000 | T45: 0
B46: 7 | C46: Verejné osvetlenie | G46: =G47 -> 9861 | H46: =H47 -> 0 | I46: =I47 -> 9995 | J46: =J47 -> 0 | K46: =K47 -> 12000 | L46: =L47 -> 0 | M46: =M47 -> 15000 | N46: =N47 -> 0 | ... T46: =T47 -> 0
C47: 06.4.0 | D47: Verejné osvetlenie | G47: =G48 -> 9861 | H47: =H48 -> 0 | I47: =I48 -> 9995 | J47: =J48 -> 0 | K47: =K48 -> 12000 | L47: =L48 -> 0 | M47: =M48 -> 15000 | N47: =N48 -> 0 | ... T47: =T48 -> 0
D48: 630 | E48: Tovary a služby | F48: 41 | G48: 9861 | H48: 0 | I48: 9995 | J48: 0 | K48: 12000 | L48: 0 | M48: 15000 | N48: 0 | O48: 30000 | P48: 0 | Q48: 30000 | R48: 0 | S48: 30000 | T48: 0
B49: 8 | C49: Ochrana životného prostredia | G49: =G50 -> 192 | H49: =H50 -> 0 | I49: =I50 -> 200 | J49: =J50 -> 0 | K49: =K50 -> 192 | L49: =L50 -> 0 | M49: =M50 -> 202 | N49: =N50 -> 0 | ... T49: =T50 -> 0
C50: 01.1.1 | D50: Obce-prenesený výkon štátnej správy | G50: =G51+G52+G53 -> 192 | H50: =H51+H52+H53 -> 0 | I50: =I51+I52+I53 -> 200 | J50: =J51+J52+J53 -> 0 | K50: =K51+K52+K53 -> 192 | L50: =L51+L52+L53 -> 0 | M50: =M51+M52+M53 -> 202 | N50: =N51+N52+N53 -> 0 | ... T50: =T51+T52+T53 -> 0
D51: 610 | E51: Mzdy, platy a ostatné osobné vyrovnania | F51: 111 | G51: 113 | H51: 0 | I51: 135 | J51: 0 | K51: 133 | L51: 0 | M51: 140 | N51: 0 | O51: 140 | P51: 0 | Q51: 140 | R51: 0 | S51: 140 | T51: 0
D52: 620 | E52: Poistné a príspevok do poisťovní | F52: 111 | G52: 65 | H52: 0 | I52: 47 | J52: 0 | K52: 45 | L52: 0 | M52: 49 | N52: 0 | O52: 49 | P52: 0 | Q52: 49 | R52: 0 | S52: 49 | T52: 0
D53: 630 | E53: Tovary a služby | F53: 111 | G53: 14 | H53: 0 | I53: 18 | J53: 0 | K53: 14 | L53: 0 | M53: 13 | N53: 0 | O53: 15 | P53: 0 | Q53: 15 | R53: 0 | S53: 15 | T53: 0
B54: 9 | C54: Spoločný stavebný úrad | G54: =G55 -> 3454 | H54: =H55 -> 0 | I54: =I55 -> 3448 | J54: =J55 -> 0 | K54: =K55 -> 3500 | L54: =L55 -> 0 | M54: =M55 -> 3600 | N54: =N55 -> 0 | ... T54: =T55 -> 0
C55: 01.1.1 | D55: Obce-prenesený výkon štátnej správy | G55: =G56 -> 3454 | H55: =H56 -> 0 | I55: =I56 -> 3448 | J55: =J56 -> 0 | K55: =K56 -> 3500 | L55: =L56 -> 0 | M55: =M56 -> 3600 | N55: =N56 -> 0 | ... T55: =T56 -> 0
D56: 640 | E56: Bežné transfery | F56: 41 | G56: 3454 | H56: 0 | I56: 3448 | J56: 0 | K56: 3500 | L56: 0 | M56: 3600 | N56: 0 | O56: 3600 | P56: 0 | Q56: 3600 | R56: 0 | S56: 3600 | T56: 0
B57: 10 | C57: Komunikácie | G57: =G58 -> 12823 | H57: =H58 -> 10280 | I57: =I58 -> 10844 | J57: =J58 -> 1950 | K57: =K58 -> 46413 | L57: =L58 -> 55000 | M57: =M58 -> 15088 | N57: =N58 -> 81078 | ... T57: =T58 -> 0
C58: 04.5.1 | D58: Cestná doprava | G58: =G59+G60+G62+G63+G61+G64+G65 -> 12823 | H58: =H59+H60+H62+H63+H61+H64+H65 -> 10280 | I58: =I59+I60+I62+I63+I61+I64+I65 -> 10844 | J58: =J59+J60+J62+J63+J61+J64+J65 -> 1950 | K58: =K59+K60+K62+K63+K61+K64+K65 -> 46413 | L58: =L59+L60+L62+L63+L61+L64+L65 -> 55000 | M58: =M59+M60+M62+M63+M61+M64+M65 -> 15088 | N58: =N59+N60+N62+N63+N61+N64+N65 -> 81078 | ... T58: =T59+T60+T62+T63+T61+T64+T65 -> 0
D59: 610 | E59: Mzdy, platy a ostatné osobné vyrovnania | F59: 111 | G59: 60 | H59: 0 | I59: 60 | J59: 0 | K59: 52 | L59: 0 | M59: 53 | N59: 0 | O59: 53 | P59: 0 | Q59: 53 | R59: 0 | S59: 53 | T59: 0
D60: 620 | E60: Poistné a príspevok do poisťovní | F60: 111 | G60: 21 | H60: 0 | I60: 21 | J60: 0 | K60: 19 | L60: 0 | M60: 19 | N60: 0 | O60: 19 | P60: 0 | Q60: 19 | R60: 0 | S60: 19 | T60: 0
D61: 630 | E61: Tovary a služby | F61: 111 | G61: 6 | H61: 0 | I61: 7 | J61: 0 | K61: 16 | L61: 0 | M61: 16 | N61: 0 | O61: 16 | P61: 0 | Q61: 16 | R61: 0 | S61: 16 | T61: 0
D62: 630 | E62: Tovary a služby | F62: 41 | G62: 12736 | H62: 0 | I62: 10756 | J62: 0 | K62: 20000 | L62: 0 | M62: 15000 | N62: 0 | O62: 20010 | P62: 0 | Q62: 20000 | R62: 0 | S62: 20000 | T62: 0
D63: 710 | E63: Asfaltovanie ciest | F63: 46 | G63: 0 | H63: 0 | I63: 0 | J63: 1950 | K63: 0 | L63: 55000 | M63: 0 | N63: 81078 | O63: 0 | Q63: 0 | S63: 0
D64: 710 | E64: Obst.kap.aktív/Port.grapa a Zadné Končiny | F64: 46 | G64: 0 | H64: 10280 | I64: 0 | J64: 0 | K64: 0 | L64: 0 | M64: 0 | N64: 0 | O64: 0 | P64: 0 | Q64: 0 | R64: 0 | S64: 0 | T64: 0
D65: 630 | E65: Rezerva | F65: 41 | G65: 0 | H65: 0 | I65: 0 | J65: 0 | K65: 26326 | L65: 0 | M65: 0 | N65: 0 | O65: 0 | P65: 0 | Q65: 108674 | R65: 0 | S65: 219274 | T65: 0
B66: 11 | C66: Pomoc občanom v hmotnej a sociálnej núdzi | G66: =G67 -> 1694 | H66: =H67 -> 0 | I66: =I67 -> 30 | J66: =J67 -> 0 | K66: =K67 -> 1350 | L66: =L67 -> 0 | M66: =M67 -> 321 | N66: =N67 -> 0 | ... T66: =T67 -> 0
C67: 10.7.0 | D67: Dávky sociálnej pomoci | G67: =G68+G69+G70+G71 -> 1694 | H67: =H68+H69+H70+H71 -> 0 | I67: =I68+I69+I70+I71 -> 30 | J67: =J68+J69+J70+J71 -> 0 | K67: =K68+K69+K70+K71 -> 1350 | L67: =L68+L69+L70+L71 -> 0 | M67: =M68+M69+M70+M71 -> 321 | N67: =N68+N69+N70+N71 -> 0 | ... T67: =T68+T69+T70+T71 -> 0
D68: 630 | E68: Tovary a služby | F68: 41 | G68: 0 | H68: 0 | I68: 0 | J68: 0 | K68: 0 | L68: 0 | M68: 0 | N68: 0 | O68: 0 | P68: 0 | Q68: 0 | R68: 0 | S68: 0 | T68: 0
D69: 640 | E69: Bežné transfery | F69: 41 | G69: 100 | H69: 0 | I69: 30 | J69: 0 | K69: 1350 | L69: 0 | M69: 321 | N69: 0 | O69: 1350 | P69: 0 | Q69: 1350 | R69: 0 | S69: 1350 | T69: 0
D70: 640 | E70: Bežné transfery/Domov dôchodcov | F70: 41 | G70: 1559 | H70: 0 | I70: 0 | J70: 0 | K70: 0 | L70: 0 | M70: 0 | N70: 0 | O70: 0 | P70: 0 | Q70: 0 | R70: 0 | S70: 0 | T70: 0
D71: 640 | E71: Príspevok/Komunika Kráľovnej pokoja | F71: 41 | G71: 35 | H71: 0 | I71: 0 | J71: 0 | K71: 0 | L71: 0 | M71: 0 | N71: 0 | O71: 0 | P71: 0 | Q71: 0 | R71: 0 | S71: 0 | T71: 0
B72: 12 | C72: Opatrovateľská služba | G72: =G73 -> 6735 | H72: =H73 -> 0 | I72: =I73 -> 3255 | J72: =J73 -> 0 | K72: =K73 -> 4100 | L72: =L73 -> 0 | M72: =M73 -> 309 | N72: =N73 -> 0 | ... T72: =T73 -> 0
C73: 10.2.0 | D73: Opatrovateľská služba | G73: =G74+G75+G76 -> 6735 | H73: =H74+H75+H76 -> 0 | I73: =I74+I75+I76 -> 3255 | J73: =J74+J75+J76 -> 0 | K73: =K74+K75+K76 -> 4100 | L73: =L74+L75+L76 -> 0 | M73: =M74+M75+M76 -> 309 | N73: =N74+N75+N76 -> 0 | ... T73: =T74+T75+T76 -> 0
D74: 610 | E74: Mzdy, platy a ostatné osobné vyrovnania | F74: 41 | G74: 4519 | H74: 0 | I74: 2302 | J74: 0 | K74: 2800 | L74: 0 | M74: 0 | N74: 0 | O74: 2800 | P74: 0 | Q74: 2800 | R74: 0 | S74: 2800 | T74: 0
D75: 620 | E75: Poistné a príspevok do poisťovní | F75: 41 | G75: 1639 | H75: 0 | I75: 826 | J75: 0 | K75: 1000 | L75: 0 | M75: 9 | N75: 0 | O75: 1000 | P75: 0 | Q75: 1000 | R75: 0 | S75: 1000 | T75: 0
D76: 630 | E76: Tovary a služby | F76: 41 | G76: 577 | H76: 0 | I76: 127 | J76: 0 | K76: 300 | L76: 0 | M76: 300 | N76: 0 | O76: 300 | P76: 0 | Q76: 300 | R76: 0 | S76: 300 | T76: 0
B77: 13 | C77: Teplo/Kotolňa | G77: =G78 -> 25843 | H77: =H78 -> 0 | I77: =I78 -> 28785 | J77: =J78 -> 0 | K77: =K78 -> 31350 | L77: =L78 -> 0 | M77: =M78 -> 46000 | N77: =N78 -> 0 | ... T77: =T78 -> 0
C78: 04.3.6 | D78: Teplo | G78: =G79+G80+G81+G82+G83 -> 25843 | H78: =H79+H80+H81+H82+H83 -> 0 | I78: =I79+I80+I81+I82+I83 -> 28785 | J78: =J79+J80+J81+J82+J83 -> 0 | K78: =K79+K80+K81+K82+K83 -> 31350 | L78: =L79+L80+L81+L82+L83 -> 0 | M78: =M79+M80+M81+M82+M83 -> 46000 | N78: =N79+N80+N81+N82+N83 -> 0 | ... T78: =T79+T80+T81+T82+T83 -> 0
D79: 610 | E79: Mzdy, platy a ostatné osobné vyrovnania | F79: 41 | G79: 1000 | H79: 0 | I79: 1000 | J79: 0 | K79: 1000 | L79: 0 | M79: 1000 | N79: 0 | O79: 1000 | P79: 0 | Q79: 1000 | R79: 0 | S79: 1000 | T79: 0
D80: 620 | E80: Poistné a príspevok do poisťovní | F80: 41 | G80: 330 | H80: 0 | I80: 350 | J80: 0 | K80: 350 | L80: 0 | M80: 350 | N80: 0 | O80: 350 | P80: 0 | Q80: 350 | R80: 0 | S80: 350 | T80: 0
D81: 630 | E81: Tovary a služby | F81: 41 | G81: 24513 | H81: 0 | I81: 27435 | J81: 0 | K81: 30000 | L81: 0 | M81: 44650 | N81: 0 | O81: 70000 | P81: 0 | Q81: 70000 | R81: 0 | S81: 70000 | T81: 0
D82: 717 | E82: Rekonštrukcia a modernizácia kotolne | F82: 41 | G82: 0 | H82: 0 | I82: 0 | J82: 0 | K82: 0 | L82: 0 | M82: 0 | N82: 0 | O82: 0 | P82: 0 | Q82: 0 | R82: 0 | S82: 0 | T82: 0
D83: 717 | E83: Rekonštrukcia a modernizácia kotolne/RF | F83: 46 | G83: 0 | H83: 0 | I83: 0 | J83: 0 | K83: 0 | L83: 0 | M83: 0 | N83: 0 | O83: 0 | P83: 0 | Q83: 0 | R83: 0 | S83: 0 | T83: 0
B84: 14 | C84: Snehová kalamita | G84: =G85 -> 0 | H84: =H85 -> 0 | I84: =I85 -> 0 | J84: =J85 -> 0 | K84: =K85 -> 0 | L84: =L85 -> 0 | M84: =M85 -> 5222 | N84: =N85 -> 0 | ... T84: =T85 -> 0
C85: 05.4.0 | D85: Ochrana prírody a krajiny | G85: =G86+G89+G87+G88 -> 0 | H85: =H86+H89+H87+H88 -> 0 | I85: =I86+I89+I87+I88 -> 0 | J85: =J86+J89+J87+J88 -> 0 | K85: =K86+K89+K87+K88 -> 0 | L85: =L86+L89+L87+L88 -> 0 | M85: =M86+M89+M87+M88 -> 5222 | N85: =N86+N89+N87+N88 -> 0 | ... T85: =T86+T89+T87+T88 -> 0
D86: 610 | E86: Mzdy, platy a ostatné osobné vyrovnania | F86: 111 | G86: 0 | H86: 0 | I86: 0 | J86: 0 | K86: 0 | L86: 0 | M86: 1217 | N86: 0 | O86: 0 | P86: 0 | Q86: 0 | R86: 0 | S86: 0 | T86: 0
D87: 620 | E87: Poistné a príspevok do poisťovní | F87: 111 | G87: 0 | H87: 0 | I87: 0 | J87: 0 | K87: 0 | L87: 0 | M87: 425 | N87: 0 | O87: 0 | P87: 0 | Q87: 0 | R87: 0 | S87: 0 | T87: 0
D88: 630 | E88: Tovary a služby | F88: 41 | G88: 0 | H88: 0 | I88: 0 | J88: 0 | K88: 0 | L88: 0 | M88: 378 | N88: 0 | O88: 0 | P88: 0 | Q88: 0 | R88: 0 | S88: 0 | T88: 0
D89: 630 | E89: Tovary a služby | F89: 111 | G89: 0 | H89: 0 | I89: 0 | J89: 0 | K89: 0 | L89: 0 | M89: 3202 | N89: 0 | O89: 0 | P89: 0 | Q89: 0 | R89: 0 | S89: 0 | T89: 0
B90: 16 | C90: Zásobovanie vodou/Vodovod | G90: =G91 -> 10212 | H90: =H91 -> 1504 | I90: =I91 -> 1119 | J90: =J91 -> 769 | K90: =K91 -> 3500 | L90: =L91 -> 5000 | M90: =M91 -> 3500 | N90: =N91 -> 5000 | ... T90: =T91 -> 0
C91: 06.3.0 | E91: Vodovod | G91: =G92+G93+G94 -> 10212 | H91: =H92+H93+H94 -> 1504 | I91: =I92+I93+I94 -> 1119 | J91: =J92+J93+J94 -> 769 | K91: =K92+K93+K94 -> 3500 | L91: =L92+L93+L94 -> 5000 | M91: =M92+M93+M94 -> 3500 | N91: =N92+N93+N94 -> 5000 | ... T91: =T92+T93+T94 -> 0
D92: 630 | E92: Tovary a služby | F92: 41 | G92: 10212 | H92: 0 | I92: 1119 | J92: 0 | K92: 3500 | L92: 0 | M92: 3500 | N92: 0 | O92: 3500 | P92: 0 | Q92: 3500 | R92: 0 | S92: 3500 | T92: 0
D93: 710 | E93: Rozšírenie vodovodu | F93: 46 | G93: 0 | H93: 1504 | J93: 769 | K93: 0 | L93: 5000 | M93: 0 | N93: 5000 | O93: 0 | P93: 0 | Q93: 0 | R93: 0 | S93: 0 | T93: 0
D94: 810 | E94: Vklad - navýšenie zákl.imania | F94: 46 | G94: 0 | H94: 0 | I94: 0 | J94: 0 | K94: 0 | L94: 0 | M94: 0 | N94: 0 | O94: 0 | P94: 30000 | Q94: 0 | R94: 0 | S94: 0 | T94: 0
B95: 17 | C95: Rodina - prídavky na deti | G95: =G96 -> 786 | H95: =H96 -> 0 | I95: =I96 -> 108 | J95: =J96 -> 0 | K95: =K96 -> 0 | L95: =L96 -> 0 | M95: =M96 -> 0 | N95: =N96 -> 0 | ... T95: =T96 -> 0
C96: 10.4.0 | D96: Rodina a deti | F96: =F97 -> 41 | G96: =G97+G98 -> 786 | H96: =H97+H98 -> 0 | I96: =I97+I98 -> 108 | J96: =J97+J98 -> 0 | K96: =K97+K98 -> 0 | L96: =L97+L98 -> 0 | M96: =M97+M98 -> 0 | N96: =N97+N98 -> 0 | ... T96: =T97+T98 -> 0
D97: 640 | E97: Bežné transfery | F97: 41 | G97: 548 | H97: 0 | I97: 108 | J97: 0 | K97: 0 | L97: 0 | M97: 0 | N97: 0 | O97: 0 | P97: 0 | Q97: 0 | R97: 0 | S97: 0 | T97: 0
D98: 640 | E98: Príspevok/Strava | F98: 111 | G98: 238 | H98: 0 | I98: 0 | J98: 0 | K98: 0 | L98: 0 | M98: 0 | N98: 0 | O98: 0 | P98: 0 | Q98: 0 | R98: 0 | S98: 0 | T98: 0
B99: 19 | C99: Byty - 10 BJ + Drobná prevádzka | G99: =G100 -> 2669 | H99: =H100 -> 0 | I99: =I100 -> 2711 | J99: =J100 -> 0 | K99: =K100 -> 5000 | L99: =L100 -> 0 | M99: =M100 -> 5000 | N99: =N100 -> 0 | ... T99: =T100 -> 0 | U99: ;
C100: 06.1.0 | E100: Byty - 10 BJ+Drobná prevádzka | G100: =G101 -> 2669 | H100: =H101 -> 0 | I100: =I101 -> 2711 | J100: =J101 -> 0 | K100: =K101 -> 5000 | L100: =L101 -> 0 | M100: =M101 -> 5000 | N100: =N101 -> 0 | ... T100: =T101 -> 0
D101: 630 | E101: Tovary a služby | F101: 41 | G101: 2669 | H101: 0 | I101: 2711 | J101: 0 | K101: 5000 | L101: 0 | M101: 5000 | N101: 0 | O101: 5000 | P101: 0 | Q101: 5000 | R101: 0 | S101: 5000 | T101: 0
...

Sheet Program 5
A1: PROGRAM 5: BEZPEČNOSŤ A OCHRANA
G3: Skutočné plnenie r.2020 | I3: Skutočné plnenie r.2021 | K3: Rozpočet 2022 | M3: Očakáv.skutočn. 2022 | O3: Rozpočet 2023 | Q3: Rozpočet 2024 | S3: Rozpočet 2025
G4: Bežné výdavky | H4: Kapitálové výdavky | I4: Bežné výdavky | J4: Kapitálové výdavky | K4: Bežné výdavky | L4: Kapitálové výdavky | M4: Bežné výdavky | N4: Kapitálové výdavky | O4: Bežné výdavky | P4: Kapitál. výdavky | Q4: Bežné výdavky | R4: Kapitálové výdavky | S4: Bežné výdavky | T4: Kapitálové výdavky
B5: Akti- | C5: funkčná | D5: ekonomická klasifikácia
B6: vita | C6: klasifik. | E6: ukazovateľ | F6: KÓD ZDROJA
B8: PROGRAM 5: Bezpečnosť a ochrana | G8: =G9 -> 4889 | H8: =H9 -> 0 | I8: =I9 -> 5027 | J8: =J9 -> 0 | K8: =K9 -> 3500 | L8: =L9 -> 0 | M8: =M9 -> 5800 | N8: =N9 -> 0 | ... T8: =T9 -> 0
B9: 1 | C9: Požiarna ochrana | G9: =G10 -> 4889 | H9: =H10 -> 0 | I9: =I10 -> 5027 | J9: =J10 -> 0 | K9: =K10 -> 3500 | L9: =L10 -> 0 | M9: =M10 -> 5800 | N9: =N10 -> 0 | ... T9: =T10 -> 0
C10: 03.2.0. | D10: Požiarna ochrana | G10: =G11+G12+G13 -> 4889 | H10: =H11+H12+H13 -> 0 | I10: =I11+I12+I13 -> 5027 | J10: =J11+J12+J13 -> 0 | K10: =K11+K12+K13 -> 3500 | L10: =L11+L12+L13 -> 0 | M10: =M11+M12+M13 -> 5800 | N10: =N11+N12+N13 -> 0 | ... T10: =T11+T12+T13 -> 0
D11: 620 | E11: Poistné a príspevok do poisťovní | F11: 41 | G11: 0 | H11: 0 | I11: 0 | J11: 0 | K11: 200 | L11: 0 | M11: 200 | N11: 0 | O11: 200 | P11: 0 | Q11: 200 | R11: 0 | S11: 200 | T11: 0
D12: 630 | E12: Tovary a služby | F12: 41 | G12: 1889 | H12: 0 | I12: 2027 | J12: 0 | K12: 3300 | L12: 0 | M12: 2600 | N12: 0 | O12: 3300 | P12: 0 | Q12: 3300 | R12: 0 | S12: 3300 | T12: 0
D13: 630 | E13: Tovary a služby/Dotácia | F13: 111 | G13: 3000 | H13: 0 | I13: 3000 | J13: 0 | K13: 0 | L13: 0 | M13: 3000 | N13: 0 | O13: 0 | P13: 0 | Q13: 0 | R13: 0 | S13: 0 | T13: 0

Sheet Program 6
B1: PROGRAM 6: ŠPORT
G2: Skutočné plnenie r.2020 | I2: Skutočné plnenie r.2021 | K2: Rozpočet 2022 | M2: Očakáv.skutočn. 2022 | O2: Rozpočet 2023 | Q2: Rozpočet 2024 | S2: Rozpočet 2025
G3: Bežné výdavky | H3: Kapitálové výdavky | I3: Bežné výdavky | J3: Kapitálové výdavky | K3: Bežné výdavky | L3: Kapitálové výdavky | M3: Bežné výdavky | N3: Kapitálové výdavky | O3: Bežné výdavky | P3: Kapitál. výdavky | Q3: Bežné výdavky | R3: Kapitálové výdavky | S3: Bežné výdavky | T3: Kapitálové výdavky
B4: Akti- | C4: funkčná | D4: ekonomická klasifikácia
B5: vita | C5: klasifik. | E5: ukazovateľ
F6: KÓD ZDROJA
B7: PROGRAM 6: Šport | G7: =G8+G12+G17 -> 2101 | H7: =H8+H12+H17 -> 0 | I7: =I8+I12+I17 -> 2333 | J7: =J8+J12+J17 -> 0 | K7: =K8+K12+K17 -> 2600 | L7: =L8+L12+L17 -> 0 | M7: =M8+M12+M17 -> 1311 | N7: =N8+N12+N17 -> 0 | ... T7: =T8+T12+T17 -> 0
B8: 1 | C8: Športové súťaže a podujatia | G8: =G9 -> 701 | H8: =H9 -> 0 | I8: =I9 -> 0 | J8: =J9 -> 0 | K8: =K9 -> 200 | L8: =L9 -> 0 | M8: =M9 -> 11 | N8: =N9 -> 0 | ... T8: =T9 -> 0
C9: 08.1.0. | D9: Rekreačné a šport.služby | G9: =G10+G11 -> 701 | H9: =H10+H11 -> 0 | I9: =I10+I11 -> 0 | J9: =J10+J11 -> 0 | K9: =K10+K11 -> 200 | L9: =L10+L11 -> 0 | M9: =M10+M11 -> 11 | N9: =N10+N11 -> 0 | ... T9: =T10+T11 -> 0
D10: 630 | E10: Tovary a služby | F10: 41 | G10: 701 | H10: 0 | I10: 0 | J10: 0 | K10: 200 | L10: 0 | M10: 11 | N10: 0 | O10: 1300 | P10: 0 | Q10: 1300 | R10: 0 | S10: 1300 | T10: 0
D11: 630 | E11: Tovary a služby/Sponzori | F11: 71 | G11: 0 | H11: 0 | I11: 0 | J11: 0 | K11: 0 | L11: 0 | M11: 0 | N11: 0 | O11: 0 | P11: 0 | Q11: 0 | R11: 0 | S11: 0 | T11: 0
B12: 2 | C12: Podpora športových klubov | G12: =G13 -> 1167 | H12: =H13 -> 0 | I12: =I13 -> 2151 | J12: =J13 -> 0 | K12: =K13 -> 2100 | L12: =L13 -> 0 | M12: =M13 -> 1000 | N12: =N13 -> 0 | ... T12: =T13 -> 0
C13: 08.1.0. | D13: Rekreačné a šport.služby | G13: =G14+G15+G16 -> 1167 | H13: =H14+H15+H16 -> 0 | I13: =I14+I15+I16 -> 2151 | J13: =J14+J15+J16 -> 0 | K13: =K14+K15+K16 -> 2100 | L13: =L14+L15+L16 -> 0 | M13: =M14+M15+M16 -> 1000 | N13: =N14+N15+N16 -> 0 | ... T13: =T14+T15+T16 -> 0
D14: 620 | E14: Poistné a príspevok do poisťovní | F14: 41 | G14: 0 | H14: 0 | I14: 0 | J14: 0 | K14: 0 | L14: 0 | M14: 0 | N14: 0 | O14: 0 | P14: 0 | Q14: 0 | R14: 0 | S14: 0 | T14: 0
D15: 630 | E15: Tovary a služby | F15: 41 | G15: 1067 | H15: 0 | I15: 1951 | J15: 0 | K15: 1000 | L15: 0 | M15: 1000 | N15: 0 | O15: 1000 | P15: 0 | Q15: 1000 | R15: 0 | S15: 1000 | T15: 0
D16: 640 | E16: Bežné transfery/Príspevok TJ | F16: 41 | G16: 100 | H16: 0 | I16: 200 | J16: 0 | K16: 1100 | L16: 0 | M16: 0 | N16: 0 | O16: 0 | P16: 0 | Q16: 0 | R16: 0 | S16: 0 | T16: 0
B17: 3 | C17: Športová infraštruktúra | G17: =G18 -> 233 | H17: =H18 -> 0 | I17: =I18 -> 182 | J17: =J18 -> 0 | K17: =K18 -> 300 | L17: =L18 -> 0 | M17: =M18 -> 300 | N17: =N18 -> 0 | ... T17: =T18 -> 0
C18: 08.1.0. | D18: Rekreačné a šport.služby | G18: =G19+G20 -> 233 | H18: =H19+H20 -> 0 | I18: =I19+I20 -> 182 | J18: =J19+J20 -> 0 | K18: =K19+K20 -> 300 | L18: =L19+L20 -> 0 | M18: =M19+M20 -> 300 | N18: =N19+N20 -> 0 | ... T18: =T19+T20 -> 0
D19: 630 | E19: Tovary a služby | F19: 41 | G19: 233 | H19: 0 | I19: 182 | J19: 0 | K19: 300 | L19: 0 | M19: 300 | N19: 0 | O19: 300 | P19: 0 | Q19: 300 | R19: 0 | S19: 300 | T19: 0
D20: 710 | E20: Realizácia kapitálových aktív | F20: 41 | G20: 0 | H20: 0 | I20: 0 | J20: 0 | K20: 0 | L20: 0 | M20: 0 | N20: 0 | O20: 0 | P20: 0 | Q20: 0 | R20: 0 | S20: 0 | T20: 0

Sheet Program 7
B1: PROGRAM 7: KULTÚRA
G2: Skutočné plnenie r.2020 | I2: Skutočné plnenie r.2021 | K2: Rozpočet 2022 | M2: Očakáv.skutočn. 2022 | O2: Rozpočet 2023 | Q2: Rozpočet 2024 | S2: Rozpočet 2025
G3: Bežné výdavky | H3: Kapitálové výdavky | I3: Bežné výdavky | J3: Kapitálové výdavky | K3: Bežné výdavky | L3: Kapitálové výdavky | M3: Bežné výdavky | N3: Kapitálové výdavky | O3: Bežné výdavky | P3: Kapitál. výdavky | Q3: Bežné výdavky | R3: Kapitálové výdavky | S3: Bežné výdavky | T3: Kapitálové výdavky
B4: Akti- | C4: funkčná | D4: ekonomická klasifikácia
B5: vita | C5: klasifik. | E5: ukazovateľ
F6: KÓD ZDROJA
B7: PROGRAM 7: Kultúra | G7: =G8+G15+G19+G24 -> 7089 | H7: =H8+H15+H19+H24 -> 0 | I7: =I8+I15+I19+I24 -> 7108 | J7: =J8+J15+J19+J24 -> 0 | K7: =K8+K15+K19+K24 -> 30441 | L7: =L8+L15+L19+L24 -> 0 | M7: =M8+M15+M19+M24 -> 31053 | N7: =N8+N15+N19+N24 -> 0 | ... T7: =T8+T15+T19+T24 -> 0
B8: 1 | C8: Kultúrny dom a kultúrne podujatia | G8: =G9 -> 760 | H8: =H9 -> 0 | I8: =I9 -> 789 | J8: =J9 -> 0 | K8: =K9 -> 8600 | L8: =L9 -> 0 | M8: =M9 -> 8553 | N8: =N9 -> 0 | ... T8: =T9 -> 0
C9: 08.2.0 | D9: Ostatné kultúrne služby | G9: =G10+G11+G14+G12+G13 -> 760 | H9: =H10+H11+H14+H12+H13 -> 0 | I9: =I10+I11+I14+I12+I13 -> 789 | J9: =J10+J11+J14+J12+J13 -> 0 | K9: =K10+K11+K14+K12+K13 -> 8600 | L9: =L10+L11+L14+L12+L13 -> 0 | M9: =M10+M11+M14+M12+M13 -> 8553 | N9: =N10+N11+N14+N12+N13 -> 0 | ... T9: =T10+T11+T14+T12+T13 -> 0
D10: 620 | E10: Poistné a príspevok do poisťovní | F10: 41 | G10: 0 | H10: 0 | I10: 0 | J10: 0 | K10: 0 | L10: 0 | M10: 0 | N10: 0 | O10: 0 | P10: 0 | Q10: 0 | R10: 0 | S10: 0 | T10: 0
D11: 630 | E11: Tovary a služby | F11: 41 | G11: 760 | H11: 0 | I11: 789 | J11: 0 | K11: 3400 | L11: 0 | M11: 1134 | N11: 0 | O11: 3400 | P11: 0 | Q11: 3400 | R11: 0 | S11: 3400 | T11: 0
D12: 630 | E12: Tov. a služby/Dni obce+Vian. Trhy | F12: 41 | G12: 0 | H12: 0 | I12: 0 | J12: 0 | K12: 5000 | L12: 0 | M12: 7419 | N12: 0 | O12: 20000 | P12: 0 | Q12: 20000 | R12: 0 | S12: 20000 | T12: 0
D13: 630 | E13: Tovary a služby/Dni obce+Vian.trhy-Sponz | F13: 71 | G13: 0 | H13: 0 | I13: 0 | J13: 0 | K13: 0 | L13: 0 | M13: 0 | N13: 0 | O13: 0 | P13: 0 | Q13: 0 | R13: 0 | S13: 0 | T13: 0
D14: 630 | E14: Bežné transfery/Folklór, Heligón | F14: 41 | G14: 0 | H14: 0 | I14: 0 | J14: 0 | K14: 200 | L14: 0 | M14: 0 | N14: 0 | O14: 700 | P14: 0 | Q14: 200 | R14: 0 | S14: 200 | T14: 0
B15: 2 | C15: Obecná knižnica | G15: =G16 -> 831 | H15: =H16 -> 0 | I15: =I16 -> 206 | J15: =J16 -> 0 | K15: =K16 -> 1400 | L15: =L16 -> 0 | M15: =M16 -> 0 | N15: =N16 -> 0 | ... T15: =T16 -> 0
C16: 08.2.0 | D16: Obecná knižnica | G16: =G17+G18 -> 831 | H16: =H17+H18 -> 0 | I16: =I17+I18 -> 206 | J16: =J17+J18 -> 0 | K16: =K17+K18 -> 1400 | L16: =L17+L18 -> 0 | M16: =M17+M18 -> 0 | N16: =N17+N18 -> 0 | ... T16: =T17+T18 -> 0
D17: 620 | E17: Poistné a príspevok do poisťovní | F17: 41 | G17: 234 | H17: 0 | I17: 50 | J17: 0 | K17: 350 | L17: 0 | M17: 0 | N17: 0 | O17: 350 | P17: 0 | Q17: 350 | R17: 0 | S17: 350 | T17: 0
D18: 630 | E18: Tovary a služby | F18: 41 | G18: 597 | H18: 0 | I18: 156 | J18: 0 | K18: 1050 | L18: 0 | M18: 0 | N18: 0 | O18: 1050 | P18: 0 | Q18: 1050 | R18: 0 | S18: 1050 | T18: 0
B19: 3 | C19: Organizácia občianskych obradov | G19: =G20 -> 4402 | H19: =H20 -> 0 | I19: =I20 -> 5175 | J19: =J20 -> 0 | K19: =K20 -> 4500 | L19: =L20 -> 0 | M19: =M20 -> 5500 | N19: =N20 -> 0 | ... T19: =T20 -> 0
C20: 08.2.0 | D20: Občianske obrady | G20: =G21+G23 -> 4402 | H20: =H21+H23 -> 0 | I20: =I21+I23 -> 5175 | J20: =J21+J23 -> 0 | K20: =K21+K23 -> 4500 | L20: =L21+L23 -> 0 | M20: =M21+M23 -> 5500 | N20: =N21+N23 -> 0 | ... T20: =T21+T23 -> 0
D21: 630 | E21: Tovary a služby | F21: 41 | G21: 2578 | H21: 0 | I21: 2895 | J21: 0 | K21: 2200 | L21: 0 | M21: 4000 | N21: 0 | O21: 2200 | P21: 0 | Q21: 2200 | R21: 0 | S21: 2200 | T21: 0
D22: 630 | E22: Tovary a služby/Sponz. Príspevok | F22: 71 | G22: 0 | H22: 0 | I22: 0 | J22: 0 | K22: 0 | L22: 0 | M22: 0 | N22: 0 | O22: 0 | P22: 0 | Q22: 0 | R22: 0 | S22: 0 | T22: 0
D23: 640 | E23: Bežné transfery/Príspevok | F23: 41 | G23: 1824 | H23: 0 | I23: 2280 | J23: 0 | K23: 2300 | L23: 0 | M23: 1500 | N23: 0 | O23: 4000 | P23: 0 | Q23: 2300 | R23: 0 | S23: 2300 | T23: 0
B24: 4 | C24: Záujmová činnosť/Obec | G24: =G25+G31+G36 -> 1096 | H24: =H25+H31+H36 -> 0 | I24: =I25+I31+I36 -> 938 | J24: =J25+J31+J36 -> 0 | K24: =K25+K31+K36 -> 15941 | L24: =L25+L31+L36 -> 0 | M24: =M25+M31+M36 -> 17000 | N24: =N25+N31+N36 -> 0 | ... T24: =T25+T31+T36 -> 0
C25: 08.1.0 | D25: Športové podujatia | G25: =G26+G27+G28+G29+G30 -> 409 | H25: =H26+H27+H28+H29+H30 -> 0 | I25: =I26+I27+I28+I29+I30 -> 0 | J25: =J26+J27+J28+J29+J30 -> 0 | K25: =K26+K27+K28+K29+K30 -> 1200 | L25: =L26+L27+L28+L29+L30 -> 0 | M25: =M26+M27+M28+M29+M30 -> 1423 | N25: =N26+N27+N28+N29+N30 -> 0 | ... T25: =T26+T27+T28+T29+T30 -> 0
D26: 620 | E26: Poistné a príspevok do poisťovní | F26: 41 | G26: 0 | H26: 0 | I26: 0 | J26: 0 | K26: 200 | L26: 0 | M26: 0 | N26: 0 | O26: 0 | P26: 0 | Q26: 0 | R26: 0 | S26: 0 | T26: 0
D27: 630 | E27: Tovary a služby/TJ-pranie dresov | F27: 41 | G27: 0 | H27: 0 | I27: 0 | J27: 0 | K27: 1000 | L27: 0 | M27: 0 | N27: 0 | O27: 0 | P27: 0 | Q27: 0 | R27: 0 | S27: 0 | T27: 0
D28: 630 | E28: Príspevok/HK Altis+podpora šp.podujatí | F28: 41 | G28: 0 | H28: 0 | I28: 0 | J28: 0 | K28: 0 | L28: 0 | M28: 0 | N28: 0 | O28: 0 | P28: 0 | Q28: 0 | R28: 0 | S28: 0 | T28: 0
D29: 630 | E29: Športové aktivity/Záujmová činnosť | F29: 41 | G29: 409 | H29: 0 | I29: 0 | J29: 0 | K29: 0 | L29: 0 | M29: 1423 | N29: 0 | O29: 0 | P29: 0 | Q29: 0 | R29: 0 | S29: 0 | T29: 0
D30: 630 | E30: Športové aktivity/Záujmová činnosť-Sponz | F30: 71 | G30: 0 | H30: 0 | I30: 0 | J30: 0 | K30: 0 | L30: 0 | M30: 0 | N30: 0 | O30: 0 | P30: 0 | Q30: 0 | R30: 0 | S30: 0 | T30: 0
C31: 08.2.0 | D31: Kultúrne podujatia | G31: =G32+G35+G33+G34 -> 387 | H31: =H32+H35+H33+H34 -> 0 | I31: =I32+I35+I33+I34 -> 911 | J31: =J32+J35+J33+J34 -> 0 | K31: =K32+K35+K33+K34 -> 14741 | L31: =L32+L35+L33+L34 -> 0 | M31: =M32+M35+M33+M34 -> 15523 | N31: =N32+N35+N33+N34 -> 0 | ... T31: =T32+T35+T33+T34 -> 0
D32: 620 | E32: Poistné a príspevok do poisťovní | F32: 41 | G32: 0 | H32: 0 | I32: 0 | J32: 0 | K32: 0 | L32: 0 | M32: 0 | N32: 0 | O32: 0 | P32: 0 | Q32: 0 | R32: 0 | S32: 0 | T32: 0
D33: 630 | E33: Tovary a služby | F33: 41 | G33: 387 | H33: 0 | I33: 911 | J33: 0 | K33: 14741 | L33: 0 | M33: 0 | N33: 0 | O33: 20443 | P33: 0 | Q33: 20443 | R33: 0 | S33: 20443 | T33: 0
D34: 630 | E34: Tovary a služby/Prísp.Kašunka | F34: 41 | G34: 0 | H34: 0 | I34: 0 | J34: 0 | K34: 0 | L34: 0 | M34: 523 | N34: 0 | O34: 0 | P34: 0 | Q34: 0 | R34: 0 | S34: 0 | T34: 0
D35: 640 | E35: Príspevok/TJ | F35: 41 | G35: 0 | H35: 0 | I35: 0 | J35: 0 | K35: 0 | L35: 0 | M35: 15000 | N35: 0 | O35: 0 | P35: 0 | Q35: 0 | R35: 0 | S35: 0 | T35: 0
C36: 09.5.0 | D36: Centrum voľného času maják | G36: =G37 -> 300 | H36: =H37 -> 0 | I36: =I37 -> 27 | J36: =J37 -> 0 | K36: =K37 -> 0 | L36: =L37 -> 0 | M36: =M37 -> 54 | N36: =N37 -> 0 | ... T36: =T37 -> 0
D37: 640 | E37: Príspevok | F37: 41 | G37: 300 | H37: 0 | I37: 27 | J37: 0 | K37: 0 | L37: 0 | M37: 54 | N37: 0 | O37: 0 | P37: 0 | Q37: 0 | R37: 0 | S37: 0 | T37: 0

Sheet Program 8
B1: PROGRAM 8: VZDELÁVANIE
G3: Skutoč.plnenie r.2020 | I3: Skutoč.plnenie r.2021 | K3: Rozpočet 2022 | M3: Očakáv. skutoč. 2022 | O3: Rozpočet 2023 | Q3: Rozpočet 2024 | S3: Rozpočet 2025
G4: Bežné výdavky | H4: Kapitálové výdavky | I4: Bežné výdavky | J4: Kapitálové výdavky | K4: Bežné výdavky | L4: Kapitálové výdavky | M4: Bežné výdavky | N4: Kapitálové výdavky | O4: Bežné výdavky | P4: Kapitál. výdavky | Q4: Bežné výdavky | R4: Kapitálové výdavky | S4: Bežné výdavky | T4: Kapitálové výdavky
B5: Akti- | C5: funkčná | D5: ekonomická klasifikácia
B6: vita | C6: klasifik. | E6: ukazovateľ
F7: KÓD ZDROJA
B8: PROGRAM 8: Vzdelávanie | G8: =G9+G37+G56+G72+G77 -> 990789 | H8: =H9+H37+H56+H72+H77 -> 0 | I8: =I9+I37+I56+I72+I77 -> 1040201 | J8: =J9+J37+J56+J72+J77 -> 0 | K8: =K9+K37+K56+K72+K77 -> 988039 | L8: =L9+L37+L56+L72+L77 -> 0 | M8: =M9+M37+M56+M72+M77 -> 1076257 | N8: =N9+N37+N56+N72+N77 -> 0 | ... T8: =T9+T37+T56+T72+T77 -> 0
B9: 1 | C9: Základná škola | G9: =G10+G27+G31 -> 728830 | H9: =H10+H27+H31 -> 0 | I9: =I10+I27+I31 -> 771789 | J9: =J10+J27+J31 -> 0 | K9: =K10+K27+K31 -> 717350 | L9: =L10+L27+L31 -> 0 | M9: =M10+M27+M31 -> 776498 | N9: =N10+N27+N31 -> 0 | ... T9: =T10+T27+T31 -> 0
C10: 09.1.2.1 | D10: Základná škola | G10: =G11+G12+G13+G14+G15+G16+G17+G21+G24+G25+G26+G19+G18+G20+G22+G23 -> 719257 | H10: =H11+H12+H13+H14+H15+H16+H17+H21+H24+H25+H26+H19+H18+H20+H22+H23 -> 0 | I10: =I11+I12+I13+I14+I15+I16+I17+I21+I24+I25+I26+I19+I18+I20+I22+I23 -> 764557 | J10: =J11+J12+J13+J14+J15+J16+J17+J21+J24+J25+J26+J19+J18+J20+J22+J23 -> 0 | K10: =K11+K12+K13+K14+K15+K16+K17+K21+K24+K25+K26+K19+K18+K20+K22+K23 -> 710118 | L10: =L11+L12+L13+L14+L15+L16+L17+L21+L24+L25+L26+L19+L18+L20+L22+L23 -> 0 | M10: =M11+M12+M13+M14+M15+M16+M17+M21+M24+M25+M26+M19+M18+M20+M22+M23 -> 758052 | N10: =N11+N12+N13+N14+N15+N16+N17+N21+N24+N25+N26+N19+N18+N20+N22+N23 -> 0 | ... T10: =T11+T12+T13+T14+T15+T16+T17+T21+T24+T25+T26+T19+T18+T20+T22+T23 -> 0
D11: 610 | E11: Mzdy, platy a ostatné osobné vyrovnania | F11: 111 | G11: 449508 | H11: 0 | I11: 450377 | J11: 0 | K11: 409870 | L11: 0 | M11: 492191 | N11: 0 | O11: 467000 | P11: 0 | Q11: 467000 | R11: 0 | S11: 467000 | T11: 0
D12: 620 | E12: Poistné a príspevok do poisťovní | F12: 111 | G12: 149865 | H12: 0 | I12: 165107 | J12: 0 | K12: 178300 | L12: 0 | M12: 161033 | N12: 0 | O12: 178300 | P12: 0 | Q12: 178300 | R12: 0 | S12: 178300 | T12: 0
D13: 630 | E13: Tovary a služby | F13: 111 | G13: 51559 | H13: 0 | I13: 47819 | J13: 0 | K13: 28857 | L13: 0 | M13: 23346 | N13: 0 | O13: 17882 | P13: 0 | Q13: 16128 | R13: 0 | S13: 16128 | T13: 0
D14: 630 | E14: Tovary a služby/Deti zo soc.znev.pros | F14: 111 | G14: 1902 | H14: 0 | I14: 0 | J14: 0 | K14: 0 | L14: 0 | M14: 0 | N14: 0 | O14: 15450 | P14: 0 | Q14: 15450 | R14: 0 | S14: 15450 | T14: 0
D15: 640 | E15: Bežné transfery | F15: 111 | G15: 3722 | H15: 0 | I15: 3950 | J15: 0 | K15: 200 | L15: 0 | M15: 4147 | N15: 0 | O15: 1600 | P15: 0 | Q15: 1600 | R15: 0 | S15: 1600 | T15: 0
D16: 610 | E16: Mzdy vlastne zdroje 3AC1 | G16: 47678 | H16: 0 | I16: 4340 | J16: 0 | K16: 65958 | L16: 0 | M16: 9362 | N16: 0 | O16: 0 | P16: 0 | Q16: 0 | R16: 0 | S16: 0 | T16: 0
D17: 620 | E17: Poistné a príspevok do poisťovní | F17: 3AC2 | G17: 5637 | H17: 0 | I17: 7176 | J17: 0 | K17: 21628 | L17: 0 | M17: 4539 | N17: 0 | O17: 0 | P17: 0 | Q17: 0 | R17: 0 | S17: 0 | T17: 0
D18: 630 | E18: Tovary a služby | G18: 0 | H18: 0 | I18: 20878 | J18: 0 | K18: 0 | L18: 0 | M18: 9950 | N18: 0 | O18: 0 | P18: 0 | Q18: 0 | R18: 0 | S18: 0 | T18: 0
D19: 610 | E19: Mzdy | F19: 3AC1 | G19: 3529 | H19: 0 | I19: 3677 | J19: 0 | K19: 3677 | L19: 0 | M19: 3892 | N19: 0 | O19: 3892 | P19: 0 | Q19: 3892 | R19: 0 | S19: 3892 | T19: 0
D20: 610 | E20: Mzdy | F20: 41 | G20: 0 | H20: 0 | I20: 18531 | J20: 0 | K20: 0 | L20: 0 | M20: 0 | N20: 0 | O20: 0 | P20: 0 | Q20: 0 | R20: 0 | S20: 0 | T20: 0
D21: 610 | E21: Mzdy-spoluú | F21: 41 | G21: 3712 | H21: 0 | I21: 1147 | J21: 0 | K21: 1059 | L21: 0 | M21: 1059 | N21: 0 | O21: 0 | P21: 0 | Q21: 0 | R21: 0 | S21: 0 | T21: 0
D22: 610 | E22: mzdy vlastné | G22: 0 | H22: 0 | I22: 30389 | J22: 0 | K22: 0 | L22: 0 | M22: 37768 | N22: 0 | O22: 37768 | P22: 0 | Q22: 0 | R22: 0 | S22: 0 | T22: 0
D23: 620 | E23: Poistné a príspevok do poisťovní | G23: 0 | H23: 0 | I23: 10659 | J23: 0 | K23: 0 | L23: 0 | M23: 10165 | N23: 0 | O23: 10165 | P23: 0 | Q23: 0 | R23: 0 | S23: 0 | T23: 0
D24: 630 | E24: Tovary a sl | F24: 72c | G24: 1500 | H24: 0 | I24: 0 | J24: 0 | K24: 0 | L24: 0 | M24: 0 | N24: 0 | O24: 0 | P24: 0 | Q24: 0 | R24: 0 | S24: 0 | T24: 0
D25: 630 | E25: Tovary a služby | F25: 72a | G25: 240 | H25: 0 | I25: 297 | J25: 0 | K25: 369 | L25: 0 | M25: 325 | N25: 0 | O25: 325 | P25: 0 | Q25: 325 | R25: 0 | S25: 325 | T25: 0
D26: 630 | E26: Telocvičňa | G26: 405 | H26: 0 | I26: 210 | J26: 0 | K26: 200 | L26: 0 | M26: 275 | N26: 0 | O26: 275 | P26: 0 | Q26: 275 | R26: 0 | S26: 275 | T26: 0
C27: 09.1.2.2 | D27: Neformálne vzdelávanie pre deti a mládež | G27: =G28+G29+G30 -> 7424 | H27: =H28+H29+H30 -> 0 | I27: =I28+I29+I30 -> 7232 | J27: =J28+J29+J30 -> 0 | K27: =K28+K29+K30 -> 7232 | L27: =L28+L29+L30 -> 0 | M27: =M28+M29+M30 -> 7206 | N27: =N28+N29+N30 -> 0 | ... T27: =T28+T29+T30 -> 0
D28: 610 | E28: Mzdy, platy a ostatné osobné vyrovnania | F28: 111 | G28: 0 | H28: 0 | I28: 0 | J28: 0 | K28: 0 | L28: 0 | M28: 0 | N28: 0 | O28: 0 | P28: 0 | Q28: 0 | R28: 0 | S28: 0 | T28: 0
D29: 620 | E29: Poistné a príspevok do poisťovní | F29: 111 | G29: 0 | H29: 0 | I29: 0 | J29: 0 | K29: 0 | L29: 0 | M29: 0 | N29: 0 | O29: 0 | P29: 0 | Q29: 0 | R29: 0 | S29: 0 | T29: 0
D30: 630 | E30: Tovary a služby | F30: 111 | G30: 7424 | H30: 0 | I30: 7232 | J30: 0 | K30: 7232 | L30: 0 | M30: 7206 | N30: 0 | O30: 7206 | P30: 0 | Q30: 7206 | R30: 0 | S30: 7206 | T30: 0
C31: 09.1.1.1 | D31: Záujmová činnosť | G31: =G32+G33+G34+G35+G36 -> 2149 | H31: =H32+H33+H34+H35+H36 -> 0 | I31: 0 | J31: =J32+J33+J34+J35+J36 -> 0 | K31: =K32+K33+K34+K35+K36 -> 0 | L31: =L32+L33+L34+L35+L36 -> 0 | M31: =M32+M33+M34+M35+M36 -> 11240 | N31: =N32+N33+N34+N35+N36 -> 0 | O31: =O32+O33+O34+O35+O36 -> 5600 | P31: =P32+P33+P34+P35+P36 -> 0 | Q31: =Q32+Q33+Q34+Q35+Q36 -> 5600 | ... T31: =T32+T33+T34+T35+T36 -> 0
D32: 610 | E32: Mzdy, platy a ostatné osobné vyrovnania | F32: 41 | G32: 0 | H32: 0 | I32: 0 | J32: 0 | K32: 0 | L32: 0 | M32: 0 | N32: 0 | O32: 0 | P32: 0 | Q32: 0 | R32: 0 | S32: 0 | T32: 0
D33: 620 | E33: Poistné a príspevok do poisťovní | F33: 41 | G33: 884 | H33: 0 | I33: 0 | J33: 0 | K33: 0 | L33: 0 | M33: 0 | N33: 0 | O33: 0 | P33: 0 | Q33: 0 | R33: 0 | S33: 0 | T33: 0
D34: 630 | E34: Tovary a služby - dohody ZŠ | F34: 41 | G34: 1265 | H34: 0 | I34: 0 | J34: 0 | K34: 0 | L34: 0 | M34: 11240 | N34: 0 | O34: 5600 | P34: 0 | Q34: 5600 | R34: 0 | S34: 5600 | T34: 0
D35: 630 | E35: Tovary a služby - MŠ | F35: 41 | G35: 0 | H35: 0 | I35: 0 | J35: 0 | K35: 0 | L35: 0 | M35: 0 | N35: 0 | O35: 0 | P35: 0 | Q35: 0 | R35: 0 | S35: 0 | T35: 0
D36: 710 | E36: Obstaranie kapitálových aktív/Mixér ŠJ | F36: 41 | G36: 0 | H36: 0 | I36: 0 | J36: 0 | K36: 0 | L36: 0 | M36: 0 | N36: 0 | O36: 0 | P36: 0 | Q36: 0 | R36: 0 | S36: 0 | T36: 0
B37: 2 | C37: Materská škola | G37: =G38+G52 -> 121873 | H37: =H38+H52 -> 0 | I37: =I38+I52 -> 148653 | J37: =J38+J52 -> 0 | K37: =K38+K52 -> 147706 | L37: =L38+L52 -> 0 | M37: =M38+M52 -> 172248 | N37: =N38+N52 -> 0 | ... T37: =T38+T52 -> 0
C38: 09.1.1.1 | D38: Materská škola | G38: =G39+G44 -> 117927 | H38: =H39+H44 -> 0 | I38: =I39+I44 -> 141647 | J38: =J39+J44 -> 0 | K38: =K39+K44 -> 140700 | L38: =L39+L44 -> 0 | M38: =M39+M44 -> 163885 | N38: =N39+N44 -> 0 | ... T38: =T39+T44 -> 0
E39: SPOLU MŠ - z rozpočtu obce | G39: =G40+G41+G42+G43 -> 105175 | H39: =H40+H41+H42+H43 -> 0 | I39: =I40+I41+I42+I43 -> 129624 | J39: =J40+J41+J42+J43 -> 0 | K39: =K40+K41+K42+K43 -> 135700 | L39: =L40+L41+L42+L43 -> 0 | M39: =M40+M41+M42+M43 -> 142150 | N39: =N40+N41+N42+N43 -> 0 | ... T39: =T40+T41+T42+T43 -> 0
B40: z rozpočtu | C40: obce | D40: 610 | E40: Mzdy, platy a ostatné osobné vyrovnania | F40: 41 | G40: 50220 | H40: 0 | I40: 67769 | J40: 0 | K40: 83600 | L40: 0 | M40: 95550 | N40: 0 | O40: 100830 | P40: 0 | Q40: 100830 | R40: 0 | S40: 100830 | T40: 0
B41: z rozpočtu | C41: obce | D41: 620 | E41: Poistné a príspevok do poisťovní | F41: 41 | G41: 21545 | H41: 0 | I41: 27714 | J41: 0 | K41: 27000 | L41: 0 | M41: 34750 | N41: 0 | O41: 35240 | P41: 0 | Q41: 35240 | R41: 0 | S41: 35240 | T41: 0
B42: z rozpočtu | C42: obce | D42: 630 | E42: Tovary a služby | F42: 41 | G42: 32896 | H42: 0 | I42: 33803 | J42: 0 | K42: 25000 | L42: 0 | M42: 11220 | N42: 0 | O42: 24997 | P42: 0 | Q42: 25000 | R42: 0 | S42: 25000 | T42: 0
B43: z rozpočtu | C43: obce | D43: 640 | E43: Bežné transfery | F43: 41 | G43: 514 | H43: 0 | I43: 338 | J43: 0 | K43: 100 | L43: 0 | M43: 630 | N43: 0 | O43: 200 | P43: 0 | Q43: 200 | R43: 0 | S43: 200 | T43: 0
E44: SPOLU MŠ - vlastné zdroje | G44: =G45+G46+G49+G50+G47+G48+G51 -> 12752 | H44: =H45+H46+H49+H50+H47+H48+H51 -> 0 | I44: =I45+I46+I49+I50+I47+I48+I51 -> 12023 | J44: =J45+J46+J49+J50+J47+J48+J51 -> 0 | K44: =K45+K46+K49+K50+K47+K48+K51 -> 5000 | L44: =L45+L46+L49+L50+L47+L48+L51 -> 0 | M44: =M45+M46+M49+M50+M47+M48+M51 -> 21735 | N44: =N45+N46+N49+N50+N47+N48+N51 -> 0 | ... T44: =T45+T46+T49+T50+T47+T48+T51 -> 0
B45: vlastné | C45: zdroje | D45: 610 | E45: Mzdy, platy a ostatné osobné vyrovnania | F45: 1PO1 | G45: 9770 | H45: 0 | I45: 0 | J45: 0 | K45: 0 | L45: 0 | M45: 7500 | N45: 0 | O45: 7500 | P45: 0 | Q45: 7500 | R45: 0 | S45: 7500 | T45: 0
B46: vlastné | C46: zdroje | D46: 620 | E46: Poistné a príspevok do poisťovní | F46: 1PO1 | G46: 0 | H46: 0 | I46: 0 | J46: 0 | K46: 0 | L46: 0 | M46: 2090 | N46: 0 | O46: 2090 | P46: 0 | Q46: 2090 | R46: 0 | S46: 2090 | T46: 0
B47: vlastné | C47: zdroje | D47: 610 | E47: Mzdy, platy a ostatné osobné vyrovnania | F47: 3AY1 | G47: 0 | H47: 0 | I47: 0 | J47: 0 | K47: 0 | L47: 0 | M47: 3000 | N47: 0 | O47: 3718 | P47: 0 | Q47: 3718 | R47: 0 | S47: 3718 | T47: 0
G48: 0 | H48: 0 | I48: 0 | J48: 0 | K48: 0 | L48: 0 | M48: 1100 | N48: 0 | O48: 2001 | P48: 0 | Q48: 2001 | R48: 0 | S48: 2001 | T48: 0
B49: vlastné | C49: zdroje | D49: 630 | E49: Tovary a služby | F49: 72 | G49: 2982 | H49: 0 | I49: 5123 | J49: 0 | K49: 5000 | L49: 0 | M49: 5925 | N49: 0 | O49: 5925 | P49: 0 | Q49: 5925 | R49: 0 | S49: 5925 | T49: 0
B50: vlastné | C50: zdroje | D50: 640 | E50: Bežné transfery | F50: 72 | G50: 0 | H50: 0 | I50: 0 | J50: 0 | K50: 0 | L50: 0 | M50: 1000 | N50: 0 | O50: 0 | P50: 0 | Q50: 0 | R50: 0 | S50: 0 | T50: 0
B51: vlastné | C51: zdroje | D51: 630 | E51: Tovary a služby | F51: 111 | G51: 0 | H51: 0 | I51: 6900 | J51: 0 | K51: 0 | L51: 0 | M51: 1120 | N51: 0 | O51: 0 | P51: 0 | Q51: 0 | R51: 0 | S51: 0 | T51: 0
C52: 09.1.1.2 | D52: Výchova a vzdelávanie | G52: =G53+G54+G55 -> 3946 | H52: =H53+H54+H55 -> 0 | I52: =I53+I54+I55 -> 7006 | J52: =J53+J54+J55 -> 0 | K52: =K53+K54+K55 -> 7006 | L52: =L53+L54+L55 -> 0 | M52: =M53+M54+M55 -> 8363 | N52: =N53+N54+N55 -> 0 | ... T52: =T53+T54+T55 -> 0
D53: 610 | E53: Mzdy, platy a ostatné osobné vyrovnania | F53: 1PO1 | G53: 2581 | H53: 0 | I53: 7006 | J53: 0 | K53: 6356 | L53: 0 | M53: 5433 | N53: 0 | O53: 5433 | P53: 0 | Q53: 5433 | R53: 0 | S53: 5433 | T53: 0
D54: 620 | E54: Poistné a príspevok do poisťovní | F54: 111 | G54: 650 | H54: 0 | I54: 0 | J54: 0 | K54: 650 | L54: 0 | M54: 2930 | N54: 0 | O54: 2930 | P54: 0 | Q54: 2930 | R54: 0 | S54: 2930 | T54: 0
D55: 630 | E55: Tovary a služby | F55: 111 | G55: 715 | H55: 0 | I55: 0 | J55: 0 | K55: 0 | L55: 0 | M55: 0 | N55: 0 | O55: 0 | P55: 0 | Q55: 0 | R55: 0 | S55: 0 | T55: 0
B56: 3 | C56: Školská jedáleň | G56: =G57 -> 101101 | H56: =H57 -> 0 | I56: =I57 -> 89711 | J56: =J57 -> 0 | K56: =K57 -> 98600 | L56: =L57 -> 0 | M56: =M57 -> 105050 | N56: =N57 -> 0 | ... T56: =T57 -> 0
C57: 09.6.0.1 | D57: Zariadenie školského stravovania | G57: =G58+G64+G69 -> 101101 | H57: =H58+H64+H69 -> 0 | I57: =I58+I64+I69 -> 89711 | J57: =J58+J64+J69 -> 0 | K57: =K58+K64+K69 -> 98600 | L57: =L58+L64+L69 -> 0 | M57: =M58+M64+M69 -> 105050 | N57: =N58+N64+N69 -> 0 | ... T57: =T58+T64+T69 -> 0
E58: SPOLU Šj - z rozpočtu obce | G58: =G59+G60+G61+G62+G63 -> 62181 | H58: =H59+H60+H61+H62+H63 -> 0 | I58: =I59+I60+I61+I62+I63 -> 69489 | J58: =J59+J60+J61+J62+J63 -> 0 | K58: =K59+K60+K61+K62+K63 -> 73600 | L58: =L59+L60+L61+L62+L63 -> 0 | M58: =M59+M60+M61+M62+M63 -> 73600 | N58: =N59+N60+N61+N62+N63 -> 0 | ... T58: =T59+T60+T61+T62+T63 -> 0
B59: z rozpočtu | C59: obce | D59: 610 | E59: Mzdy, platy a ostatné osobné vyrovnania | F59: 41 | G59: 39729 | H59: 0 | I59: 47028 | J59: 0 | K59: 51000 | L59: 0 | M59: 46500 | N59: 0 | O59: 44050 | P59: 0 | Q59: 44050 | R59: 0 | S59: 44050 | T59: 0
B60: z rozpočtu | C60: obce | D60: 620 | E60: Poistné a príspevok do poisťovní | F60: 41 | G60: 14645 | H60: 0 | I60: 17696 | J60: 0 | K60: 20000 | L60: 0 | M60: 17000 | N60: 0 | O60: 15400 | P60: 0 | Q60: 15400 | R60: 0 | S60: 15400 | T60: 0
B61: z rozpočtu | C61: obce | D61: 630 | E61: Tovary a služby | F61: 41 | G61: 7570 | H61: 0 | I61: 4337 | J61: 0 | K61: 2500 | L61: 0 | M61: 9884 | N61: 0 | O61: 14062 | P61: 0 | Q61: 14050 | R61: 0 | S61: 14050 | T61: 0
B62: z rozpočtu | C62: obce | D62: 640 | E62: Bežné transfery | F62: 41 | G62: 237 | H62: 0 | I62: 428 | J62: 0 | K62: 100 | L62: 0 | M62: 216 | N62: 0 | O62: 200 | P62: 0 | Q62: 200 | R62: 0 | S62: 200 | T62: 0
C63: obce | D63: 7xx | E63: Kapitálové výdavky | F63: 41 | G63: 0 | H63: 0 | I63: 0 | J63: 0 | K63: 0 | L63: 0 | M63: 0 | N63: 0 | O63: 0 | P63: 0 | Q63: 0 | R63: 0 | S63: 0 | T63: 0
E64: SPOLU Šj - vlastné zdroje | G64: =G65+G66+G67+G68 -> 20030 | H64: =H65+H66+H67+H68 -> 0 | I64: =I65+I66+I67+I68 -> 20222 | J64: =J65+J66+J67+J68 -> 0 | K64: =K65+K66+K67+K68 -> 25000 | L64: =L65+L66+L67+L68 -> 0 | M64: =M65+M66+M67+M68 -> 31450 | N64: =N65+N66+N67+N68 -> 0 | ... T64: =T65+T66+T67+T68 -> 0
B65: vlastné | C65: zdroje | D65: 610 | E65: Mzdy, platy a ostatné osobné vyrovnania | F65: 72 | G65: 0 | H65: 0 | I65: 0 | J65: 0 | K65: 0 | L65: 0 | M65: 0 | N65: 0 | O65: 0 | P65: 0 | Q65: 0 | R65: 0 | S65: 0 | T65: 0
B66: vlastné | C66: zdroje | D66: 620 | E66: Poistné a príspevok do poisťovní | F66: 72 | G66: 0 | H66: 0 | I66: 0 | J66: 0 | K66: 0 | L66: 0 | M66: 0 | N66: 0 | O66: 0 | P66: 0 | Q66: 0 | R66: 0 | S66: 0 | T66: 0
B67: vlastné | C67: zdroje | D67: 630 | E67: Tovary a služby | F67: 72 | G67: 8715 | H67: 0 | I67: 7396 | J67: 0 | K67: 10000 | L67: 0 | M67: 11134 | N67: 0 | O67: 11134 | P67: 0 | Q67: 11134 | R67: 0 | S67: 11134 | T67: 0
B68: vlastné | C68: zdroje | D68: 640 | E68: Bežné transfery | F68: 72 | G68: 11315 | H68: 0 | I68: 12826 | J68: 0 | K68: 15000 | L68: 0 | M68: 20316 | N68: 0 | O68: 25000 | P68: 0 | Q68: 25000 | R68: 0 | S68: 25000 | T68: 0
E69: SPOLU Šj - vlastné zdroje | G69: =G70+G71 -> 18890 | H69: =H70+H71 -> 0 | I69: =I70+I71 -> 0 | J69: =J70+J71 -> 0 | K69: =K70+K71 -> 0 | L69: =L70+L71 -> 0 | M69: =M70+M71 -> 0 | N69: =N70+N71 -> 0 | ... T69: =T70+T71 -> 0
B70: zdroje | C70: ŠR | D70: 610 | E70: Mzdy, platy a ostatné osobné vyrovnania | F70: 111 | G70: 14561 | H70: 0 | I70: 0 | J70: 0 | K70: 0 | L70: 0 | M70: 0 | N70: 0 | O70: 0 | P70: 0 | Q70: 0 | R70: 0 | S70: 0 | T70: 0
B71: zdroje | C71: ŠR | D71: 620 | E71: Poistné a príspevok do poisťovní | F71: 111 | G71: 4329 | H71: 0 | I71: 0 | J71: 0 | K71: 0 | L71: 0 | M71: 0 | N71: 0 | O71: 0 | P71: 0 | Q71: 0 | R71: 0 | S71: 0 | T71: 0
B72: 4 | C72: ÚPSVaR/Hmotná núdza | G72: =G73+G75 -> 20137 | H72: =H73+H75 -> 0 | I72: =I73+I75 -> 11900 | J72: =J73+J75 -> 0 | K72: =K73+K75 -> 3083 | L72: =L73+L75 -> 0 | M72: =M73+M75 -> 1261 | N72: =N73+N75 -> 0 | ... T72: =T73+T75 -> 0
C73: 1 | D73: Strava | G73: =G74 -> 19988 | H73: =H74 -> 0 | I73: =I74 -> 11784 | J73: =J74 -> 0 | K73: =K74 -> 3000 | L73: =L74 -> 0 | M73: =M74 -> 1195 | N73: =N74 -> 0 | ... T73: =T74 -> 0
D74: 630 | E74: Tovary a služby | F74: 111 | G74: 19988 | H74: 0 | I74: 11784 | J74: 0 | K74: 3000 | L74: 0 | M74: 1195 | N74: 0 | O74: 250 | P74: 0 | Q74: 250 | R74: 0 | S74: 250 | T74: 0
C75: 2 | D75: Školské pomôcky | G75: =G76 -> 149 | H75: =H76 -> 0 | I75: =I76 -> 116 | J75: =J76 -> 0 | K75: =K76 -> 83 | L75: =L76 -> 0 | M75: =M76 -> 66 | N75: =N76 -> 0 | ... T75: =T76 -> 0
D76: 630 | E76: Bežné transfery | F76: 111 | G76: 149 | H76: 0 | I76: 116 | J76: 0 | K76: 83 | L76: 0 | M76: 66 | N76: 0 | O76: 66 | P76: 0 | Q76: 66 | R76: 0 | S76: 66 | T76: 0
B77: 5 | C77: Školský klub | G77: =G78 -> 18848 | H77: =H78 -> 0 | I77: =I78 -> 18148 | J77: =J78 -> 0 | K77: =K78 -> 21300 | L77: =L78 -> 0 | M77: =M78 -> 21200 | N77: =N78 -> 0 | ... T77: =T78 -> 0
C78: 09.5.0. | D78: Školský klub | G78: =G79+G83 -> 18848 | H78: =H79+H83 -> 0 | I78: =I79+I83 -> 18148 | J78: =J79+J83 -> 0 | K78: =K79+K83 -> 21300 | L78: =L79+L83 -> 0 | M78: =M79+M83 -> 21200 | N78: =N79+N83 -> 0 | ... T78: =T79+T83 -> 0
E79: SPOLU ŠKD - z rozpočtu obce | G79: =G80+G81+G82 -> 17837 | H79: =H80+H81+H82 -> 0 | I79: =I80+I81+I82 -> 17018 | J79: =J80+J81+J82 -> 0 | K79: =K80+K81+K82 -> 20150 | L79: =L80+L81+L82 -> 0 | M79: =M80+M81+M82 -> 20150 | N79: =N80+N81+N82 -> 0 | ... T79: =T80+T81+T82 -> 0
B80: z rozpočtu | C80: obce | D80: 610 | E80: Mzdy, platy a ostatné osobné vyrovnania | F80: 41 | G80: 12750 | H80: 0 | I80: 12126 | J80: 0 | K80: 15000 | L80: 0 | M80: 15000 | N80: 0 | O80: 10000 | P80: 0 | Q80: 10000 | R80: 0 | S80: 10000 | T80: 0
B81: z rozpočtu | C81: obce | D81: 620 | E81: Poistné a príspevok do poisťovní | F81: 41 | G81: 4808 | H81: 0 | I81: 4613 | J81: 0 | K81: 4700 | L81: 0 | M81: 4700 | N81: 0 | O81: 3500 | P81: 0 | Q81: 3500 | R81: 0 | S81: 3500 | T81: 0
B82: z rozpočtu | C82: obce | D82: 630 | E82: Tovary a služby | F82: 41 | G82: 279 | H82: 0 | I82: 279 | J82: 0 | K82: 450 | L82: 0 | M82: 450 | N82: 0 | O82: 450 | P82: 0 | Q82: 450 | R82: 0 | S82: 450 | T82: 0
E83: SPOLU Š - vlastné zdroje | G83: =G84+G85 -> 1011 | H83: =H84+H85 -> 0 | I83: =I84+I85 -> 1130 | J83: =J84+J85 -> 0 | K83: =K84+K85 -> 1150 | L83: =L84+L85 -> 0 | M83: =M84+M85 -> 1050 | N83: =N84+N85 -> 0 | ... T83: =T84+T85 -> 0
B84: z rozpočtu | C84: obce | D84: 630 | E84: Tovary a služby | F84: 72 | G84: 1011 | H84: 0 | I84: 1130 | J84: 0 | K84: 1150 | L84: 0 | M84: 1050 | N84: 0 | O84: 800 | P84: 0 | Q84: 800 | R84: 0 | S84: 800 | T84: 0
D85: 630 | E85: Tovary a služby | F85: 131G | G85: 0 | H85: 0 | I85: 0 | J85: 0 | K85: 0 | L85: 0 | M85: 0 | N85: 0 | O85: 0 | P85: 0 | Q85: 0 | R85: 0 | S85: 0 | T85: 0
A86: PROGRAM 8: Vzdelávanie - obec | F86: =F87+F115+F134+F150+F155 -> 0 | G86: =G87+G115+G134+G150+G155 -> 0 | H86: =H87+H115+H134+H150+H155 -> 0 | I86: =I87+I115+I134+I150+I155 -> 24741 | J86: =J87+J115+J134+J150+J155 -> 0 | K86: =K87+K115+K134+K150+K155 -> 0 | L86: =L87+L115+L134+L150+L155 -> 0 | M86: =M87+M115+M134+M150+M155 -> 0 | ... T86: =T87+T115+T134+T150+T155 -> 0
B87: 6 | C87: Telocvičňa | G87: =G88+G90 -> 0 | H87: =H88+H90 -> 0 | I87: =I88+I90 -> 24741 | J87: =J88+J90 -> 0 | K87: =K88+K90 -> 0 | L87: =L88+L90 -> 0 | M87: =M88+M90 -> 0 | N87: =N88+N90 -> 0 | ... T87: =T88+T90 -> 0
C88: 09.1.2.1 | D88: Telocvičňa | G88: =G89 -> 0 | H88: =H89 -> 0 | I88: =I89 -> 5117 | J88: =J89 -> 0 | K88: =K89 -> 0 | L88: =L89 -> 0 | M88: =M89 -> 0 | N88: =N89 -> 0 | ... T88: =T89 -> 0
D89: 630 | E89: Náter strechy | F89: 46 | G89: 0 | H89: 0 | I89: 5117 | J89: 0 | K89: 0 | L89: 0 | M89: 0 | N89: 0 | O89: 0 | P89: 0 | Q89: 0 | R89: 0 | S89: 0 | T89: 0
C90: 09.1.2.1 | D90: Vrátka/Obedy zadarmo | G90: =G91 -> 0 | H90: =H91 -> 0 | I90: =I91 -> 19624 | J90: =J91 -> 0 | K90: =K91 -> 0 | L90: =L91 -> 0 | M90: =M91 -> 0 | N90: =N91 -> 0 | ... T90: =T91 -> 0
D91: 630 | E91: Vrátka | F91: 131K | G91: 0 | H91: 0 | I91: 19624 | J91: 0 | K91: 0 | L91: 0 | M91: 0 | N91: 0 | O91: 0 | P91: 0 | Q91: 0 | R91: 0 | S91: 0 | T91: 0

Sheet Výdavky spolu
G1: Skutočné plnenie r.2020 | I1: Skutočné plnenie r.2021 | K1: Rozpočet 2022 | M1: Očakáv.skutočn. 2022 | O1: Rozpočet 2023 | Q1: Rozpočet 2024 | S1: Rozpočet 2025
G2: Bežné výdavky | H2: Kapitálové výdavky | I2: Bežné výdavky | J2: Kapitálové výdavky | K2: Bežné výdavky | L2: Kapitálové výdavky | M2: Bežné výdavky | N2: Kapitálové výdavky | O2: Bežné výdavky | P2: Kapitálové výdavky | Q2: Bežné výdavky | R2: Kapitálové výdavky | S2: Bežné výdavky | T2: Kapitálové výdavky
B3: Akti- | C3: funkčná | D3: ekonomická klasifikácia
B4: vita | C4: klasifik. | E4: ukazovateľ
F5: KÓD ZDROJA
C6: Výdavky celkom/obec: | G6: ='[1]Program 1'!G9+'[1]Program 2'!G8+'[1]Program 3'!G8+'[1]Program 4'!G7+'[1]Program 5'!G8+'[1]Program 6'!G7+'[1]Program 7'!G7+'[1]Program 8'!G86 -> 469982 | H6: ='[1]Program 1'!H9+'[1]Program 2'!H8+'[1]Program 3'!H8+'[1]Program 4'!H7+'[1]Program 5'!H8+'[1]Program 6'!H7+'[1]Program 7'!H7+'[1]Program 8'!H86+'[1]Program 8'!H87 -> 11787 | I6: ='[1]Program 1'!I9+'[1]Program 2'!I8+'[1]Program 3'!I8+'[1]Program 4'!I7+'[1]Program 5'!I8+'[1]Program 6'!I7+'[1]Program 7'!I7+'[1]Program 8'!I86 -> 587389 | J6: ='[1]Program 1'!J9+'[1]Program 2'!J8+'[1]Program 3'!J8+'[1]Program 4'!J7+'[1]Program 5'!J8+'[1]Program 6'!J7+'[1]Program 7'!J7+'[1]Program 8'!J87 -> 130342 | K6: ='[1]Program 1'!K9+'[1]Program 2'!K8+'[1]Program 3'!K8+'[1]Program 4'!K7+'[1]Program 5'!K8+'[1]Program 6'!K7+'[1]Program 7'!K7+'[1]Program 8'!M86 -> 679640 | L6: ='[1]Program 1'!L9+'[1]Program 2'!L8+'[1]Program 3'!L8+'[1]Program 4'!L7+'[1]Program 5'!L8+'[1]Program 6'!L7+'[1]Program 7'!L7+'[1]Program 8'!L87 -> 141713 | M6: ='[1]Program 1'!M9+'[1]Program 2'!M8+'[1]Program 3'!M8+'[1]Program 4'!M7+'[1]Program 5'!M8+'[1]Program 6'!M7+'[1]Program 7'!M7+'[1]Program 8'!M86 -> 717595 | N6: ='[1]Program 1'!N9+'[1]Program 2'!N8+'[1]Program 3'!N8+'[1]Program 4'!N7+'[1]Program 5'!N8+'[1]Program 6'!N7+'[1]Program 7'!N7+'[1]Program 8'!N87 -> 380882 | O6: ='[1]Program 1'!O9+'[1]Program 2'!O8+'[1]Program 3'!O8+'[1]Program 4'!O7+'[1]Program 5'!O8+'[1]Program 6'!O7+'[1]Program 7'!O7+'[1]Program 8'!O86 -> 810593 | P6: ='[1]Program 1'!P9+'[1]Program 2'!P8+'[1]Program 3'!P8+'[1]Program 4'!P7+'[1]Program 5'!P8+'[1]Program 6'!P7+'[1]Program 7'!P7+'[1]Program 8'!P87 -> 179200 | Q6: ='[1]Program 1'!Q9+'[1]Program 2'!Q8+'[1]Program 3'!Q8+'[1]Program 4'!Q7+'[1]Program 5'!Q8+'[1]Program 6'!Q7+'[1]Program 7'!Q7+'[1]Program 8'!Q86 -> 902457 | R6: ='[1]Program 1'!R9+'[1]Program 2'!R8+'[1]Program 3'!R8+'[1]Program 4'!R7+'[1]Program 5'!R8+'[1]Program 6'!R7+'[1]Program 7'!R7+'[1]Program 8'!R87 -> 0 | S6: ='[1]Program 1'!S9+'[1]Program 2'!S8+'[1]Program 3'!S8+'[1]Program 4'!S7+'[1]Program 5'!S8+'[1]Program 6'!S7+'[1]Program 7'!S7+'[1]Program 8'!S86 -> 1012457 | T6: ='[1]Program 1'!T9+'[1]Program 2'!T8+'[1]Program 3'!T8+'[1]Program 4'!T7+'[1]Program 5'!T8+'[1]Program 6'!T7+'[1]Program 7'!T7+'[1]Program 8'!T87 -> 0
C7: Výdavky celkom/škola: | G7: ='[1]Program 8'!G8 -> 990789 | H7: ='[1]Program 8'!H8 -> 0 | I7: ='[1]Program 8'!I8 -> 1040201 | J7: ='[1]Program 8'!J8 -> 0 | K7: ='[1]Program 8'!K8 -> 988039 | L7: ='[1]Program 8'!L8 -> 0 | M7: ='[1]Program 8'!K8 -> 988039 | N7: ='[1]Program 8'!L8 -> 0 | O7: ='[1]Program 8'!O8 -> 1061239 | P7: ='[1]Program 8'!P8 -> 0 | Q7: ='[1]Program 8'!Q8 -> 1011543 | R7: ='[1]Program 8'!P8 -> 0 | S7: ='[1]Program 8'!S8 -> 1011543 | T7: ='[1]Program 8'!R8 -> 0
C8: Výdavky celkom: | G8: =G6+G7 -> 1460771 | H8: =H6+H7 -> 11787 | I8: =I6+I7 -> 1627590 | J8: =J6+J7 -> 130342 | K8: =K6+K7 -> 1667679 | L8: =L6+L7 -> 141713 | M8: =M6+M7 -> 1705634 | N8: =N6+N7 -> 380882 | ... T8: =T6+T7 -> 0
G12: Skutočné plnenie r.2020 | I12: Skutočné plnenie r.2021 | K12: Rozpočet 2022 | M12: Očakáv.skutočn. 2022 | O12: Rozpočet 2023 | Q12: Rozpočet 2024 | S12: Rozpočet 2025
G13: Bežné výdavky | H13: Kapitálové výdavky | I13: Bežné výdavky | J13: Kapitálové výdavky | K13: Bežné výdavky | L13: Kapitálové výdavky | M13: Bežné výdavky | N13: Kapitálové výdavky | O13: Bežné výdavky | P13: Kapitálové výdavky | Q13: Bežné výdavky | R13: Kapitálové výdavky | S13: Bežné výdavky | T13: Kapitálové výdavky
B14: Akti- | C14: funkčná | D14: ekonomická klasifikácia
B15: vita | C15: klasifik. | E15: ukazovateľ
F16: KÓD ZDROJA
B17: Výdavkové finančné operácie
A18: 1 | G18: =G19 -> 100008 | H18: =H19 -> 0 | I18: =I19 -> 100008 | J18: =J19 -> 0 | K18: =K19 -> 100008 | L18: =L19 -> 0 | M18: =M19 -> 100008 | N18: =N19 -> 0 | ... T18: =T19 -> 0
A19: 2 | B19: 6 | C19: Transakcie verejného dlhu | G19: =G20 -> 100008 | H19: =H20 -> 0 | I19: =I20 -> 100008 | J19: =J20 -> 0 | K19: =K20 -> 100008 | L19: =L20 -> 0 | M19: =M20 -> 100008 | N19: =N20 -> 0 | ... T19: =T20 -> 0
A20: 3 | C20: 01.7.0 | D20: Splátka úveru | G20: =G21+G22 -> 100008 | H20: =H21+H22 -> 0 | I20: =I21+I22 -> 100008 | J20: =J21+J22 -> 0 | K20: =K21+K22 -> 100008 | L20: =L21+L22 -> 0 | M20: =M21+M22 -> 100008 | N20: =N21+N22 -> 0 | ... T20: =T21+T22 -> 0
A21: 4 | D21: 820 | E21: Služby/Splátka úveru | F21: 41 | G21: 100008 | H21: 0 | I21: 100008 | J21: 0 | K21: 100008 | L21: 0 | M21: 100008 | O21: 99968 | P21: 0 | Q21: 0 | R21: 0 | S21: 0 | T21: 0
D22: 81x | E22: Splátka návr. Finančnej výpomoci | F22: 41 | G22: 0 | H22: 0 | I22: 0 | J22: 0 | K22: 0 | L22: 0 | M22: 0 | N22: 0 | O22: 0 | P22: 0 | Q22: 0 | R22: 0 | S22: 0 | T22: 0
A23: Finančné operácie - výdavkové spolu: | G23: =G18 -> 100008 | H23: =H18 -> 0 | I23: =I18 -> 100008 | J23: =J18 -> 0 | K23: =K18 -> 100008 | L23: =L18 -> 0 | M23: =M18 -> 100008 | N23: =N18 -> 0 | ... T23: =T18 -> 0
A27: Bežné výdavky | G27: =G8 -> 1460771 | H27: 0 | I27: =I8 -> 1627590 | J27: =J8 -> 130342 | K27: =K8 -> 1667679 | L27: 0 | M27: =M8 -> 1705634 | N27: 0 | O27: =O8 -> 1871832 | P27: 0 | Q27: =Q8 -> 1914000 | R27: 0 | S27: =S8 -> 2024000 | T27: =T8 -> 0
A28: Kapitálové výdavky | G28: =H8 -> 11787 | I28: =J8 -> 130342 | J28: 0 | K28: =L8 -> 141713 | L28: 0 | M28: =N8 -> 380882 | N28: 0 | O28: =P8 -> 179200 | P28: 0 | Q28: =R8 -> 0 | R28: 0 | S28: =T8 -> 0 | T28: =U8 -> 0
A29: Výdavkové finančné operácie | G29: =G23 -> 100008 | H29: =H23 -> 0 | I29: =I23 -> 100008 | J29: =J23 -> 0 | K29: =K23 -> 100008 | L29: =L23 -> 0 | M29: =M23 -> 100008 | N29: =N23 -> 0 | ... T29: =T23 -> 0
A30: VÝDAVKY SPOLU | G30: =G27+G28+G29 -> 1572566 | H30: xxx | I30: =I27+I28+I29 -> 1857940 | J30: =J27+J28+J29 -> 130342 | K30: =K27+K28+K29 -> 1909400 | L30: xxx | M30: =M27+M28+M29 -> 2186524 | N30: xxx | O30: =O27+O28+O29 -> 2151000 | P30: xxx | Q30: =Q27+Q28+Q29 -> 1914000 | R30: xxx | S30: =S27+S28+S29 -> 2024000 | T30: xxx
A32: Poznámka: Rozpočet obce na rok 2024 vrátane rozpočtu Základnej školy s MŠ Rabčice na úrovni programov a podprogramov na úrovni funkčnej klasifikácie schválený Obecným zastupiteľstvom,
C33: konaným dňa 16.12.2022, Uznesením č.29/7/2022
C36: Rozpočet obce na úrovni programov a podprogramov na úrovni funkčnej klasifikácie na roky 2024 a 2025 vrátane rozpočtu Základnej školy s MŠ Rabčice, Obecné zastupiteľstvo, konané dňa
C37: 16.12.2022, vzalo na vedomie Uznesením č. 30/7/2022
A40: Vypracovala: Mgr. Bubláková Dana
A44: Schválil: Mgr. Gabriel Vons - starosta obce
A47: Návrh rozpočtu na rok 2023 s výhľadom na roky 2024, 2025:
A48: vyvesený na úradnej tabuli obce dňa: 30.11.2022
A49: zverejnený na úradnej tabuli obce dňa: 30.11.2022
A50: zverejnený na internetovej adrese obce dňa: 30.11.2022
A52: zvesený dňa: 16.12.2022

Sheet Výdavky podľa programov
G1: Výdavky
F2: Rozpočet 2023
F3: Bežné výdavky | G3: Kapitálové výdavky
B7: PROGRAM 1: Plánovanie, manažment a kontrola | F7: =F8+F9+F10+F11+F12+F13 -> 465373 | G7: =G8+G9+G10+G11+G12 -> 100000
B8: 1 | C8: Činnosť obecného úradu | F8: ='[1]Program 1'!O10 -> 453573 | G8: ='[1]Program 1'!P10 -> 100000
B9: 2 | C9: Členstvo v organizáciach a združeniach | F9: ='[1]Program 1'!O21 -> 8000 | G9: ='[1]Program 1'!P21 -> 0
B10: 3 | C10: Vnútorná kontrola/Hlavný kontrolór | F10: ='[1]Program 1'!O24 -> 1300 | G10: ='[1]Program 1'!P24 -> 0
B11: 4 | C11: Audit | F11: ='[1]Program 1'!O29 -> 1200 | G11: ='[1]Program 1'!P29 -> 0
B12: 5 | C12: Finančná a rozpočtová oblasť | F12: ='[1]Program 1'!O32 -> 700 | G12: ='[1]Program 1'!P32 -> 0
B13: 6 | C13: Splátka úrokov z úveru | F13: ='[1]Program 1'!O35 -> 600 | G13: ='[1]Program 1'!P35 -> 0
B14: PROGRAM 2: Propagácia a prezentácia obce | F14: =F15 -> 5000 | G14: =G15 -> 0
B15: 1 | C15: Propagácia a prezentácia obce | F15: ='[1]Program 2'!O9 -> 5000 | G15: ='[1]Program 2'!P9 -> 0
B16: PROGRAM 3: Interné služby obce | F16: =F17+F18+F19 -> 32500 | G16: =G17+G18+G19 -> 0
B17: 1 | C17: Činnosť volených orgánov samosprávy/Zastup. | F17: ='[1]Program 3'!O9 -> 6100 | G17: ='[1]Program 3'!P9 -> 0
B18: 2 | C18: Plánovanie obce | F18: ='[1]Program 3'!O13 -> 25000 | G18: ='[1]Program 3'!P13 -> 0
B19: 4 | C19: Vzdelávanie zamestnancov obecného úradu | F19: ='[1]Program 3'!O18 -> 1400 | G19: ='[1]Program 3'!P18 -> 0
B20: PROGRAM 4: Služby občanom | F20: ='[1]Program 4'!O7 -> 249477 | G20: ='[1]Program 4'!P7 -> 79200
B21: 1 | C21: Činnosť matriky-prenesený výkon | F21: ='[1]Program 4'!O8 -> 4042 | G21: ='[1]Program 4'!P8 -> 0
B22: 2 | C22: Rozvoj obce-aktivačné práce | F22: ='[1]Program 4'!O13 -> 0 | G22: ='[1]Program 4'!P13 -> 0
B23: 3 | C23: Evidencia obyvateľstva-prenesený výkon | F23: ='[1]Program 4'!O26 -> 672 | G23: ='[1]Program 4'!P26 -> 0
B24: 4 | C24: Cintorínske a pohrebné služby | F24: ='[1]Program 4'!O31 -> 4500 | G24: ='[1]Program 4'!P31 -> 0
B25: 5 | C25: Odpadové hospodárstvo | F25: ='[1]Program 4'!O35 -> 60000 | G25: ='[1]Program 4'!P35 -> 0
B26: 6 | C26: Miestny rozhlas | F26: ='[1]Program 4'!O43 -> 1000 | G26: ='[1]Program 4'!P43 -> 0
B27: 7 | C27: Verejné osvetlenie | F27: ='[1]Program 4'!O46 -> 30000 | G27: ='[1]Program 4'!P46 -> 0
B28: 8 | C28: Ochrana životn. prostredia-prenesený výkon | F28: ='[1]Program 4'!O49 -> 204 | G28: ='[1]Program 4'!P49 -> 0
B29: 9 | C29: Spoločný stavebný úrad | F29: ='[1]Program 4'!O54 -> 3600 | G29: ='[1]Program 4'!P54 -> 0
B30: 10 | C30: Komunikácie | F30: ='[1]Program 4'!O57 -> 20098 | G30: ='[1]Program 4'!P57 -> 0
B31: 11 | C31: Pomoc občanom v hmotnej a sociálnej núdzi | F31: ='[1]Program 4'!O66 -> 1350 | G31: ='[1]Program 4'!P66 -> 0
B32: 12 | C32: Opatrovateľská služba | F32: ='[1]Program 4'!O72 -> 4100 | G32: ='[1]Program 4'!P72 -> 0
B33: 13 | C33: Teplo/Kotolňa | F33: ='[1]Program 4'!O77 -> 71350 | G33: ='[1]Program 4'!P77 -> 0
B34: 16 | C34: Zásobovanie vodou/Vodovod | F34: ='[1]Program 4'!O90 -> 3500 | G34: ='[1]Program 4'!P90 -> 30000
B35: 17 | C35: Prídavky na dieťa | F35: ='[1]Program 4'!O95 -> 0 | G35: ='[1]Program 4'!P95 -> 0
B36: 19 | C36: Byty - 10 BJ + Drobná prevádzka | F36: ='[1]Program 4'!O99 -> 5000 | G36: ='[1]Program 4'!P99 -> 0
B37: 20 | C37: Register adries | F37: ='[1]Program 4'!O102 -> 42
B38: 21 | C38: Projekt "Zberný dvor" | F38: ='[1]Program 4'!O107 -> 0
B39: 22 | C39: Multifunkčná budova | F39: ='[1]Program 4'!O111 -> 40000 | G39: ='[1]Program 4'!P107 -> 49200
B40: 23 | C40: Vojnové hroby | F40: ='[1]Program 5'!O8 -> 3500 | G40: ='[1]Program 4'!P116 -> 0
B41: 33 | C41: Projekt "Ochrana kult.a prír. Dedičstva-Cykloch" | F41: ='[1]Program 4'!O124 -> 0 | G41: ='[1]Program 4'!P124 -> 0
B42: 34 | C42: Projekt "Detské ihrisko" | F42: ='[1]Program 4'!O132 -> 0 | G42: ='[1]Program 4'!P132 -> 0
B43: PROGRAM 5: Požiarna ochrana | F43: =F44 -> 3500 | G43: ='[1]Program 5'!P8 -> 0
B44: 1 | C44: Požiarna ochrana | F44: ='[1]Program 5'!O9 -> 3500 | G44: ='[1]Program 5'!P9 -> 0
B45: PROGRAM 6: Šport | F45: =F46+F47+F48 -> 2600 | G45: =G46+G47+G48 -> 0
B46: 1 | C46: Športové súťaže a podujatia | F46: ='[1]Program 6'!O8 -> 1300 | G46: ='[1]Program 6'!P8 -> 0
B47: 2 | C47: Podpora športových klubov | F47: ='[1]Program 6'!O12 -> 1000 | G47: ='[1]Program 6'!P12 -> 0
B48: 3 | C48: Športová infraštruktúra | F48: ='[1]Program 6'!O17 -> 300 | G48: ='[1]Program 6'!P17 -> 0
B49: PROGRAM 7: Kultúra | F49: =F50+F51+F52+F53 -> 52143 | G49: =G50+G51+G52+G53 -> 0
B50: 1 | C50: Kultúrny dom a kultúrne podujatia | F50: ='[1]Program 7'!O8 -> 24100 | G50: ='[1]Program 7'!P8 -> 0
B51: 2 | C51: Obecná knižnica | F51: ='[1]Program 7'!O15 -> 1400 | G51: ='[1]Program 7'!P15 -> 0
B52: 3 | C52: Obč. obrady-uvítanie detí, Posedenie, Zlaté svadby,... | F52: ='[1]Program 7'!O19 -> 6200 | G52: ='[1]Program 7'!P19 -> 0
B53: 4 | C53: Záujmová činnosť/Obec | F53: ='[1]Program 7'!O24 -> 20443 | G53: ='[1]Program 7'!P24 -> 0
B54: PROGRAM 8: Vzdelávanie | F54: ='[1]Program 8'!O8 -> 1061239 | G54: =G55+G56+G57+G58+G59 -> 0
B55: 1 | C55: Základná škola | F55: ='[1]Program 8'!O9 -> 745463 | G55: ='[1]Program 8'!P9 -> 0
B56: 2 | C56: Materská škola | F56: ='[1]Program 8'!O37 -> 190864 | G56: ='[1]Program 8'!P37 -> 0
B57: 3 | C57: Školská jedáleň | F57: ='[1]Program 8'!O56 -> 109846 | G57: ='[1]Program 8'!P56 -> 0
B58: 4 | C58: ÚPSVaR/Hmotná núdza-strava, školské pomôcky | F58: ='[1]Program 8'!O72 -> 316 | G58: ='[1]Program 8'!P72 -> 0
B59: 5 | C59: Školský klub detí | F59: ='[1]Program 8'!O77 -> 14750 | G59: ='[1]Program 8'!P77 -> 0
C60: Výdavky celkom bežné+kapitálové | F60: =F54+F49+F45+F43+F20+F16+F14+F7 -> 1871832 | G60: =G54+G49+G45+G43+G20+G16+G14+G7 -> 179200
B61: Výdavkové finančné operácie | F61: =F62 -> 99968 | G61: =G62 -> 0
C62: Transakcie verejného dlhu | F62: =F63 -> 99968 | G62: =G63 -> 0
B63: 1 | C63: Splátka úveru | F63: ='[1]Výdavky spolu'!O21 -> 99968 | G63: ='[2]Výdavky spolu'!R13 -> 0
C64: VÝDAVKY CELKOM : | F64: =F60+F62+G62 -> 1971800 | G64: =G60+G62+H62 -> 179200
E67: Bežné výdavky | F67: =F60 -> 1871832
E68: Kapitálové výdavky | F68: =G60 -> 179200
E69: Výdav. finanč.operácie | F69: =F61 -> 99968
E70: VÝDAVKY SPOLU | F70: =SUM(F67:F69) -> 2151000
